{"text_format":"3","workbook":"xlsx","n_sheets":9,"sheets":["Как использовать утилиту","Выбор котлов","Price List","Language","texte","gamme DD chaud","Cascade AMC","Spécificités","Mise à jour"],"not_rendered":{"images":16,"macros":1,"defined_names":18},"read":"whole","date_system":"1900"}

{"sheet":"Как использовать утилиту","index":0,"n_rows":175,"n_cols":7,"rows_kept":175,"merged":[[2,4,2,13]]}
[]
[]
[{"$nulls":4},{"$f":"+texte!$H$9","v":"Как использовать утилиту?"}]
[]
[null,null,"0.",{"$f":"+texte!H10","v":"Скопируйте Ваш прайс-лист на лист \"'Price List'\""}]
[{"$nulls":4},{"$f":"+texte!H11","v":"Обязательно соблюдать порядок следования столбцов"}]
[{"$nulls":4},{"$f":"+texte!H12","v":"Скопированный прайс-лист должен быть на том же языке, что и выбранный язык для утилиты."}]
[{"$nulls":5},{"$f":"+texte!H13","v":"Например, если выбранный язык английский, то и прайс-лист должен быть на английском."}]
[]
[]
[]
[]
[]
[null,null,"1.",{"$f":"+texte!H14","v":"Выберите нужный язык"}]
{"$rows_empty":9}
[null,null,"2.",{"$f":"+texte!$H$15","v":"Выберите расположение котлов в каскаде"}]
{"$rows_empty":19}
[null,null,"3.",{"$f":"+texte!$H$16","v":"Выберите количество котлов и состав каскада"}]
{"$rows_empty":17}
[{"$nulls":3},{"$f":"+texte!$H$17","v":"Что обозначает наименование каскада? XX.YYYYkW.ABCDE"}]
[{"$nulls":4},"XX :",{"$f":"+texte!H18","v":"Тип расположения каскада"}]
[{"$nulls":6},{"$f":"+texte!H19","v":"RG: Спина к спине"}]
[{"$nulls":6},{"$f":"+texte!H20","v":"LW: На стене"}]
[{"$nulls":6},{"$f":"+texte!H21","v":"LV: На полу"}]
[]
[{"$nulls":4},"YYYYkW :",{"$f":"+texte!H22","v":"Мощность каскада, 80/60°C"}]
[{"$nulls":5},{"$f":"+texte!H23","v":"Пример: 356 кВт - каскад мощностью 356 кВт"}]
[]
[{"$nulls":4},"ABCDE :",{"$f":"+texte!H24","v":"Состав каскада"}]
[{"$nulls":5},{"$f":"+texte!H25","v":"A: Количество котлов AMC 45"}]
[{"$nulls":5},{"$f":"+texte!H26","v":"B: Количество котлов AMC 65"}]
[{"$nulls":5},{"$f":"+texte!H27","v":"C: Количество котлов AMC 90"}]
[{"$nulls":5},{"$f":"+texte!H28","v":"D: Количество котлов AMC 115"}]
[{"$nulls":5},{"$f":"+texte!H29","v":"E: Количество котлов MCA 160"}]
[]
[]
[null,null,"4.",{"$f":"+texte!$H$30","v":"Результат поделён на 2 отдельные таблицы"}]
[]
[]
[]
[{"$nulls":3},{"$f":"+texte!$H$31","v":"1-ая таблица: таблица с базовым комплектом для каскада"}]
[{"$nulls":4},{"$f":"+texte!H32","v":"Эта таблица содержит обязательные элементы для заказа каскадной системы"}]
[{"$nulls":4},{"$f":"+texte!H33","v":"Количество этих элементов нельзя изменить"}]
{"$rows_empty":37}
[{"$nulls":3},{"$f":"+texte!H34","v":"2-ая таблица: таблица с дополнительным оборудованием"}]
[{"$nulls":4},{"$f":"+texte!H35","v":"В этой таблице приведено дополнительное оборудование и их необходимое количество"}]
[{"$nulls":4},{"$f":"+texte!H36","v":"Пользователь может выбрать нужное количество дополнительного оборудования"}]
{"$rows_empty":19}
[null,null,"5.",{"$f":"+texte!$H$37","v":"Можно добавить любое дополнительное оборудование при помощи раскрывающегося списка в конце сводной таблицы (см. рисунок ниже)."}]
[{"$nulls":4},{"$f":"+texte!$H$38","v":"Затем можно выбрать количество для необходимого дополнительного оборудования"}]
{"$rows_empty":25}
[null,null,"6.",{"$f":"+texte!H39","v":"Последние строки предназначены для дополниткльной информации - примечание, скидки…"}]
[]
[]
[null,null,"7.",{"$f":"+texte!$H$40","v":"Будет выведена итоговая сумма и список."}]

{"sheet":"Выбор котлов","index":1,"n_rows":131,"n_cols":17,"rows_kept":131,"merged":[[10,4,10,14],[11,4,11,14],[12,4,12,14],[13,4,13,14],[20,12,23,12],[20,13,23,15],[23,3,23,5],[40,2,41,3],[40,4,41,4],[40,5,41,11],[40,12,41,12],[40,14,41,15],[42,5,42,10],[42,14,42,15],[43,2,43,3],[43,14,43,15],[44,2,44,3],[44,14,44,15],[45,14,45,15],[46,14,46,15],[47,14,47,15],[48,14,48,15],[49,14,49,15],[50,14,50,15],[51,14,51,15],[52,14,52,15],[53,14,53,15],[54,14,54,15],[55,14,55,15],[56,14,56,15],[57,14,57,15],[58,14,58,15],[59,14,59,15],[60,14,60,15],[61,14,61,15],[62,14,62,15],[63,14,63,15],[64,14,64,15],[65,14,65,15],[66,14,66,15],[67,14,67,15],[68,14,68,15],[69,14,69,15],[70,14,70,15],[71,14,71,15],[72,14,72,15],[73,14,73,15],[74,14,74,15],[75,14,75,15],[76,14,76,15],[77,14,77,15],[79,14,79,15],[80,14,80,15],[81,14,81,15],[82,14,82,15],[83,14,83,15],[84,14,84,15],[87,2,87,3],[87,5,87,11],[106,3,118,3],[106,5,106,11],[107,5,107,11],[108,5,108,11],[109,5,109,11],[110,5,110,11],[111,5,111,11],[112,5,112,11],[113,5,113,11],[114,5,114,11],[115,5,115,11],[116,5,116,11],[117,5,117,11],[118,5,118,11],[119,3,124,3],[119,5,119,11],[120,5,120,11],[121,5,121,11],[122,5,122,11],[123,5,123,11],[124,5,124,11],[130,3,130,15]]}
[]
[{"$nulls":8},{"$f":"texte!B1","v":"Определение и расчет каскадных систем"}]
[]
[{"$nulls":7},{"$f":"texte!B2","v":"Для AMC 45, 65, 90, 115 и MCA 160"}]
[{"$nulls":16},{"$f":"CONCATENATE(texte!B6,\" - 01\")","v":"Версия : 06/2020 - 01"}]
[{"$nulls":16},{"$f":"CONCATENATE(texte!B53,\" \",2020)","v":"ПРАЙС-ЛИСТ 2020"}]
[]
[null,null,{"$f":"texte!B7","v":"Идентификация расчета"},{"$nulls":13},{"$f":"TODAY()","v":"2021-02-11"}]
[]
[]
[{"$nulls":3},{"$f":"CONCATENATE(texte!B8,\"     \")","v":"Описание объекта     "},"LW.0456kW.00003"]
[]
[]
[]
[]
[null,null,{"$f":"texte!B9","v":"Вводимые данные"}]
[{"$nulls":3},"Y"]
[]
[]
[]
[{"$nulls":6},{"$f":"texte!B23","v":"AMC 45"},{"$f":"texte!B24","v":"AMC 65"},{"$f":"texte!B25","v":"AMC 90"},{"$f":"texte!B26","v":"AMC 115"},"MCA160",null,null,{"$f":"IF(SUM($G$24:$K$24)=$E$26,\" !!   Number of inicontrol must be lower as number of boilers !!\",\"\")","v":""}]
[null,null,{"$f":"texte!B13","v":"Расположение в каскаде"},null,"настенное \"LW\"",null,2,0,0,0,{"$f":"IF('Cascade AMC'!$T$19=\"\",0,'Cascade AMC'!$T$19)","v":0}]
[]
[{"$nulls":3},{"$f":"CONCATENATE(texte!B21,\" inicontrol 2 :\")","v":"Количество котлов inicontrol 2 :"},null,null,0,0,0,0,0]
[]
[null,null,{"$f":"texte!B21","v":"Количество котлов"},null,2]
[]
[]
[null,null,{"$f":"texte!B14","v":"Каскадная система"},null,{"$f":"IF(K22<0,texte!B16,'Cascade AMC'!M37)","v":"LW.082kW.20000"}]
[]
[{"$nulls":4},{"$f":"texte!B44","v":"Повторить код во время заказа"}]
[]
[{"$nulls":3},{"$f":"texte!B15","v":"Внимание! При изменении выбора всегда изменять следующие значения!"}]
[]
[]
[null,null,{"$f":"texte!B17","v":"Решение De Dietrich"}]
[]
[]
[]
[]
[null,null,{"$f":"texte!B36","v":"Система"},null,{"$f":"texte!B34","v":"Позиция"},{"$f":"texte!B35","v":"Наименование"},{"$nulls":6},{"$f":"texte!B52","v":"Ед. поставки"},{"$f":"texte!B32","v":"Цена за единицу"},{"$f":"texte!$B$61","v":"Рекомендуемое количество "},null,{"$f":"texte!B33","v":"Итоговая цена"}]
[{"$nulls":13},{"$f":"texte!B29","v":" €, с НДС"},null,null,{"$f":"texte!B29","v":" €, с НДС"}]
[]
[null,null,{"$f":"'Cascade AMC'!E260","v":"LW.082kW.20000"}]
[{"$nulls":4},{"$f":"IF('Cascade AMC'!F261=\"\",\"\",'Cascade AMC'!F261)","v":""}]
[{"$nulls":4},{"$f":"IF('Cascade AMC'!F262=\"\",\"\",'Cascade AMC'!F262)","v":"Опора"}]
[{"$nulls":4},{"$f":"IF('Cascade AMC'!F263=\"\",\"\",'Cascade AMC'!F263)","v":""}]
[{"$nulls":4},{"$f":"IF('Cascade AMC'!F264=\"\",\"\",'Cascade AMC'!F264)","v":111688},{"$f":"IF('Cascade AMC'!G264=\"\",\"\",'Cascade AMC'!G264)","v":"Кронштейн для монтажа на стене 2 котлов"},{"$nulls":6},{"$f":"IF('Cascade AMC'!M264=\"\",\"\",'Cascade AMC'!M264)","v":"HC192"},{"$f":"IF('Cascade AMC'!N264=\"\",\"\",'Cascade AMC'!N264)","v":{"v":57,"d":"57.00"}},{"$f":"IF('Cascade AMC'!O264=\"\",\"\",'Cascade AMC'!O264)","v":1},null,{"$f":"IFERROR(IF(O48<>0,N48*O48,\"\"),\"\")","v":{"v":57,"d":"57.00"}}]
[{"$nulls":4},{"$f":"IF('Cascade AMC'!F265=\"\",\"\",'Cascade AMC'!F265)","v":""},{"$f":"IF('Cascade AMC'!G265=\"\",\"\",'Cascade AMC'!G265)","v":""},{"$nulls":6},{"$f":"IF('Cascade AMC'!M265=\"\",\"\",'Cascade AMC'!M265)","v":""},{"$f":"IF('Cascade AMC'!N265=\"\",\"\",'Cascade AMC'!N265)","v":""},{"$f":"IF('Cascade AMC'!O265=\"\",\"\",'Cascade AMC'!O265)","v":""},null,{"$f":"IFERROR(IF(O49<>0,N49*O49,\"\"),\"\")","v":""}]
[{"$nulls":4},{"$f":"IF('Cascade AMC'!F266=\"\",\"\",'Cascade AMC'!F266)","v":""},{"$f":"IF('Cascade AMC'!G266=\"\",\"\",'Cascade AMC'!G266)","v":""},{"$nulls":6},{"$f":"IF('Cascade AMC'!M266=\"\",\"\",'Cascade AMC'!M266)","v":""},{"$f":"IF('Cascade AMC'!N266=\"\",\"\",'Cascade AMC'!N266)","v":""},{"$f":"IF('Cascade AMC'!O266=\"\",\"\",'Cascade AMC'!O266)","v":""},null,""]
[{"$nulls":4},{"$f":"IF('Cascade AMC'!F267=\"\",\"\",'Cascade AMC'!F267)","v":""},{"$f":"IF('Cascade AMC'!G267=\"\",\"\",'Cascade AMC'!G267)","v":""},{"$nulls":6},{"$f":"IF('Cascade AMC'!M267=\"\",\"\",'Cascade AMC'!M267)","v":""},{"$f":"IF('Cascade AMC'!N267=\"\",\"\",'Cascade AMC'!N267)","v":""},{"$f":"IF('Cascade AMC'!O267=\"\",\"\",'Cascade AMC'!O267)","v":""},null,""]
[{"$nulls":4},{"$f":"IF('Cascade AMC'!F268=\"\",\"\",'Cascade AMC'!F268)","v":""},{"$f":"IF('Cascade AMC'!G268=\"\",\"\",'Cascade AMC'!G268)","v":""},{"$nulls":6},{"$f":"IF('Cascade AMC'!M268=\"\",\"\",'Cascade AMC'!M268)","v":""},{"$f":"IF('Cascade AMC'!N268=\"\",\"\",'Cascade AMC'!N268)","v":""},{"$f":"IF('Cascade AMC'!O268=\"\",\"\",'Cascade AMC'!O268)","v":""},null,""]
[{"$nulls":4},{"$f":"IF('Cascade AMC'!F269=\"\",\"\",'Cascade AMC'!F269)","v":"Гидравлика"},{"$f":"IF('Cascade AMC'!G269=\"\",\"\",'Cascade AMC'!G269)","v":""},{"$nulls":6},{"$f":"IF('Cascade AMC'!M269=\"\",\"\",'Cascade AMC'!M269)","v":""},{"$f":"IF('Cascade AMC'!N269=\"\",\"\",'Cascade AMC'!N269)","v":""},{"$f":"IF('Cascade AMC'!O269=\"\",\"\",'Cascade AMC'!O269)","v":""},null,""]
[{"$nulls":4},{"$f":"IF('Cascade AMC'!F270=\"\",\"\",'Cascade AMC'!F270)","v":""},{"$f":"IF('Cascade AMC'!G270=\"\",\"\",'Cascade AMC'!G270)","v":""},{"$nulls":6},{"$f":"IF('Cascade AMC'!M270=\"\",\"\",'Cascade AMC'!M270)","v":""},{"$f":"IF('Cascade AMC'!N270=\"\",\"\",'Cascade AMC'!N270)","v":""},{"$f":"IF('Cascade AMC'!O270=\"\",\"\",'Cascade AMC'!O270)","v":""},null,""]
[{"$nulls":4},{"$f":"IF('Cascade AMC'!F271=\"\",\"\",'Cascade AMC'!F271)","v":114311},{"$f":"IF('Cascade AMC'!G271=\"\",\"\",'Cascade AMC'!G271)","v":"Гидравлическая стрелка DN 65 (< 350 кВт)"},{"$nulls":6},{"$f":"IF('Cascade AMC'!M271=\"\",\"\",'Cascade AMC'!M271)","v":"HC222"},{"$f":"IF('Cascade AMC'!N271=\"\",\"\",'Cascade AMC'!N271)","v":{"v":817,"d":"817.00"}},{"$f":"IF('Cascade AMC'!O271=\"\",\"\",'Cascade AMC'!O271)","v":1},null,{"v":817,"d":"817.00"}]
[{"$nulls":4},{"$f":"IF('Cascade AMC'!F272=\"\",\"\",'Cascade AMC'!F272)","v":110968},{"$f":"IF('Cascade AMC'!G272=\"\",\"\",'Cascade AMC'!G272)","v":"Коллектор на 2 котла DN 65"},{"$nulls":6},{"$f":"IF('Cascade AMC'!M272=\"\",\"\",'Cascade AMC'!M272)","v":"HC188"},{"$f":"IF('Cascade AMC'!N272=\"\",\"\",'Cascade AMC'!N272)","v":{"v":1256,"d":"1256.00"}},{"$f":"IF('Cascade AMC'!O272=\"\",\"\",'Cascade AMC'!O272)","v":1},null,{"v":1256,"d":"1256.00"}]
[{"$nulls":4},{"$f":"IF('Cascade AMC'!F273=\"\",\"\",'Cascade AMC'!F273)","v":""},{"$f":"IF('Cascade AMC'!G273=\"\",\"\",'Cascade AMC'!G273)","v":""},{"$nulls":6},{"$f":"IF('Cascade AMC'!M273=\"\",\"\",'Cascade AMC'!M273)","v":""},{"$f":"IF('Cascade AMC'!N273=\"\",\"\",'Cascade AMC'!N273)","v":""},{"$f":"IF('Cascade AMC'!O273=\"\",\"\",'Cascade AMC'!O273)","v":""},null,""]
[{"$nulls":4},{"$f":"IF('Cascade AMC'!F274=\"\",\"\",'Cascade AMC'!F274)","v":""},{"$f":"IF('Cascade AMC'!G274=\"\",\"\",'Cascade AMC'!G274)","v":""},{"$nulls":6},{"$f":"IF('Cascade AMC'!M274=\"\",\"\",'Cascade AMC'!M274)","v":""},{"$f":"IF('Cascade AMC'!N274=\"\",\"\",'Cascade AMC'!N274)","v":""},{"$f":"IF('Cascade AMC'!O274=\"\",\"\",'Cascade AMC'!O274)","v":""},null,""]
[{"$nulls":4},{"$f":"IF('Cascade AMC'!F275=\"\",\"\",'Cascade AMC'!F275)","v":111022},{"$f":"IF('Cascade AMC'!G275=\"\",\"\",'Cascade AMC'!G275)","v":"Набор подключения котла"},{"$nulls":6},{"$f":"IF('Cascade AMC'!M275=\"\",\"\",'Cascade AMC'!M275)","v":"HC202"},{"$f":"IF('Cascade AMC'!N275=\"\",\"\",'Cascade AMC'!N275)","v":{"v":803,"d":"803.00"}},{"$f":"IF('Cascade AMC'!O275=\"\",\"\",'Cascade AMC'!O275)","v":2},null,{"v":1606,"d":"1606.00"}]
[{"$nulls":4},{"$f":"IF('Cascade AMC'!F276=\"\",\"\",'Cascade AMC'!F276)","v":""},{"$f":"IF('Cascade AMC'!G276=\"\",\"\",'Cascade AMC'!G276)","v":""},{"$nulls":6},{"$f":"IF('Cascade AMC'!M276=\"\",\"\",'Cascade AMC'!M276)","v":""},{"$f":"IF('Cascade AMC'!N276=\"\",\"\",'Cascade AMC'!N276)","v":""},{"$f":"IF('Cascade AMC'!O276=\"\",\"\",'Cascade AMC'!O276)","v":""},null,""]
[{"$nulls":4},{"$f":"IF('Cascade AMC'!F277=\"\",\"\",'Cascade AMC'!F277)","v":""},{"$f":"IF('Cascade AMC'!G277=\"\",\"\",'Cascade AMC'!G277)","v":""},{"$nulls":6},{"$f":"IF('Cascade AMC'!M277=\"\",\"\",'Cascade AMC'!M277)","v":""},{"$f":"IF('Cascade AMC'!N277=\"\",\"\",'Cascade AMC'!N277)","v":""},{"$f":"IF('Cascade AMC'!O277=\"\",\"\",'Cascade AMC'!O277)","v":""},null,""]
[{"$nulls":4},{"$f":"IF('Cascade AMC'!F278=\"\",\"\",'Cascade AMC'!F278)","v":""},{"$f":"IF('Cascade AMC'!G278=\"\",\"\",'Cascade AMC'!G278)","v":""},{"$nulls":6},{"$f":"IF('Cascade AMC'!M278=\"\",\"\",'Cascade AMC'!M278)","v":""},{"$f":"IF('Cascade AMC'!N278=\"\",\"\",'Cascade AMC'!N278)","v":""},{"$f":"IF('Cascade AMC'!O278=\"\",\"\",'Cascade AMC'!O278)","v":""},null,{"$f":"IFERROR(IF(O62<>0,N62*O62,\"\"),\"\")","v":""}]
[{"$nulls":4},{"$f":"IF('Cascade AMC'!F279=\"\",\"\",'Cascade AMC'!F279)","v":""},{"$f":"IF('Cascade AMC'!G279=\"\",\"\",'Cascade AMC'!G279)","v":""},{"$nulls":6},{"$f":"IF('Cascade AMC'!M279=\"\",\"\",'Cascade AMC'!M279)","v":""},{"$f":"IF('Cascade AMC'!N279=\"\",\"\",'Cascade AMC'!N279)","v":""},{"$f":"IF('Cascade AMC'!O279=\"\",\"\",'Cascade AMC'!O279)","v":""},null,""]
[{"$nulls":4},{"$f":"IF('Cascade AMC'!F280=\"\",\"\",'Cascade AMC'!F280)","v":"S101614"},{"$f":"IF('Cascade AMC'!G280=\"\",\"\",'Cascade AMC'!G280)","v":"Электронный насос для AMC 45-65 (класс А)"},{"$nulls":6},{"$f":"IF('Cascade AMC'!M280=\"\",\"\",'Cascade AMC'!M280)","v":"-"},{"$f":"IF('Cascade AMC'!N280=\"\",\"\",'Cascade AMC'!N280)","v":{"v":325,"d":"325.00"}},{"$f":"IF('Cascade AMC'!O280=\"\",\"\",'Cascade AMC'!O280)","v":2},null,{"v":650,"d":"650.00"}]
[{"$nulls":4},{"$f":"IF('Cascade AMC'!F281=\"\",\"\",'Cascade AMC'!F281)","v":""},{"$f":"IF('Cascade AMC'!G281=\"\",\"\",'Cascade AMC'!G281)","v":""},{"$nulls":6},{"$f":"IF('Cascade AMC'!M281=\"\",\"\",'Cascade AMC'!M281)","v":""},{"$f":"IF('Cascade AMC'!N281=\"\",\"\",'Cascade AMC'!N281)","v":""},{"$f":"IF('Cascade AMC'!O281=\"\",\"\",'Cascade AMC'!O281)","v":""},null,""]
[{"$nulls":4},{"$f":"IF('Cascade AMC'!F282=\"\",\"\",'Cascade AMC'!F282)","v":""},{"$f":"IF('Cascade AMC'!G282=\"\",\"\",'Cascade AMC'!G282)","v":""},{"$nulls":6},{"$f":"IF('Cascade AMC'!M282=\"\",\"\",'Cascade AMC'!M282)","v":""},{"$f":"IF('Cascade AMC'!N282=\"\",\"\",'Cascade AMC'!N282)","v":""},{"$f":"IF('Cascade AMC'!O282=\"\",\"\",'Cascade AMC'!O282)","v":""},null,""]
[{"$nulls":4},{"$f":"IF('Cascade AMC'!F283=\"\",\"\",'Cascade AMC'!F283)","v":""},{"$f":"IF('Cascade AMC'!G283=\"\",\"\",'Cascade AMC'!G283)","v":""},{"$nulls":6},{"$f":"IF('Cascade AMC'!M283=\"\",\"\",'Cascade AMC'!M283)","v":""},{"$f":"IF('Cascade AMC'!N283=\"\",\"\",'Cascade AMC'!N283)","v":""},{"$f":"IF('Cascade AMC'!O283=\"\",\"\",'Cascade AMC'!O283)","v":""},null,""]
[{"$nulls":4},{"$f":"IF('Cascade AMC'!F284=\"\",\"\",'Cascade AMC'!F284)","v":111698},{"$f":"IF('Cascade AMC'!G284=\"\",\"\",'Cascade AMC'!G284)","v":"1 Глухой фланец на газ DN 50 "},{"$nulls":6},{"$f":"IF('Cascade AMC'!M284=\"\",\"\",'Cascade AMC'!M284)","v":"HC196"},{"$f":"IF('Cascade AMC'!N284=\"\",\"\",'Cascade AMC'!N284)","v":{"v":139,"d":"139.00"}},{"$f":"IF('Cascade AMC'!O284=\"\",\"\",'Cascade AMC'!O284)","v":1},null,{"v":139,"d":"139.00"}]
[{"$nulls":4},{"$f":"IF('Cascade AMC'!F285=\"\",\"\",'Cascade AMC'!F285)","v":111701},{"$f":"IF('Cascade AMC'!G285=\"\",\"\",'Cascade AMC'!G285)","v":"2  Глухих фланца на воду DN 65"},{"$nulls":6},{"$f":"IF('Cascade AMC'!M285=\"\",\"\",'Cascade AMC'!M285)","v":"HC198"},{"$f":"IF('Cascade AMC'!N285=\"\",\"\",'Cascade AMC'!N285)","v":{"v":196,"d":"196.00"}},{"$f":"IF('Cascade AMC'!O285=\"\",\"\",'Cascade AMC'!O285)","v":1},null,{"v":196,"d":"196.00"}]
[{"$nulls":4},{"$f":"IF('Cascade AMC'!F286=\"\",\"\",'Cascade AMC'!F286)","v":111708},{"$f":"IF('Cascade AMC'!G286=\"\",\"\",'Cascade AMC'!G286)","v":"Набор заглушек"},{"$nulls":6},{"$f":"IF('Cascade AMC'!M286=\"\",\"\",'Cascade AMC'!M286)","v":"HC195"},{"$f":"IF('Cascade AMC'!N286=\"\",\"\",'Cascade AMC'!N286)","v":{"v":54,"d":"54.00"}},{"$f":"IF('Cascade AMC'!O286=\"\",\"\",'Cascade AMC'!O286)","v":2},null,{"v":108,"d":"108.00"}]
[{"$nulls":4},{"$f":"IF('Cascade AMC'!F287=\"\",\"\",'Cascade AMC'!F287)","v":""},{"$f":"IF('Cascade AMC'!G287=\"\",\"\",'Cascade AMC'!G287)","v":""},{"$nulls":6},{"$f":"IF('Cascade AMC'!M287=\"\",\"\",'Cascade AMC'!M287)","v":""},{"$f":"IF('Cascade AMC'!N287=\"\",\"\",'Cascade AMC'!N287)","v":""},{"$f":"IF('Cascade AMC'!O287=\"\",\"\",'Cascade AMC'!O287)","v":""},null,""]
[{"$nulls":4},{"$f":"IF('Cascade AMC'!F288=\"\",\"\",'Cascade AMC'!F288)","v":""},{"$f":"IF('Cascade AMC'!G288=\"\",\"\",'Cascade AMC'!G288)","v":""},{"$nulls":6},{"$f":"IF('Cascade AMC'!M288=\"\",\"\",'Cascade AMC'!M288)","v":""},{"$f":"IF('Cascade AMC'!N288=\"\",\"\",'Cascade AMC'!N288)","v":""},{"$f":"IF('Cascade AMC'!O288=\"\",\"\",'Cascade AMC'!O288)","v":""},null,""]
[{"$nulls":4},{"$f":"IF('Cascade AMC'!F289=\"\",\"\",'Cascade AMC'!F289)","v":""},{"$f":"IF('Cascade AMC'!G289=\"\",\"\",'Cascade AMC'!G289)","v":""},{"$nulls":6},{"$f":"IF('Cascade AMC'!M289=\"\",\"\",'Cascade AMC'!M289)","v":""},{"$f":"IF('Cascade AMC'!N289=\"\",\"\",'Cascade AMC'!N289)","v":""},{"$f":"IF('Cascade AMC'!O289=\"\",\"\",'Cascade AMC'!O289)","v":""},null,""]
[{"$nulls":4},{"$f":"IF('Cascade AMC'!F290=\"\",\"\",'Cascade AMC'!F290)","v":""},{"$f":"IF('Cascade AMC'!G290=\"\",\"\",'Cascade AMC'!G290)","v":""},{"$nulls":6},{"$f":"IF('Cascade AMC'!M290=\"\",\"\",'Cascade AMC'!M290)","v":""},{"$f":"IF('Cascade AMC'!N290=\"\",\"\",'Cascade AMC'!N290)","v":""},{"$f":"IF('Cascade AMC'!O290=\"\",\"\",'Cascade AMC'!O290)","v":""},null,""]
[{"$nulls":4},{"$f":"IF('Cascade AMC'!F291=\"\",\"\",'Cascade AMC'!F291)","v":""},{"$f":"IF('Cascade AMC'!G291=\"\",\"\",'Cascade AMC'!G291)","v":""},{"$nulls":6},{"$f":"IF('Cascade AMC'!M291=\"\",\"\",'Cascade AMC'!M291)","v":""},{"$f":"IF('Cascade AMC'!N291=\"\",\"\",'Cascade AMC'!N291)","v":""},{"$f":"IF('Cascade AMC'!O291=\"\",\"\",'Cascade AMC'!O291)","v":""},null,""]
[{"$nulls":4},{"$f":"IF('Cascade AMC'!F292=\"\",\"\",'Cascade AMC'!F292)","v":""},{"$f":"IF('Cascade AMC'!G292=\"\",\"\",'Cascade AMC'!G292)","v":""},{"$nulls":6},{"$f":"IF('Cascade AMC'!M292=\"\",\"\",'Cascade AMC'!M292)","v":""},{"$f":"IF('Cascade AMC'!N292=\"\",\"\",'Cascade AMC'!N292)","v":""},{"$f":"IF('Cascade AMC'!O292=\"\",\"\",'Cascade AMC'!O292)","v":""},null,""]
[{"$nulls":4},{"$f":"IF('Cascade AMC'!F293=\"\",\"\",'Cascade AMC'!F293)","v":""},{"$f":"IF('Cascade AMC'!G293=\"\",\"\",'Cascade AMC'!G293)","v":""},{"$nulls":6},{"$f":"IF('Cascade AMC'!M293=\"\",\"\",'Cascade AMC'!M293)","v":""},{"$f":"IF('Cascade AMC'!N293=\"\",\"\",'Cascade AMC'!N293)","v":""},{"$f":"IF('Cascade AMC'!O293=\"\",\"\",'Cascade AMC'!O293)","v":""},null,""]
[{"$nulls":4},{"$f":"IF('Cascade AMC'!F294=\"\",\"\",'Cascade AMC'!F294)","v":""},{"$f":"IF('Cascade AMC'!G294=\"\",\"\",'Cascade AMC'!G294)","v":""},{"$nulls":6},{"$f":"IF('Cascade AMC'!M294=\"\",\"\",'Cascade AMC'!M294)","v":""},{"$f":"IF('Cascade AMC'!N294=\"\",\"\",'Cascade AMC'!N294)","v":""},{"$f":"IF('Cascade AMC'!O294=\"\",\"\",'Cascade AMC'!O294)","v":""},null,""]
[]
[{"$nulls":4},{"$f":"IF('Cascade AMC'!F295=\"\",\"\",'Cascade AMC'!F295)","v":"регулирование "},{"$f":"IF('Cascade AMC'!G295=\"\",\"\",'Cascade AMC'!G295)","v":""},{"$nulls":6},{"$f":"IF('Cascade AMC'!M295=\"\",\"\",'Cascade AMC'!M295)","v":""},{"$f":"IF('Cascade AMC'!N295=\"\",\"\",'Cascade AMC'!N295)","v":""},{"$f":"IF('Cascade AMC'!O295=\"\",\"\",'Cascade AMC'!O295)","v":""},null,""]
[{"$nulls":4},{"$f":"IF('Cascade AMC'!F296=\"\",\"\",'Cascade AMC'!F296)","v":""},{"$f":"IF('Cascade AMC'!G296=\"\",\"\",'Cascade AMC'!G296)","v":""},{"$nulls":6},{"$f":"IF('Cascade AMC'!M296=\"\",\"\",'Cascade AMC'!M296)","v":""},{"$f":"IF('Cascade AMC'!N296=\"\",\"\",'Cascade AMC'!N296)","v":""},{"$f":"IF('Cascade AMC'!O296=\"\",\"\",'Cascade AMC'!O296)","v":""},null,""]
[{"$nulls":4},{"$f":"IF('Cascade AMC'!F297=\"\",\"\",'Cascade AMC'!F297)","v":100013027},{"$f":"IF('Cascade AMC'!G297=\"\",\"\",'Cascade AMC'!G297)","v":"Датчик каскада с погружной гильзой (<350 кВт)"},{"$nulls":6},{"$f":"IF('Cascade AMC'!M297=\"\",\"\",'Cascade AMC'!M297)","v":"HC223"},{"$f":"IF('Cascade AMC'!N297=\"\",\"\",'Cascade AMC'!N297)","v":{"v":175,"d":"175.00"}},{"$f":"IF('Cascade AMC'!O297=\"\",\"\",'Cascade AMC'!O297)","v":1},null,{"v":175,"d":"175.00"}]
[{"$nulls":4},{"$f":"IF('Cascade AMC'!F298=\"\",\"\",'Cascade AMC'!F298)","v":7663618},{"$f":"IF('Cascade AMC'!G298=\"\",\"\",'Cascade AMC'!G298)","v":"Кабель S-BUS длиной 1,5 м"},{"$nulls":6},{"$f":"IF('Cascade AMC'!M298=\"\",\"\",'Cascade AMC'!M298)","v":"AD308"},{"$f":"IF('Cascade AMC'!N298=\"\",\"\",'Cascade AMC'!N298)","v":{"v":114,"d":"114.00"}},{"$f":"IF('Cascade AMC'!O298=\"\",\"\",'Cascade AMC'!O298)","v":1},null,{"v":114,"d":"114.00"}]
[{"$nulls":4},{"$f":"IF('Cascade AMC'!F299=\"\",\"\",'Cascade AMC'!F299)","v":""},{"$f":"IF('Cascade AMC'!G299=\"\",\"\",'Cascade AMC'!G299)","v":""},{"$nulls":6},{"$f":"IF('Cascade AMC'!M299=\"\",\"\",'Cascade AMC'!M299)","v":""},{"$f":"IF('Cascade AMC'!N299=\"\",\"\",'Cascade AMC'!N299)","v":""},{"$f":"IF('Cascade AMC'!O299=\"\",\"\",'Cascade AMC'!O299)","v":""},null,""]
[{"$nulls":4},{"$f":"IF('Cascade AMC'!F300=\"\",\"\",'Cascade AMC'!F300)","v":""},{"$f":"IF('Cascade AMC'!G300=\"\",\"\",'Cascade AMC'!G300)","v":""},{"$nulls":6},{"$f":"IF('Cascade AMC'!M300=\"\",\"\",'Cascade AMC'!M300)","v":""},{"$f":"IF('Cascade AMC'!N300=\"\",\"\",'Cascade AMC'!N300)","v":""},{"$f":"IF('Cascade AMC'!O300=\"\",\"\",'Cascade AMC'!O300)","v":""}]
[]
[]
[null,null,{"$f":"texte!$B$37","v":"Доп. оборудование"},null,{"$f":"E41","v":"Позиция"},{"$f":"F41","v":"Наименование"},{"$nulls":6},{"$f":"M41","v":"Ед. поставки"},{"$f":"N41","v":"Цена за единицу"},{"$f":"texte!B65","v":"количество "},{"$f":"texte!$B$62","v":"Количество выбрано "},{"$f":"Q41","v":"Итоговая цена"}]
[]
[{"$nulls":4},{"$f":"+texte!$B$60","v":"опции "}]
[]
[{"$nulls":4},{"$f":"IF('Cascade AMC'!F305=\"\",\"\",'Cascade AMC'!F305)","v":"S101655"},{"$f":"IF('Cascade AMC'!G305=\"\",\"\",'Cascade AMC'!G305)","v":"Газовый фильтр DN 50"},{"$nulls":6},{"$f":"IF('Cascade AMC'!M305=\"\",\"\",'Cascade AMC'!M305)","v":"HC255"},{"$f":"IF('Cascade AMC'!N305=\"\",\"\",'Cascade AMC'!N305)","v":{"v":321,"d":"321.00"}},{"$f":"IF('Cascade AMC'!O305=\"\",\"\",'Cascade AMC'!O305)","v":1},null,{"$f":"IFERROR(IF(P92=\"\",\"\",P92*N92),\"\")","v":""}]
[{"$nulls":4},{"$f":"IF('Cascade AMC'!F306=\"\",\"\",'Cascade AMC'!F306)","v":111805},{"$f":"IF('Cascade AMC'!G306=\"\",\"\",'Cascade AMC'!G306)","v":"Труба для газового фильтра DN 50"},{"$nulls":6},{"$f":"IF('Cascade AMC'!M306=\"\",\"\",'Cascade AMC'!M306)","v":"HC211"},{"$f":"IF('Cascade AMC'!N306=\"\",\"\",'Cascade AMC'!N306)","v":{"v":343,"d":"343.00"}},{"$f":"IF('Cascade AMC'!O306=\"\",\"\",'Cascade AMC'!O306)","v":1},null,{"$f":"IFERROR(IF(P93=\"\",\"\",P93*N93),\"\")","v":""}]
[{"$nulls":4},{"$f":"IF('Cascade AMC'!F307=\"\",\"\",'Cascade AMC'!F307)","v":111788},{"$f":"IF('Cascade AMC'!G307=\"\",\"\",'Cascade AMC'!G307)","v":"Набор колен DN 65"},{"$nulls":6},{"$f":"IF('Cascade AMC'!M307=\"\",\"\",'Cascade AMC'!M307)","v":"HC209"},{"$f":"IF('Cascade AMC'!N307=\"\",\"\",'Cascade AMC'!N307)","v":{"v":856,"d":"856.00"}},{"$f":"IF('Cascade AMC'!O307=\"\",\"\",'Cascade AMC'!O307)","v":1},null,""]
[{"$nulls":4},{"$f":"IF('Cascade AMC'!F308=\"\",\"\",'Cascade AMC'!F308)","v":112632},{"$f":"IF('Cascade AMC'!G308=\"\",\"\",'Cascade AMC'!G308)","v":"Набор контрфланцев под сварку DN 65"},{"$nulls":6},{"$f":"IF('Cascade AMC'!M308=\"\",\"\",'Cascade AMC'!M308)","v":"HC217"},{"$f":"IF('Cascade AMC'!N308=\"\",\"\",'Cascade AMC'!N308)","v":{"v":196,"d":"196.00"}},{"$f":"IF('Cascade AMC'!O308=\"\",\"\",'Cascade AMC'!O308)","v":1},null,""]
[{"$nulls":4},{"$f":"IF('Cascade AMC'!F309=\"\",\"\",'Cascade AMC'!F309)","v":""},{"$f":"IF('Cascade AMC'!G309=\"\",\"\",'Cascade AMC'!G309)","v":""},{"$nulls":6},{"$f":"IF('Cascade AMC'!M309=\"\",\"\",'Cascade AMC'!M309)","v":""},{"$f":"IF('Cascade AMC'!N309=\"\",\"\",'Cascade AMC'!N309)","v":""},{"$f":"IF('Cascade AMC'!O309=\"\",\"\",'Cascade AMC'!O309)","v":""},null,""]
[{"$nulls":4},{"$f":"IF('Cascade AMC'!F310=\"\",\"\",'Cascade AMC'!F310)","v":111069},{"$f":"IF('Cascade AMC'!G310=\"\",\"\",'Cascade AMC'!G310)","v":"Изоляция для коллектора"},{"$nulls":6},{"$f":"IF('Cascade AMC'!M310=\"\",\"\",'Cascade AMC'!M310)","v":"HC213"},{"$f":"IF('Cascade AMC'!N310=\"\",\"\",'Cascade AMC'!N310)","v":{"v":114,"d":"114.00"}},{"$f":"IF('Cascade AMC'!O310=\"\",\"\",'Cascade AMC'!O310)","v":2},null,""]
[{"$nulls":4},{"$f":"IF('Cascade AMC'!F311=\"\",\"\",'Cascade AMC'!F311)","v":122441},{"$f":"IF('Cascade AMC'!G311=\"\",\"\",'Cascade AMC'!G311)","v":"Теплоизоляция набора для подключения котла"},{"$nulls":6},{"$f":"IF('Cascade AMC'!M311=\"\",\"\",'Cascade AMC'!M311)","v":"HC252"},{"$f":"IF('Cascade AMC'!N311=\"\",\"\",'Cascade AMC'!N311)","v":{"v":84,"d":"84.00"}},{"$f":"IF('Cascade AMC'!O311=\"\",\"\",'Cascade AMC'!O311)","v":2},null,""]
[{"$nulls":4},{"$f":"IF('Cascade AMC'!F312=\"\",\"\",'Cascade AMC'!F312)","v":115269},{"$f":"IF('Cascade AMC'!G312=\"\",\"\",'Cascade AMC'!G312)","v":"Изоляция для гидравлической стрелки (<350 кВт)"},{"$nulls":6},{"$f":"IF('Cascade AMC'!M312=\"\",\"\",'Cascade AMC'!M312)","v":"HC224"},{"$f":"IF('Cascade AMC'!N312=\"\",\"\",'Cascade AMC'!N312)","v":{"v":46,"d":"46.00"}},{"$f":"IF('Cascade AMC'!O312=\"\",\"\",'Cascade AMC'!O312)","v":1},null,""]
[{"$nulls":4},{"$f":"IF('Cascade AMC'!F313=\"\",\"\",'Cascade AMC'!F313)","v":111167},{"$f":"IF('Cascade AMC'!G313=\"\",\"\",'Cascade AMC'!G313)","v":"Изоляция для колена 90°"},{"$nulls":6},{"$f":"IF('Cascade AMC'!M313=\"\",\"\",'Cascade AMC'!M313)","v":"HC216"},{"$f":"IF('Cascade AMC'!N313=\"\",\"\",'Cascade AMC'!N313)","v":{"v":132,"d":"132.00"}},{"$f":"IF('Cascade AMC'!O313=\"\",\"\",'Cascade AMC'!O313)","v":1},null,""]
[{"$nulls":4},{"$f":"IF('Cascade AMC'!F314=\"\",\"\",'Cascade AMC'!F314)","v":""},{"$f":"IF('Cascade AMC'!G314=\"\",\"\",'Cascade AMC'!G314)","v":""},{"$nulls":6},{"$f":"IF('Cascade AMC'!M314=\"\",\"\",'Cascade AMC'!M314)","v":""},{"$f":"IF('Cascade AMC'!N314=\"\",\"\",'Cascade AMC'!N314)","v":""},{"$f":"IF('Cascade AMC'!O314=\"\",\"\",'Cascade AMC'!O314)","v":""},null,""]
[{"$nulls":4},{"$f":"IF('Cascade AMC'!F315=\"\",\"\",'Cascade AMC'!F315)","v":""},{"$f":"IF('Cascade AMC'!G315=\"\",\"\",'Cascade AMC'!G315)","v":""},{"$nulls":6},{"$f":"IF('Cascade AMC'!M315=\"\",\"\",'Cascade AMC'!M315)","v":""},{"$f":"IF('Cascade AMC'!N315=\"\",\"\",'Cascade AMC'!N315)","v":""},{"$f":"IF('Cascade AMC'!O315=\"\",\"\",'Cascade AMC'!O315)","v":""},null,""]
[{"$nulls":4},{"$f":"IF('Cascade AMC'!F316=\"\",\"\",'Cascade AMC'!F316)","v":""},{"$f":"IF('Cascade AMC'!G316=\"\",\"\",'Cascade AMC'!G316)","v":""},{"$nulls":6},{"$f":"IF('Cascade AMC'!M316=\"\",\"\",'Cascade AMC'!M316)","v":""},{"$f":"IF('Cascade AMC'!N316=\"\",\"\",'Cascade AMC'!N316)","v":""},{"$f":"IF('Cascade AMC'!O316=\"\",\"\",'Cascade AMC'!O316)","v":""},null,""]
[{"$nulls":16},""]
[{"$nulls":4},{"$f":"IF('Cascade AMC'!F318=\"\",\"\",'Cascade AMC'!F318)","v":84887768},{"$f":"IF('Cascade AMC'!G318=\"\",\"\",'Cascade AMC'!G318)","v":"Переходник D80/100 "},{"$nulls":6},{"$f":"IF('Cascade AMC'!M318=\"\",\"\",'Cascade AMC'!M318)","v":"DY768"},{"$f":"IF('Cascade AMC'!N318=\"\",\"\",'Cascade AMC'!N318)","v":{"v":76,"d":"76.00"}},{"$f":"IF('Cascade AMC'!O318=\"\",\"\",'Cascade AMC'!O318)","v":2},null,""]
[]
[{"$nulls":3},{"$f":"texte!B66","v":"Выбор ссылки"},null,{"$f":"IFERROR(IF($E107=\"\",\"\",VLOOKUP($E107,'Price List'!$A:$D,2,FALSE)),\"\")","v":""},{"$nulls":6},{"$f":"IFERROR(IF($E107=\"\",\"\",VLOOKUP($E107,'Price List'!$A:$D,3,FALSE)),\"\")","v":""},{"$f":"IFERROR(IF($E107=\"\",\"\",VLOOKUP($E107,'Price List'!$A:$D,4,FALSE)),\"\")","v":""},null,null,{"$f":"IFERROR(IF(P107<>0,P107*N107,\"\"),\"\")","v":""}]
[{"$nulls":5},{"$f":"IFERROR(IF($E108=\"\",\"\",VLOOKUP($E108,'Price List'!$A:$D,2,FALSE)),\"\")","v":""},{"$nulls":6},{"$f":"IFERROR(IF($E108=\"\",\"\",VLOOKUP($E108,'Price List'!$A:$D,3,FALSE)),\"\")","v":""},{"$f":"IFERROR(IF($E108=\"\",\"\",VLOOKUP($E108,'Price List'!$A:$D,4,FALSE)),\"\")","v":""},null,null,""]
[{"$nulls":5},{"$f":"IFERROR(IF($E109=\"\",\"\",VLOOKUP($E109,'Price List'!$A:$D,2,FALSE)),\"\")","v":""},{"$nulls":6},{"$f":"IFERROR(IF($E109=\"\",\"\",VLOOKUP($E109,'Price List'!$A:$D,3,FALSE)),\"\")","v":""},{"$f":"IFERROR(IF($E109=\"\",\"\",VLOOKUP($E109,'Price List'!$A:$D,4,FALSE)),\"\")","v":""},null,null,""]
[{"$nulls":5},{"$f":"IFERROR(IF($E110=\"\",\"\",VLOOKUP($E110,'Price List'!$A:$D,2,FALSE)),\"\")","v":""},{"$nulls":6},{"$f":"IFERROR(IF($E110=\"\",\"\",VLOOKUP($E110,'Price List'!$A:$D,3,FALSE)),\"\")","v":""},{"$f":"IFERROR(IF($E110=\"\",\"\",VLOOKUP($E110,'Price List'!$A:$D,4,FALSE)),\"\")","v":""},null,null,""]
[{"$nulls":5},{"$f":"IFERROR(IF($E111=\"\",\"\",VLOOKUP($E111,'Price List'!$A:$D,2,FALSE)),\"\")","v":""},{"$nulls":6},{"$f":"IFERROR(IF($E111=\"\",\"\",VLOOKUP($E111,'Price List'!$A:$D,3,FALSE)),\"\")","v":""},{"$f":"IFERROR(IF($E111=\"\",\"\",VLOOKUP($E111,'Price List'!$A:$D,4,FALSE)),\"\")","v":""},null,null,""]
[{"$nulls":5},{"$f":"IFERROR(IF($E112=\"\",\"\",VLOOKUP($E112,'Price List'!$A:$D,2,FALSE)),\"\")","v":""},{"$nulls":6},{"$f":"IFERROR(IF($E112=\"\",\"\",VLOOKUP($E112,'Price List'!$A:$D,3,FALSE)),\"\")","v":""},{"$f":"IFERROR(IF($E112=\"\",\"\",VLOOKUP($E112,'Price List'!$A:$D,4,FALSE)),\"\")","v":""},null,null,""]
[{"$nulls":5},{"$f":"IFERROR(IF($E113=\"\",\"\",VLOOKUP($E113,'Price List'!$A:$D,2,FALSE)),\"\")","v":""},{"$nulls":6},{"$f":"IFERROR(IF($E113=\"\",\"\",VLOOKUP($E113,'Price List'!$A:$D,3,FALSE)),\"\")","v":""},{"$f":"IFERROR(IF($E113=\"\",\"\",VLOOKUP($E113,'Price List'!$A:$D,4,FALSE)),\"\")","v":""},null,null,""]
[{"$nulls":5},{"$f":"IFERROR(IF($E114=\"\",\"\",VLOOKUP($E114,'Price List'!$A:$D,2,FALSE)),\"\")","v":""},{"$nulls":6},{"$f":"IFERROR(IF($E114=\"\",\"\",VLOOKUP($E114,'Price List'!$A:$D,3,FALSE)),\"\")","v":""},{"$f":"IFERROR(IF($E114=\"\",\"\",VLOOKUP($E114,'Price List'!$A:$D,4,FALSE)),\"\")","v":""},null,null,""]
[{"$nulls":5},{"$f":"IFERROR(IF($E115=\"\",\"\",VLOOKUP($E115,'Price List'!$A:$D,2,FALSE)),\"\")","v":""},{"$nulls":6},{"$f":"IFERROR(IF($E115=\"\",\"\",VLOOKUP($E115,'Price List'!$A:$D,3,FALSE)),\"\")","v":""},{"$f":"IFERROR(IF($E115=\"\",\"\",VLOOKUP($E115,'Price List'!$A:$D,4,FALSE)),\"\")","v":""},null,null,""]
[{"$nulls":5},{"$f":"IFERROR(IF($E116=\"\",\"\",VLOOKUP($E116,'Price List'!$A:$D,2,FALSE)),\"\")","v":""},{"$nulls":6},{"$f":"IFERROR(IF($E116=\"\",\"\",VLOOKUP($E116,'Price List'!$A:$D,3,FALSE)),\"\")","v":""},{"$f":"IFERROR(IF($E116=\"\",\"\",VLOOKUP($E116,'Price List'!$A:$D,4,FALSE)),\"\")","v":""},null,null,""]
[{"$nulls":5},{"$f":"IFERROR(IF($E117=\"\",\"\",VLOOKUP($E117,'Price List'!$A:$D,2,FALSE)),\"\")","v":""},{"$nulls":6},{"$f":"IFERROR(IF($E117=\"\",\"\",VLOOKUP($E117,'Price List'!$A:$D,3,FALSE)),\"\")","v":""},{"$f":"IFERROR(IF($E117=\"\",\"\",VLOOKUP($E117,'Price List'!$A:$D,4,FALSE)),\"\")","v":""},null,null,""]
[{"$nulls":5},{"$f":"IFERROR(IF($E118=\"\",\"\",VLOOKUP($E118,'Price List'!$A:$D,2,FALSE)),\"\")","v":""},{"$nulls":6},{"$f":"IFERROR(IF($E118=\"\",\"\",VLOOKUP($E118,'Price List'!$A:$D,3,FALSE)),\"\")","v":""},{"$f":"IFERROR(IF($E118=\"\",\"\",VLOOKUP($E118,'Price List'!$A:$D,4,FALSE)),\"\")","v":""},null,null,""]
[{"$nulls":5},{"$f":"IFERROR(IF($E119=\"\",\"\",VLOOKUP($E119,'Price List'!$A:$D,2,FALSE)),\"\")","v":""},{"$nulls":6},{"$f":"IFERROR(IF($E119=\"\",\"\",VLOOKUP($E119,'Price List'!$A:$D,3,FALSE)),\"\")","v":""},{"$f":"IFERROR(IF($E119=\"\",\"\",VLOOKUP($E119,'Price List'!$A:$D,4,FALSE)),\"\")","v":""},null,null,""]
[{"$nulls":3},{"$f":"texte!B67","v":"Бесплатные поля"},{"$nulls":12},""]
[{"$nulls":16},""]
[{"$nulls":16},""]
[{"$nulls":16},""]
[{"$nulls":16},""]
[{"$nulls":16},""]
[{"$nulls":3},{"$f":"CONCATENATE(texte!B3,\" \",\"(\",Q6,\" \",texte!B56,\" \",\")\")","v":"ИТОГОВАЯ ЦЕНА КАСКАДНОЙ СИСТЕМЫ (ПРАЙС-ЛИСТ 2020  €, с НДС )"},{"$nulls":12},{"$f":"SUM($Q$43:$Q$125)","v":{"v":5118,"d":"5,118.00 "}}]
[{"$nulls":3},{"$f":"CONCATENATE(texte!B4,\" \",\"(\",Q6,\" \",texte!B56,\" \",\")\")","v":"ИТОГОВАЯ ЦЕНА КАСКАДНОЙ СИСТЕМЫ С КОТЛАМИ (ПРАЙС-ЛИСТ 2020  €, с НДС )"},{"$nulls":12},{"$f":"IFERROR(Q126+'Cascade AMC'!$F$49,\"      -\")","v":{"v":12788,"d":"12,788.00 "}}]
[{"$nulls":16},{"$f":"IF(OR(ISNA(G46),ISNA(G47),ISNA(G48),ISNA(G49),ISNA(G50),ISNA(G56),ISNA(G57),ISNA(G58),ISNA(G59),ISNA(G60),ISNA(G61),ISNA(#REF!),ISNA(G45),ISNA(G125),ISNA(G94),ISNA(#REF!),ISNA(G82),ISNA(G81),ISNA(G80),ISNA(G76),ISNA(G75),ISNA(G73),ISNA(G72),ISNA(G71),ISNA(G69),ISNA(G68),ISNA(G67),ISNA(G66),ISNA(G65),ISNA(G63)),texte!B55,\"\")","v":""}]
[{"$nulls":3},{"$f":"texte!B43","v":"* Для каскадной установки под давлением"}]
[]
[{"$nulls":3},{"$f":"texte!B58","v":"The result or the contents are given as an indication. In no event shall De Dietrich be liable for the results or for any other use."}]

{"sheet":"Price List","index":2,"n_rows":75,"n_cols":4,"rows_kept":75,"hidden":true}
[110954,"Коллектор на 4 котла DN 100","HC191",{"v":2366,"d":"2366.00"}]
[110960,"Коллектор на 3 котла DN 100","HC189",{"v":1794,"d":"1794.00"}]
[110961,"Коллектор на 2 котла DN 100","HC190",{"v":1595,"d":"1595.00"}]
[110966,"Коллектор на 4 котла DN 65","HC186",{"v":1895,"d":"1895.00"}]
[110967,"Коллектор на 3 котла DN 65","HC187",{"v":1431,"d":"1431.00"}]
[110968,"Коллектор на 2 котла DN 65","HC188",{"v":1256,"d":"1256.00"}]
[111022,"Набор подключения котла","HC202",{"v":803,"d":"803.00"}]
[111037,"Набор подключения котла (спиной к спине)","HC203",{"v":803,"d":"803.00"}]
[111067,"Изоляция для гидравлической стрелки (>350 кВт)","HC215",{"v":314,"d":"314.00"}]
[111069,"Изоляция для коллектора","HC213",{"v":114,"d":"114.00"}]
[111167,"Изоляция для колена 90°","HC216",{"v":132,"d":"132.00"}]
[111167,"Изоляция для колена 90° (для каскадной системы AMC/MCA PRO) ","HC216",{"v":132,"d":"132.00"}]
[111688,"Кронштейн для монтажа на стене 2 котлов","HC192",{"v":57,"d":"57.00"}]
[111689,"Кронштейн для монтажа на стене 3 котлов","HC193",{"v":69,"d":"69.00"}]
[111690,"Кронштейн для монтажа на стене 4 котлов","HC194",{"v":84,"d":"84.00"}]
[111698,"1 Глухой фланец на газ DN 50 ","HC196",{"v":139,"d":"139.00"}]
[111699,"1 Глухой фланец на газ DN 65","HC197",{"v":171,"d":"171.00"}]
[111701,"2  Глухих фланца на воду DN 65","HC198",{"v":196,"d":"196.00"}]
[111703,"2 Глухих фланца на воду DN 100","HC199",{"v":258,"d":"258.00"}]
[111708,"Набор заглушек","HC195",{"v":54,"d":"54.00"}]
[111712,"Гидравлическая стрелка DN 65 (> 350 кВт и < 460 кВт)","HC200",{"v":1361,"d":"1361.00"}]
[111714,"Гидравлическая стрелка DN 100","HC201",{"v":1683,"d":"1683.00"}]
[111788,"Набор колен DN 65","HC209",{"v":856,"d":"856.00"}]
[111790,"Набор колен DN 100","HC210",{"v":1214,"d":"1214.00"}]
[111805,"Труба для газового фильтра DN 50","HC211",{"v":343,"d":"343.00"}]
[111806,"Труба для газового фильтра DN 65","HC212",{"v":371,"d":"371.00"}]
[111807,"Регулируемые ножки","HC219",{"v":6,"d":"6.00"}]
[112632,"Набор контрфланцев под сварку DN 65","HC217",{"v":196,"d":"196.00"}]
[112633,"Набор контрфланцев под сварку DN 100","HC218",{"v":232,"d":"232.00"}]
[114311,"Гидравлическая стрелка DN 65 (< 350 кВт)","HC222",{"v":817,"d":"817.00"}]
[115269,"Изоляция для гидравлической стрелки (<350 кВт)","HC224",{"v":46,"d":"46.00"}]
[120842,"L-образная монтажная опора AMC","HC249",{"v":187,"d":"187.00"}]
[120900,"I-образная монтажная опора AMC","HC250",{"v":118,"d":"118.00"}]
[120918,"Монтажная рама AMC","HC248",{"v":126,"d":"126.00"}]
[122441,"Теплоизоляция набора для подключения котла","HC252",{"v":84,"d":"84.00"}]
[123182,"Теплоизоляция набора для подключения котла сзади (только для LV и RG)","HC243",{"v":11,"d":"11.00"}]
[7608398,"Электронный насос для AMC 90-115 (класс А)",null,{"v":523,"d":"523.00"}]
[7611306,"Коллектор на 3 котла MCA 160","EH677",{"v":2504,"d":"2504.00"}]
[7611804,"Теплоизоляция набора для подключения котла","EH648",{"v":85,"d":"85.00"}]
[7612941,"I-образная монтажная опора МСА 160","EH663",{"v":188,"d":"188.00"}]
[7612942,"L-образная монтажная опора МСА 160","EH662",{"v":309,"d":"309.00"}]
[7613401,"Теплоизоляция для коллектора (для МСА 160)","EH647",{"v":97,"d":"97.00"}]
[7614795,"Коллектор на 2 котла MCA 160","EH676",{"v":2252,"d":"2252.00"}]
[7621566,"Монтажная рама (МСА 160)","EH664",{"v":256,"d":"256.00"}]
[7622201,"Теплоизоляция фланцевого переходника DN 65-DN 100","EH650",{"v":59,"d":"59.00"}]
[7622699,"Набор для подключения котла AMC 45-115, для каскадной системы LV/LW","EH655",{"v":990,"d":"990.00"}]
[7622701,"Набор для подключения котла MCA 160, для каскадной системы LV/LW","EH656",{"v":990,"d":"990.00"}]
[7631858,"Задняя теплоизоляция набора для подключения котла","EH649",{"v":78,"d":"78.00"}]
[7633244,"Переходник DN 65-DN 100","EH654",{"v":450,"d":"450.00"}]
[7637077,"Кронштейн для монтажа на стене 2 котлов MCA 160","EH670",{"v":58,"d":"58.00"}]
[7637088,"Кронштейн для монтажа на стене 3 котлов MCA 160","EH671",{"v":77,"d":"77.00"}]
[7638518,"Набор контрфланцев под сварку DN 65","EH669",{"v":142,"d":"142.00"}]
[7663618,"Кабель S-BUS длиной 1,5 м","AD308",{"v":114,"d":"114.00"}]
[7674140,"Котел INNOVENS MCA Pro 160 c панелью управления iniControl2 ",null,{"v":8690,"d":"8690.00"}]
[7674142,"Котел INNOVENS MCA Pro 160 c панелью управления Diematic Evolution ",null,{"v":9290,"d":"9290.00"}]
[7684462,"Котел EVODENS PRO AMC 45 c панелью управления INICONTROL 2 ","HR157",{"v":3400,"d":"3,400.00"}]
[7684586,"Котел EVODENS PRO AMC 65 c панелью управления INICONTROL 2 ","HR158",{"v":3910,"d":"3,910.00"}]
[7684587,"Котел EVODENS PRO AMC 90 c панелью управления INICONTROL 2 ","HR159",{"v":5161,"d":"5,161.00"}]
[7684588,"Котел EVODENS PRO AMC 115 c панелью управления INICONTROL 2 ","HR160",{"v":5617,"d":"5,617.00"}]
[7699475,"Котел EVODENS PRO AMC 45 c панелью управления DIEMATIC EVOLUTION","HR161",{"v":3835,"d":"3,835.00"}]
[7699476,"Котел EVODENS PRO AMC 65 c панелью управления DIEMATIC EVOLUTION","HR162",{"v":4383,"d":"4,383.00"}]
[7699477,"Котел EVODENS PRO AMC 90 c панелью управления DIEMATIC EVOLUTION","HR163",{"v":5726,"d":"5,726.00"}]
[7699478,"Котел EVODENS PRO AMC 115 c панелью управления DIEMATIC EVOLUTION","HR164",{"v":6216,"d":"6,216.00"}]
[83877011,"Система нейтрализации конденсата с насосом - котел свыше 350 кВт","DU15",{"v":1295,"d":"1295.00"}]
[84887768,"Переходник D80/100 ","DY768",{"v":76,"d":"76.00"}]
[88027177,"Регулятор давления GDJ 50 300 мбар","AD246",{"v":536,"d":"536.00"}]
[94225601,"Гранулированный наполнитель (10 кг) для системы нейтрализации ",null,{"v":90,"d":"90.00"}]
[100008701,"Датчик каскада с погружной гильзой","HC206",{"v":205,"d":"205.00"}]
[100011223,"Регулятор давления 300 мбар, диаметр подсоединения 1\" GDJ25","AD245",{"v":177,"d":"177.00"}]
[100013027,"Датчик каскада с погружной гильзой (<350 кВт)","HC223",{"v":175,"d":"175.00"}]
["S101614","Электронный насос для AMC 45-65 (класс А)",null,{"v":325,"d":"325.00"}]
["S101655","Газовый фильтр DN 50","HC255",{"v":321,"d":"321.00"}]
["S101656","Газовый фильтр DN 65","HC256",{"v":441,"d":"441.00"}]
["S103345","Набор фланцев DN 50 PN 16","HC261",{"v":119,"d":"119.00"}]
[7637223,"Электронный насос первичного контура каскада (MCA 160)","EH651",{"v":695,"d":"695.00"}]

{"sheet":"Language","index":3,"n_rows":203,"n_cols":11,"rows_kept":203,"hidden":true}
[]
["N°"]
[1,"Français","Deutsch","English","Español","Italiano","Polsky","Русский","Nederlands","Česky","Belge"]
[2,"Détermination et chiffrage des systèmes cascade","Bestimmung und Bestelldaten der Kaskaden-Système","Determination and calculation of cascade systems","Determinación y cálculo de los sistemas de cascada","Determinazione e cifratura dei sistemi cascata","Określenie i ocena liczbowa systemów kaskadowych","Определение и расчет каскадных систем","Bepaling en calculatie van de cascadesystemen","Specifikace a kalkulace kaskádového systému",{"$f":"B4","v":"Détermination et chiffrage des systèmes cascade"}]
[3,"Pour AMC 45, 65, 90, 115 et MCA 160","Für AMC 45, 65, 90, 115 und MCA 160","For AMC 45, 65, 90, 115 and MCA 160","Para AMC 45, 65, 90, 115 y MCA 160","Per AMC 45, 65, 90,115 e MCA160","Dla urządzeń AMC 45, 65, 90,115 oraz MCA 160","Для AMC 45, 65, 90, 115 и MCA 160","Voor AMC 45, 65, 90,115 en MCA 160","Pro AMC 45, 65, 90, 115 a MCA 160",{"$f":"B5","v":"Pour AMC 45, 65, 90, 115 et MCA 160"}]
[4,"PRIX TOTAL DU SYSTEME CASCADE","GESAMTPREIS DES KASKADENSYSTEMS","TOTAL PRICE OF THE CASCADE SYSTEM","PRECIO TOTAL DEL SISTEMA DE CASCADA","PREZZO TOTALE DEL SISTEMA CASCATA","CAŁKOWITA CENA SYSTEMU KASKADOWEGO","ИТОГОВАЯ ЦЕНА КАСКАДНОЙ СИСТЕМЫ","TOTAALPRIJS VAN HET CASCADESYSTEEM","CELKOVÁ CENA KASKÁDOVÉHO SYSTÉMU","PRIX TOTAL DU SYSTEME CASCADE"]
[5,"PRIX TOTAL DU SYSTEME CASCADE AVEC CHAUDIERES","GESAMTPREIS DES KASKADENSYSTEMS MIT HEIZKESSELN","TOTAL PRICE OF THE CASCADE SYSTEM WITH BOILERS","PRECIO TOTAL DEL SISTEMA DE CASCADA CON CALDERAS","PREZZO TOTALE DEL SISTEMA CASCATA CON CALDAIE","CALKOWITA CENA SYSTEMU KASKADOWEGO Z KOTŁAMI","ИТОГОВАЯ ЦЕНА КАСКАДНОЙ СИСТЕМЫ С КОТЛАМИ","TOTAALPRIJS VAN HET CASCADESYSTEEM MET VERWARMINGSKETELS","CELKOVÁ CENA KASKÁDOVÉHO SYSTÉMU S KOTLI","PRIX TOTAL DU SYSTEME CASCADE AVEC CHAUDIERES"]
[6,"PRIX TOTAL ACCESSOIRES","GESAMTPREIS ZUBEHÖR","TOTAL PRICE ACCESSORIES","PRECIO TOTAL DE LOS ACCESORIOS","PREZZO TOTALE ACCESSORI","CAŁKOWITA CENA CZĘŚCI","ИТОГОВАЯ ЦЕНА ДОПОЛНИТЕЛЬНОГО ОБОРУДОВАНИЯ","TOTAALPRIJS ACCESSOIRES","CELKOVÁ CENA PŘÍSLUŠENSTVÍ","PRIX TOTAL ACCESSOIRES"]
[7,"Version ","Version","Version","Versión","Versione","Version","Версия :","Versie","Verze","Version "]
[8,"Identification de l'étude","Bezeichnung der Analyse","Identification of the study","Identificación del estudio","Identificazione dello studio","Identyfikacja projektu","Идентификация расчета","Identificatie rapportage","Popis studie","Identification de l'étude"]
[9,"Référence","Referenz","Reference","Referencia","Articolo","Oznaczenie","Описание объекта","Referentie","Název akce","Référence"]
[10,"Données","Daten","Data","Datos","Dati","Dane","Вводимые данные","Gegevens","Údaje","Données"]
[11,"Puisance de l'installation (kW)","Wärmeleistung der Installation (in kW)","Output of the installation (kW)","Potencia de la instalación (kW)","Potenza dell’impianto (kW)","Moc instalacji (kW)","Мощность установки (кВт)","Vermogen van de installatie (kW)","Výkon instalace (kW)","Puisance de l'installation (kW)"]
[12,"Intervalle autorisé (+/- … kW)","Zulässiges Intervall (+/- … kW)","Gap permitted (+/- … kW)","Intervalo autorizado (+/- … kW)","Intervallo autorizzato (+/- … kW)","Dopuszczalny przedział (+/- … kW)","Разрешенный диапазон (+/- ... кВт)","Toegestane interval (+/- … kW)","Povolený rozsah (+/- … kW)","Intervalle autorisé (+/- … kW)"]
[13,"Nombre de chaudières","Anzahl Heizkessel","Number of boilers","Número de calderas","Numero di caldaie","Liczba kotłów","Количество котлов","Aantal verwarmingsketels","Počet kotlů","Nombre de chaudières"]
[14,"Alignement de la cascade","Anordnung der Kaskade","Alignment of the cascade","Alineación de la cascada","Allineamento della cascata","Wyrównanie kaskady","Расположение в каскаде","Uitlijning van de cascade","Řazení kaskády","Alignement de la cascade"]
[15,"Système cascade","Kaskadensystem","Cascade system","Sistema de cascada","Sistema cascata","System kaskadowy","Каскадная система","Cascadesysteem","Kaskádový systém","Système cascade"]
[16,"Attention ! Lorsque vous modifiez une des sélections, il faut toujours revalider les suivantes !","Achtung! Wenn einer der Werte geändert wird, müssen die anderen Werte erneut bestätigt werden!","NB! When you change one of the selections, you must always revalidate the next ones!","Atención! si modifica alguna de las opciones seleccionadas, siempre hay que volver a validar las siguientes!","Attenzione! Quando modificate una delle selezioni, bisogna sempre confermare quelle successive!","Uwaga! Jeżeli zmieniasz jedną w wybranych wartości, należy zatwierdzić następne wartości!","Внимание! При изменении выбора всегда изменять следующие значения!","Let op! Wanneer u één van de selecties wijzigt, moet u altijd de volgende opnieuw valideren!","Pozor! Pokud se změní jedna hodnota, musejí se ostatní potvrdit!","Attention ! Lorsque vous modifiez une des sélections, il faut toujours revalider les suivantes !"]
[17,"Nb chaudières !","Anzahl Heizkessel!","Number boilers!","N.º calderas","N° caldaie!","Licz kotłów!","Количество котлов","Aant. verwarmingsketels!","Počet kotlů!","Nb chaudières !"]
[18,"Solution De Dietrich","De Dietrich-Lösung","De Dietrich Solution","Solución De Dietrich","Soluzione De Dietrich","Rozwiązanie De Dietrich","Решение De Dietrich","Oplossing De Dietrich","Řešení De Dietrich","Solution De Dietrich"]
[19,"Solution De Dietrich (suite)","De Dietrich-Lösung (Fortsetzung)","De Dietrich Solution (contd.)","Solución De Dietrich (cont.)","Soluzione De Dietrich (segue)","Rozwiązanie De Dietrich (ciąg dalszy)","Решение De Dietrich (продолжение)","Oplossing De Dietrich (vervolg)","Řešení De Dietrich (pokračování)","Solution De Dietrich (suite)"]
[20,"Désignation","Bezeichnung","Description","Denominación","Designazione","Nazwa","Наименование","Benaming","Název","Désignation"]
[21,"Puissance (kW)","Leistung (kW)","Output (kW)","Potencia (kW)","Potenza (kW)","Moc (kW)","Мощность (кBт)","Vermogen (kW)","Výkon (kW)","Puissance (kW)"]
[22,"Nombre de chaudières","Anzahl Heizkessel","Number of boilers","Número de calderas","Numero di caldaie","Liczba kotłów","Количество котлов","Aantal verwarmingsketels","Počet kotlů","Nombre de chaudières"]
[23,"Type de chaudières","Heizkesseltypen","Type of boilers","Tipo de calderas","Tipo di caldaie","Rodzaj kotłów","Тип котлов","Type verwarmingsketels","Typy kotlů","Type de chaudières"]
[24,"AMC 45","AMC 45","AMC 45","AMC 45","AMC 45","AMC 45","AMC 45","AMC 45","AMC 45","AMC 45"]
[25,"AMC 65","AMC 65","AMC 65","AMC 65","AMC 65","AMC 65","AMC 65","AMC 65","AMC 65","AMC 65"]
[26,"AMC 90","AMC 90","AMC 90","AMC 90","AMC 90","AMC 90","AMC 90","AMC 90","AMC 90","AMC 90"]
[27,"AMC 115","AMC 115","AMC 115","AMC 115","AMC 115","AMC 115","AMC 115","AMC 115","AMC 115","AMC 115"]
[28,"Prix système cascade seul","Preis Kaskadensystem einzeln","Price cascade system only","Precio del sistema de cascada solo","Prezzo del solo sistema cascata","Cena pojedynczego systemu kaskadowego","Цена только каскадной системы","Prijs los cascadesysteem","Cena kaskádového systému","Prix système cascade seul"]
[29,"Prix système cascade avec chaudières","Preis Kaskadensystem mit Heizkesseln","Price cascade system with boilers","Precio del sistema de cascada con calderas","Prezzo sistema cascata con caldaie","Cena systemu kaskadowego z kotłami","Цена каскадной системы с котлами","Prijs cascadesysteem met verwarmingsketels","Cena kaskádového systému s kotli","Prix système cascade avec chaudières"]
[30,"HT en €","Netto in €","Excl VAT in €","Antes de impuestos en €","Iva Esclusa in €","Ceny netto wyrażone w euro"," €, с НДС","exclusief B.T.W. in €","Kč bez DPH","HT en €"]
[31,"Solution sélectionnée","Gewählte Lösung","Solution selected","Solución seleccionada","Soluzione scelta","Wybrane rozwiązanie","Выбранное решение","Geselecteerde oplossing","Vybrané řešení","Solution sélectionnée"]
[32,"Qtté","Menge","Qty","Ctd.","Q.tà","Ilość","Кол-во","Aant","Množství","Qtté"]
[33,"Prix unitaire","Preis pro Einheit","Unit price","Precio unitario","Prezzo unitario","Cena jednostkowa","Цена за единицу","Eenheidsprijs","Cena za ks","Prix unitaire"]
[34,"Prix total","Gesamtpreis","Total price","Precio total","Prezzo totale","Cena całkowita","Итоговая цена","Totaalprijs","Celková cena","Prix total"]
[35,"Référence","Art.-Nr.","Reference","Referencia","Articolo","Oznaczenie","Позиция","Referentie","Obj. číslo","Référence"]
[36,"Désignation","Bezeichnung","Description","Denominación","Designazione","Nazwa","Наименование","Benaming","Název","Désignation"]
[37,"Système","System","System","Sistema","Sistema","System","Система","Systeem","Systém","Système"]
[38,"Accessoires","Zubehör","Accessories","Accesorios","Accessori","Narzędzia","Доп. оборудование","Accessoires","Příslušenství","Accessoires"]
[39,"Composition","Aufbau","Composition","Composición","Composizione","Elementy","Состав","Samenstelling ","Složení","Composition"]
[40,"du système cascade","des Kaskadensystems","of the cascade system","del sistema de cascada","del sistema cascata","systemu kaskadowego","каскадной системы","van het cascadesysteem","kaskádového systému","du système cascade"]
[41,"mural \"LW\"","Wand \"LW\"","wall-hung \"LW\"","mural \"LW\"","murale \"LW\"","ścienny „LW”","настенное \"LW\"","wand \"LW\"","na stěnu \"LW\"","mural \"LW\""]
[42,"sol \"LV\"","Boden \"LV\"","floor-standing \"LV\"","suelo \"LV\"","pavimento \"LV\"","podłogowy „LV”","напольное \"LV\"","vloer \"LV\"","na podlahu \"LV\"","sol \"LV\""]
[43,"dos à dos \"RG\"","Rücken an Rücken \"RG\"","back to back \"RG\"","espalda con espalda “RG”","dorso a dorso \"RG\"","przytwierdzony zewnętrzną stroną „RG”","сдвоенное \"RG\"","rug tegen rug \"RG\"","zády k sobě \"RG\"","dos à dos \"RG\""]
[44,"* Pour installation en cascade sous pression","* Für unter Druck stehende Kaskadensysteme","* For pressurised installation in cascade","* Para instalación en cascada a presión","* Per installazione a cascata sotto pressione","* W przypadku instalacji kaskadowej pod ciśnieniem","* Для каскадной установки под давлением","* Voor cascade-installatie onder druk","*Pro instalaci kaskády pod tlakem","* Pour installation en cascade sous pression"]
[45,"Code à rappeler lors de la commande.","Kode zu errinern während der Bestellung.","Code to be reminded during the order.","Código que debe darse al efectuar el pedido","Codice da precisare al momento dell'ordine","\nKod pamiętać przy zamawianiu.","Повторить код во время заказа","\nCode om te onthouden bij het bestellen.","Kód pro připomenutí objednávky.","Code à rappeler lors de la commande."]
[46,"Marché","Markt","Market","Mercado","Mercato",null,"Рынок",null,"Trh","Marché"]
[47,"Puissance (80/60°C)","Leistung (80/60°C)","Output (80/60°C)","Potencia (80/60°C)","Potenza (80/60°C)","Moc (80/60°C)","Мощность (80/60°C)","Vermogen (80/60°C)","Výkon (80/60°C)","Puissance (80/60°C)"]
[48,"Support","Halter","Supports","Soportes","Supporto","Wsporniki","Опора","Houders","Držáky","Support"]
[49,"_","_","_","_","_","_","_","_","_","_"]
[50,"Régulation","Regelung","Control system","Regulación","Regolazione","Regulacja","Панель управления","Afregeling","Regulace","Régulation"]
[51,"Hydraulique","Hydraulisch","Hydraulic","Hidráulica","Idraulica","Hydrauliczny","Гидравлика","Hydraulisch","Hydraulická část","Hydraulique"]
[52,"DESIGNATION","BEZEICHNUNG","DESCRIPTION","DENOMINACIÓN","DENOMINAZIONE","BEZEICHNUNG","ОБОЗНАЧЕНИЕ","AANWIJZING","NÁZEV","DESIGNATION"]
[53,"COLIS","KOLLI","PACKAGE","BULTO","COLLO","KOLLI","Ед. поставки","PERCEEL","BALENÍ","COLIS"]
[54,"PRIX","PREIS","PRICE","PRECIO","PREZZO","PREIS","ПРАЙС-ЛИСТ","PRIJS","CENA","PRIX"]
[55,"Merci de spécifier le marché de destination de ce logiciel","Bitte angeben fûr welchen Markt diese software bestimmt ist.","Please specify the destination market of this software","Gracias por especificar el mercado de destino de este software","Specificare che mercato è destinario da questo software.",null,"Необохдимо выбрать целевой рынок для данного ПО",null,"Udejte prosím, pro který trh je software určen","Merci de spécifier le marché de destination de ce logiciel"]
[56,"Vérifiez les données (tarif, calcul, …)","Überprüfen Sie die Daten (Tarif, Berechnung, usw.)","Check the data (tariff, calculation, etc.)","Compruebe los datos (tarifa, cálculo, …)","Controllare i dati (listino, calcolo,…)","Sprawdź dane (ceny, obliczenie, …)","Проверить данные (цены, расчет, …)","Controleer de gegevens (tarief, berekening, …)","Zkontrolujte údaje (cena, kalkulace atd.)","Vérifiez les données (tarif, calcul, …)"]
[57,"H.T. en €","ohne MwSt. In €","EXCL VAT in €","antes de impuestos en €","IVA esclusa in Euro","ceny netto wyrażone w euro"," €, с НДС","excl. B.T.W. in €","Kč bez DPH","H.T. en €"]
[58,"Autres","Andere","Others","Otros","Altro","Inne",{"$nulls":3},"Autres"]
[59,"Références pour recherche d'accessoires"]
[60,7630016,7630016,7630016,7630016,7630016,7630016,7630016,7630016,7630016,{"$f":"J62","v":7630016}]
[61,7637223,7637223,7637223,7637223,7637223,7637223,7637223,7637223,7637223,{"$f":"J63","v":7637223}]
[62,90777,110968,110968,110968,110968,110968,110968,110968,110968,110968]
[63,90777,110961,110961,110961,110961,110961,110961,110961,110961,110961]
[64,7665725,7614795,7614795,7614795,7614795,7614795,7614795,7614795,7614795,7614795]
[65,90778,110967,110967,110967,110967,110967,110967,110967,110967,110967]
[66,90778,110960,110960,110960,110960,110960,110960,110960,110960,110960]
[67,7665728,7611306,7611306,7611306,7611306,7611306,7611306,7611306,7611306,7611306]
[68,90777,110966,110966,110966,110966,110966,110966,110966,110966,110966]
[69,90777,110954,110954,110954,110954,110954,110954,110954,110954,110954]
[70,114311,114311,114311,114311,114311,114311,114311,114311,114311,114311]
[71,111712,111712,111712,111712,111712,111712,111712,111712,111712,111712]
[72,111714,111714,111714,111714,111714,111714,111714,111714,111714,111714]
[73,7633244,7633244,7633244,7633244,7633244,7633244,7633244,7633244,7633244,7633244]
[74,111022,111022,111022,111022,111022,111022,111022,111022,111022,111022]
[75,7622699,7622699,7622699,7622699,7622699,7622699,7622699,7622699,7622699,7622699]
[76,7622701,7622701,7622701,7622701,7622701,7622701,7622701,7622701,7622701,7622701]
[77,null,111037,111037,111037,111037,111037,111037,111037,111037,111037]
[78,7622700,7622700,7622700,7622700,7622700,7622700,7622700,7622700,7622700,7622700]
[79,7622702,7622702,7622702,7622702,7622702,7622702,7622702,7622702,7622702,7622702]
[80,"S101538","S101538","S101538","S101538","S101538","S101538","S101538","S101538","S101538","S101538"]
[81,7622704,7622704,7622704,7622704,7622704,7622704,7622704,7622704,7622704,7622704]
[82,7622705,7622705,7622705,7622705,7622705,7622705,7622705,7622705,7622705,7622705]
[83,null,111698,111698,111698,111698,111698,111698,111698,111698,111698]
[84,null,111699,111699,111699,111699,111699,111699,111699,111699,111699]
[85,111701,111701,111701,111701,111701,111701,111701,111701,111701,111701]
[86,111703,111703,111703,111703,111703,111703,111703,111703,111703,111703]
[87,120842,120842,120842,120842,120842,120842,120842,120842,120842,120842]
[88,7612942,7612942,7612942,7612942,7612942,7612942,7612942,7612942,7612942,7612942]
[89,120900,120900,120900,120900,120900,120900,120900,120900,120900,120900]
[90,7612941,7612941,7612941,7612941,7612941,7612941,7612941,7612941,7612941,7612941]
[91,120918,120918,120918,120918,120918,120918,120918,120918,120918,120918]
[92,7621566,7621566,7621566,7621566,7621566,7621566,7621566,7621566,7621566,7621566]
[93,111688,111688,111688,111688,111688,111688,111688,111688,111688,111688]
[94,7637077,7637077,7637077,7637077,7637077,7637077,7637077,7637077,7637077,7637077]
[95,111689,111689,111689,111689,111689,111689,111689,111689,111689,111689]
[96,7637088,7637088,7637088,7637088,7637088,7637088,7637088,7637088,7637088,7637088]
[97,111690,111690,111690,111690,111690,111690,111690,111690,111690,111690]
[98]
[99,"S101655","S101655","S101655","S101655","S101655","S101655","S101655","S101655","S101655","S101655"]
[100,"S101656","S101656","S101656","S101656","S101656","S101656","S101656","S101656","S101656","S101656"]
[101,111788,111788,111788,111788,111788,111788,111788,111788,111788,111788]
[102,111790,111790,111790,111790,111790,111790,111790,111790,111790,111790]
[103,null,111805,111805,111805,111805,111805,111805,111805,111805,111805]
[104,null,111806,111806,111806,111806,111806,111806,111806,111806,111806]
[105,111069,111069,111069,111069,111069,111069,111069,111069,111069,111069]
[106,7613401,7613401,7613401,7613401,7613401,7613401,7613401,7613401,7613401,7613401]
[107,122441,122441,122441,122441,122441,122441,122441,122441,122441,122441]
[108,7611804,7611804,7611804,7611804,7611804,7611804,7611804,7611804,7611804,7611804]
[109,null,123182,123182,123182,123182,123182,123182,123182,123182,123182]
[110,7631858,7631858,7631858,7631858,7631858,7631858,7631858,7631858,7631858,7631858]
[111,111067,111067,111067,111067,111067,111067,111067,111067,111067,111067]
[112,7622201,7622201,7622201,7622201,7622201,7622201,7622201,7622201,7622201,7622201]
[113,115269,115269,115269,115269,115269,115269,115269,115269,115269,115269]
[114,111167,111167,111167,111167,111167,111167,111167,111167,111167,111167]
[115,111807,111807,111807,111807,111807,111807,111807,111807,111807,111807]
[116,"S53990","S53990","S53990","S53990","S53990","S53990","S53990","S53990","S53990","S53990"]
[117,"S62518","S62518","S62518","S62518","S62518","S62518","S62518","S62518","S62518","S62518"]
[118,112632,112632,112632,112632,112632,112632,112632,112632,112632,112632]
[119,112633,112633,112633,112633,112633,112633,112633,112633,112633,112633]
[120,112829,112829,112829,112829,112829,112829,112829,112829,112829,112829]
[121,7641015,7641015,7641015,7641015,7641015,7641015,7641015,7641015,7641015,7641015]
[122,113076,113076,113076,113076,113076,113076,113076,113076,113076,113076]
[123,7636634,7636634,7636634,7636634,7636634,7636634,7636634,7636634,7636634,7636634]
[124,113064,113064,113064,113064,113064,113064,113064,113064,113064,113064]
[125,54663,54663,54663,54663,54663,54663,54663,54663,54663,{"$f":"J127","v":54663}]
[126,"S101679","S101679","S101679","S101679","S101679","S101679","S101679","S101679","S101679","S101679"]
[127,"S101651","S101651","S101651","S101651","S101651","S101651","S101651","S101651","S101651","S101651"]
[128,"S101468","S101468","S101468","S101468","S101468","S101468","S101468","S101468","S101468","S101468"]
[129,"S100763","S100763","S100763","S100763","S100763","S100763","S100763","S100763","S100763","S100763"]
[130,"S100865","S100865","S100865","S100865","S100865","S100865","S100865","S100865","S100865","S100865"]
[131,7638518,7638518,7638518,7638518,7638518,7638518,7638518,7638518,7638518,7638518]
[132,"S100764","S100764","S100764","S100764","S100764","S100764","S100764","S100764","S100764","S100764"]
[133,{"$nulls":9},0]
[134,"Référence chaudière"]
[135,"Français","Deutsch","English","Español","Italiano","Polsky","Русский","Nederlands","Česky",{"$f":"K3","v":"Belge"}]
[136]
[137,7684462,7684462,7684462,7684462,7684462,7684462,7684462,7684462,7684462,{"$f":"B139","v":7684462}]
[138,7684586,7684586,7684586,7684586,7684586,7684586,7684586,7684586,7684586,7684586]
[139,7684587,7684587,7684587,7684587,7684587,7684587,7684587,7684587,7684587,7684587]
[140,7684588,7684588,7684588,7684588,7684588,7684588,7684588,7684588,7684588,7684588]
[141,7674140,7674140,7674140,7674140,7674140,7674140,7674140,7674140,7674140,7674140]
[142,7699475,7699475,7699475,7699475,7699475,7699475,7699475,7699475,7699475,7699475]
[143,7699476,7699476,7699476,7699476,7699476,7699476,7699476,7699476,7699476,7699476]
[144,7699477,7699477,7699477,7699477,7699477,7699477,7699477,7699477,7699477,7699477]
[145,7699478,7699478,7699478,7699478,7699478,7699478,7699478,7699478,7699478,7699478]
[146,7674142,7674142,7674142,7674142,7674142,7674142,7674142,7674142,7674142,7674142]
[147]
[148]
[149,"Le résultat ou le contenu sont donnés à titre indicatif. La responsabilité de De Dietrich ne peut en aucun cas être engagée sur le résultat ou sur toute autre utilisation.","Das Ergebnis und die Inhalte sind Richtwerte. In keinem Fall haftet De Dietrich für die Ergebnisse oder für sonstige Verwendung. ","The result or the contents are given as an indication. In no event shall De Dietrich be liable for the results or for any other use.","El resultado o el contenido se facilita a título indicativo. De Dietrich declina cualquier responsabilidad sobre la utilización de los resultados de este software. ","Il risultato e il contenuto ottenuti sono da considerarsi puramente indicativi. De Dietrich declina ogni responsabilità su eventuali errori generati dal sistema e su altri utilizzi non ottemperati dal sistema stesso.","WYNIKI MAJĄ CHARAKTER PRZYKŁADOWY. DE DIETRICH NIE PONOSI ODPOWIEDZIALNOŚCI ZA WYNIKI, CZY TEŻ INNE ZASTOSOWANIA.","The result or the contents are given as an indication. In no event shall De Dietrich be liable for the results or for any other use.","The result or the contents are given as an indication. In no event shall De Dietrich be liable for the results or for any other use.","Výsledek nebo obsah jsou uvedeny jako indikace. V žádném případě není společnost De Dietrich odpovědná za výsledky nebo za jiné použití.","Le résultat ou le contenu sont donnés à titre indicatif. La responsabilité de De Dietrich ne peut en aucun cas être engagée sur le résultat ou sur toute autre utilisation."]
[150,"Kit de base","Basis-Kit","Basic kit","Kit básico","Kit di base ","Podstawowy zestaw ","Базовый комплект ","Basisset ","Základní sestava","Kit de base"]
[151,"Options","Optionen","Options","Opciones","Opzioni","Opcje","опции ","Opties","Příslušenství","Options"]
[152,"Quantité préconisée","Empfohlene Menge ","Amount of recommended parts","Cantidad recomendada ","Quantità scelta","Zalecana ilość ","Рекомендуемое количество ","Aanbevolen hoeveelheid ","Množství doporučených součástí","Quantité préconisée"]
[153,"Quantité choisie","Gewällte Menge","Amount of selected parts","Cantidad elegida ","Quantità scelta","Wybrana ilość ","Количество выбрано ","Gekozen hoeveelheid ","Množství vybraných částí","Quantité choisie"]
[154,"Régulation","Regulierung ","Control System","Regulación ","Regolazione ","regulacja ","регулирование ","verordening ","Regulační systém","Régulation"]
[155,"Fumisterie","Abgassystem","Flue gas system","Patraña ","Condotti di fumo ","humbug ","надувать ","humbug ","Systém vzduch-spaliny","Fumisterie"]
[156,"Quantité","Menge","Quantity","Cantidad ","Quantità ","ilość ","количество ","hoeveelheid ","Množství","Quantité"]
[157,"Français","Deutsch","English","Español","Italiano","Polsky","Русский","Nederlands","Česky","Français"]
[158,"How to",{"$nulls":5},"Как",null,null,"How to"]
[159,"COMMENT UTILISER L'OUTIL ?","WIE BENUTZT MAN DAS TOOL?","HOW TO USE THE TOOL ?","¿CÓMO UTILIZAR LA HERRAMIENTA?","COME UTILIZZARE L’UTENSILE?","HOW TO USE THE TOOL ?","Как использовать утилиту?","HOW TO USE THE TOOL ?","JAK POUŽÍVAT TENTO NÁSTROJ?","COMMENT UTILISER L'OUTIL ?"]
[160,"Copiez votre tarif dans l'onglet ''Price List''","Kopieren Sie Ihren Tarif in die Registerkarte „Price List“","Copy your Price List in the Excel sheet ''Price List\"","Copie su tarifa en la ficha «Price List»","Copiare la tariffa nel campo ''Price List''","Copy your Price List in the Excel sheet ''Price List\"","Скопируйте Ваш прайс-лист на лист \"'Price List'\"","Copy your Price List in the Excel sheet ''Price List\"","Zkopírujte Váš ceník do listu \"Price List\" v Excelu","Copiez votre tarif dans l'onglet ''Price List''"]
[161,"L'ordre des colonnes doit être ABSOLUMENT respectée","Die Reihenfolge der Spalten muss UNBEDINGT eingehalten werden","The order (Column A = Reference ; Column B = Type ; Column C = Package ; Column D = Price) has to be respected.","El orden de las columnas debe respetarse TOTALMENTE","L’ordine delle colonne deve essere ASSOLUTAMENTE rispettato","The order (Column A = Reference ; Column B = Type ; Column C = Package ; Column D = Price) has to be respected.","Обязательно соблюдать порядок следования столбцов","The order (Column A = Reference ; Column B = Type ; Column C = Package ; Column D = Price) has to be respected.","Pořadí (sloupec A = objednací číslo; sloupec B = Typ; sloupec C = Balení; sloupec D = cena) je respektováno","L'ordre des colonnes doit être ABSOLUMENT respectée"]
[162,"Le tarif inséré doit être identique que la langue sélectionné","Der eingegebene Tarif muss mit der gewählten Sprache übereinstimmen","The price list has to be the same as the selected language","La tarifa insertada debe ser idéntica a la del idioma seleccionado","La tariffa inserita deve essere identica rispetto alla lingua selezionata","The price list has to be the same as the selected language","Скопированный прайс-лист должен быть на том же языке, что и выбранный язык для утилиты.","The price list has to be the same as the selected language","Ceník musí souhlasit s vybraným jazykem","Le tarif inséré doit être identique que la langue sélectionné"]
[163,"Ex : Si Langue = Anglais , alors le tarif doit être le tarif anglais","Bsp.: Wenn Sprache = Englisch, dann muss der Tarif der englische Tarif sein","Ex : If language = English , the price list has to be the english price list.","P. ej.: Si Idioma = Inglés, entonces la tarifa debe ser la tarifa inglesa","Es: Se la lingua è l’inglese la tariffa deve quella inglese","Ex : If language = English , the price list has to be the english price list.","Например, если выбранный язык английский, то и прайс-лист должен быть на английском.","Ex : If language = English , the price list has to be the english price list.","Př.: Jestliže jazyk = čeština, musí být použit český ceník","Ex : Si Langue = Anglais , alors le tarif doit être le tarif anglais"]
[164,"Sélectionnez la langue appropriée ","Wählen Sie die entsprechende Sprache ","Select the language","Seleccione el idioma adecuado ","Selezionare la lingua appropriata ","Select the language","Выберите нужный язык","Select the language","Vyberte jazyk","Sélectionnez la langue appropriée "]
[165,"Adaptez l'alignement de la cascade","Passen Sie die Anordnung der Kaskade an","Adapt the cascade alignment.","Adapte la alineación de la cascada","Adattare l’allineamento della cascata","Adapt the cascade alignment.","Выберите расположение котлов в каскаде","Adapt the cascade alignment.","Přizpůsobte typ kaskády","Adaptez l'alignement de la cascade"]
[166,"Entrez le nombre de chaudières et la composition de la cascade","Geben Sie die Anzahl der Kessel und die Aufbau der Kaskade ein","Select the number of boilers and the cascade composition","Especifique el número de calderas y la composición de la cascada","Inserire il numero di caldaie e la composizione della cascata","Select the number of boilers and the cascade composition","Выберите количество котлов и состав каскада","Select the number of boilers and the cascade composition","Zvolte počet kotlů a sestava kaskády","Entrez le nombre de chaudières et la composition de la cascade"]
[167,"Que signifie le nom de la cascade ?  XX.YYYYkW.ABCDE","Was bedeutet der Name der Kaskade? XX.YYYYYkW.ABCDE","What means the cascade system's name? XX.YYYYkW.ABCDE","¿Qué significa el nombre de la cascada?  XX.YYYYkW.ABCDE","Cosa significa il nome della cascata ? X.YYYYkW.ABCDE","What means the cascade system's name? XX.YYYYkW.ABCDE","Что обозначает наименование каскада? XX.YYYYkW.ABCDE","What means the cascade system's name? XX.YYYYkW.ABCDE","Co znamená název kaskádového systému? XX.YYYYkW.ABCDE","Que signifie le nom de la cascade ?  XX.YYYYkW.ABCDE"]
[168,"Type d'alignement de la cascade ","Art der Anordnung der Kaskade ","Alignment of the cascade ","Tipo de alineación de la cascada ","Tipo di allineamento della cascata ","Alignment of the cascade ","Тип расположения каскада","Alignment of the cascade ","Řazení kaskády","Type d'alignement de la cascade "]
[169,"RG : Dos-à-dos","RG: Rücken an Rücken","RG : Back to back","RG: Adosada","RG: dorso a dorso","RG : Back to back","RG: Спина к спине","RG : Back to back","RG: Zády k sobě","RG : Dos-à-dos"]
[170,"LW : Mural","LW: Wand","LW : Wall-hung","LW: Mural","LW: murale","LW : Wall-hung","LW: На стене","LW : Wall-hung","LW: Na stěnu","LW : Mural"]
[171,"LV : Au sol","LV: Boden","LV : floor-standing","LV: En el suelo","LV: al suolo","LV : floor-standing","LV: На полу","LV : floor-standing","LV: Na podlahu","LV : Au sol"]
[172,"Puissance de la cascade (80/60°C)","Kaskadenleistung (80/60 °C)","Output of the cascade system (80/60°C)","Potencia de la cascada (80/60 °C)","Potenza della cascata (80/60°C)","Output of the cascade system (80/60°C)","Мощность каскада, 80/60°C","Output of the cascade system (80/60°C)","Výkon kaskády (80/60°C)","Puissance de la cascade (80/60°C)"]
[173,"Ex : 0356kW  : cascade d'une puissance de 356 kW","Bsp.: 0356 kW: Kaskade mit einer Leistung von 356 kW","Ex : 0356kW  : cascade's output = 356 kW","P. ej.: 0356kW: cascada de una potencia de 356 kW","Es: 0356kW : cascata di una potenza di 356 kW","Ex : 0356kW  : cascade's output = 356 kW","Пример: 356 кВт - каскад мощностью 356 кВт","Ex : 0356kW  : cascade's output = 356 kW","Př.: 0356kW: výkon kaskády = 356 kW","Ex : 0356kW  : cascade d'une puissance de 356 kW"]
[174,"Composition de la cascade","Aufbau der Kaskade","Cascade composition","Composición de la cascada","Composizione della cascata","Cascade composition","Состав каскада","Cascade composition","Sestava kaskády","Composition de la cascade"]
[175,"A : Nombre de chaudière AMC 45","A: Anzahl der Kessel AMC 45","A : Number of boiler AMC 45","A: Número de caldera AMC 45","A: numero di caldaia AMC 45","A : Number of boiler AMC 45","A: Количество котлов AMC 45","A : Number of boiler AMC 45","A : Počet kotlů AMC 45","A : Nombre de chaudière AMC 45"]
[176,"B : Nombre de chaudière AMC 65","A: Anzahl der Kessel AMC 65","B : Number of boiler  AMC 65","B: Número de caldera AMC 65","B: numero di caldaia AMC 65","B : Number of boiler  AMC 65","B: Количество котлов AMC 65","B : Number of boiler  AMC 65","B : Počet kotlů  AMC 65","B : Nombre de chaudière AMC 65"]
[177,"C : Nombre de chaudière AMC 90","A: Anzahl der Kessel AMC 90","C : Number of boiler  AMC 90","C: Número de caldera AMC 90","C: numero di caldaia AMC 90","C : Number of boiler  AMC 90","C: Количество котлов AMC 90","C : Number of boiler  AMC 90","C : Počet kotlů  AMC 90","C : Nombre de chaudière AMC 90"]
[178,"D : Nombre de chaudière AMC 115","D: Anzahl der Kessel AMC 115","D : Number of boiler AMC 115","D: Número de caldera AMC 115","D: numero di caldaia AMC 115","D : Number of boiler AMC 115","D: Количество котлов AMC 115","D : Number of boiler AMC 115","D : Počet kotlů AMC 115","D : Nombre de chaudière AMC 115"]
[179,"E : Nombre de chaudière MCA 160","D: Anzahl der Kessel MCA 160","E : Number of boiler  MCA 160","E: Número de caldera MCA 160","E: numero di caldaia MCA 160","E : Number of boiler  MCA 160","E: Количество котлов MCA 160","E : Number of boiler  MCA 160","E : Počet kotlů  MCA 160","E : Nombre de chaudière MCA 160"]
[180,"Les résultats sont divisés en 2 parties distinctes","Die Ergebnisse sind in 2 getrennte Teile gegliedert","The results are given in 2 differents steps","Los resultados se dividen en 2 partes diferentes","I risultati si dividono in 2 parti distinte","The results are given in 2 differents steps","Результат поделён на 2 отдельные таблицы","The results are given in 2 differents steps","Výsledky jsou uvedeny ve dvou různých krocích","Les résultats sont divisés en 2 parties distinctes"]
[181,"1e tableau : Tableau représentant le kit cacade de base","1. Tabelle: Tabelle, die den Bausatz für die Basiskaskade darstellt","1st table : Indicates the composition of the basic cascade system","1.ª tabla: Tabla que representa el kit cascada básico","1° tabella: tabella che rappresenta il kit cascata di base","1st table : Indicates the composition of the basic cascade system","1-ая таблица: таблица с базовым комплектом для каскада","1st table : Indicates the composition of the basic cascade system","1. tabulka: Tabulka znázorňující základní sestavu kaskády","1e tableau : Tableau représentant le kit cacade de base"]
[182,"Ce tableau comprend les colis obligatoires lors de la commande d'un kit cascade","Diese Tabelle enthält die obligatorischen Frachtstücke bei der Bestellung eines Kaskaden-Bausatzes","All the necessary packages for the cascade system are indicated","Esta tabla incluye los paquetes obligatorios cuando se realiza el pedido de un kit cascada","Questa tabella comprende i colli obbligatori in fase di comando di un kit cascata","All the necessary packages for the cascade system are indicated","Эта таблица содержит обязательные элементы для заказа каскадной системы","All the necessary packages for the cascade system are indicated","Tato tabulka obsahuje povinná balení při objednávání kaskády","Ce tableau comprend les colis obligatoires lors de la commande d'un kit cascade"]
[183,"Les quantités de ces colis ne sont pas modifiables","Die Mengen dieser Frachtstücke können nicht verändert werden","The quantities of these pakages can not be modified","Las cantidades de estos paquetes no son modificables","I quantità di questi colli non sono modificabili","The quantities of these pakages can not be modified","Количество этих элементов нельзя изменить","The quantities of these pakages can not be modified","Množství těchto balení není možné měnit","Les quantités de ces colis ne sont pas modifiables"]
[184,"2e tableau : Tableau représentant les options disponibles","2. Tabelle: Tabelle der erhältlichen Optionen","2nd table : Indicates the available options for the cascade system","2.ª tabla: Tabla que representa las opciones disponibles","2° tabella: tabella che rappresenta le opzioni disponibili","2nd table : Indicates the available options for the cascade system","2-ая таблица: таблица с дополнительным оборудованием","2nd table : Indicates the available options for the cascade system","2. tabulka: Tabulka zobrazující dostupné příslušenství","2e tableau : Tableau représentant les options disponibles"]
[185,"Ce tableau indique les options possibles et les quantités nécessaires","Diese Tabelle zeigt die möglichen Optionen und die benötigten Mengen","The table indicates the available options and the quantity","Esta tabla indica las opciones posibles y las cantidades necesarias","Questa tabella indica le opzioni possibili e le quantità necessarie","The table indicates the available options and the quantity","В этой таблице приведено дополнительное оборудование и их необходимое количество","The table indicates the available options and the quantity","Tato tabulka uvádí možné příslušenství a požadované množství","Ce tableau indique les options possibles et les quantités nécessaires"]
[186,"L'utilisateur sélectionne le nombre d'options qu'il souhaite","Der Benutzer wählt die Anzahl der Optionen, die er wünscht","The user has to select the number of options","El usuario selecciona el número de opciones que desea","L’utilizzatore seleziona il numero di opzioni che desidera","The user has to select the number of options","Пользователь может выбрать нужное количество дополнительного оборудования","The user has to select the number of options","Uživatel vybírá počet příslušenství, které chce","L'utilisateur sélectionne le nombre d'options qu'il souhaite"]
[187,"Il est possible d’ajouter n’importe quel accessoire à l’aide des cases en accès libre à la fin du devis (voir image ci-dessous).","Am Ende des Angebots kann jedes beliebige Zubehör über die Freie Felder hinzugefügt werden (siehe Abbildung unten).","It's possible to add any other accessory thanks to the free access cells.","Se puede añadir cualquier accesorio que se desee mediante los Campos libres al final del presupuesto (ver imagen más abajo).","È possibile aggiungere qualsiasi accessorio attraverso i Campi liberi alla fine del preventivo (vedere immagine di seguito).","It's possible to add any other accessory thanks to the free-access cells.","Можно добавить любое дополнительное оборудование при помощи раскрывающегося списка в конце сводной таблицы (см. рисунок ниже).","It's possible to add any other accessory thanks to the free access cells.","V rozbalovací nabídce můžete přidat jakékoliv příslušenství na konci nabídky (viz obrázek níže).","Il est possible d’ajouter n’importe quel accessoire à l’aide des cases en accès libre à la fin du devis (voir image ci-dessous)."]
[188,"On sélectionne ensuite la quantité de l’option voulue.","Anschließend wird die Menge für die gewünschte Option ausgewählt.","Then the user has to select the quantity of the option","A continuación, se selecciona la cantidad de la opción deseada.","In seguito di seleziona la quantità dell’opzione desiderata.","Then the user has to select the quantity of the option","Затем можно выбрать количество для необходимого дополнительного оборудования","Then the user has to select the quantity of the option","Poté musí uživatel vybrat množství příslušenství","On sélectionne ensuite la quantité de l’option voulue."]
[189,"Les dernières lignes sont en accès libre pour ajouter par exemple une remarque / une remise /…","Die letzten Zeilen sind frei beschreibbar, um zum Beispiel eine Bemerkung, einen Rabatt o. Ähnliches einzugeben"," The last cells are in free access. You can add some note, discount, …","Las últimas líneas permiten un acceso libre para añadir, por ejemplo, una observación / un descuento /…","Le prime righe sono ad accesso libero per aggiungere ad esempio una nota / una rimessa / ..."," The last cells are in free access. You can add some note, discount, …","Последние строки предназначены для дополниткльной информации - примечание, скидки…"," The last cells are in free access. You can add some note, discount, …","Poslední řádky mají volný přístup k přidání například poznámky / slevy / …","Les dernières lignes sont en accès libre pour ajouter par exemple une remarque / une remise /…"]
[190,"Le bilan et la somme totale sont réalisés.","Die Zusammenstellung und die Gesamtsumme werden erstellt.","Finally, the  results and the sum are indicated.","Se efectuarán el saldo y la suma del total.","Si ottengono così il bilancio e la somma totale.","Finally, the  results and the sum are indicated.","Будет выведена итоговая сумма и список.","Finally, the  results and the sum are indicated.","Nakonec jsou uvedeny výsledky a součet.","Le bilan et la somme totale sont réalisés."]
[191,{"$nulls":9},0]
[192,"Sélection référence","Referenzauswahl","Reference selection","Selección de referencia","Selezione di riferimento","Wybór referencyjny","Выбор ссылки","Referentie selectie","Referenční výběr","Sélection référence"]
[193,"Champs libres","Freie Felder","Free fields","Campos libres","Campi liberi","Darmowe pola","Бесплатные поля","Vrije velden","Volné pole","Champs libres"]
[194]
[195]
[196]
[197]
[198]
[199]
[200]
[201]

{"sheet":"texte","index":4,"n_rows":101,"n_cols":8,"rows_kept":101,"hidden":true}
[2,{"$f":"HLOOKUP(texte!$C$75,Language!$B$3:$K$67,A1,FALSE)","v":"Определение и расчет каскадных систем"}]
[3,{"$f":"HLOOKUP(texte!$C$75,Language!$B$3:$K$67,A2,FALSE)","v":"Для AMC 45, 65, 90, 115 и MCA 160"}]
[4,{"$f":"HLOOKUP(texte!$C$75,Language!$B$3:$K$67,A3,FALSE)","v":"ИТОГОВАЯ ЦЕНА КАСКАДНОЙ СИСТЕМЫ"}]
[5,{"$f":"HLOOKUP(texte!$C$75,Language!$B$3:$K$67,A4,FALSE)","v":"ИТОГОВАЯ ЦЕНА КАСКАДНОЙ СИСТЕМЫ С КОТЛАМИ"}]
[6,{"$f":"HLOOKUP(texte!$C$75,Language!$B$3:$K$67,A5,FALSE)","v":"ИТОГОВАЯ ЦЕНА ДОПОЛНИТЕЛЬНОГО ОБОРУДОВАНИЯ"}]
[7,{"$f":"CONCATENATE(HLOOKUP(texte!$C$75,Language!$B$3:$K$67,A6,FALSE),\" 06/2020\")","v":"Версия : 06/2020"},{"$nulls":5},"Onglet HOW TO"]
[8,{"$f":"HLOOKUP(texte!$C$75,Language!$B$3:$K$67,A7,FALSE)","v":"Идентификация расчета"}]
[9,{"$f":"HLOOKUP(texte!$C$75,Language!$B$3:$K$67,A8,FALSE)","v":"Описание объекта"},{"$nulls":4},158,{"$f":"HLOOKUP(texte!$C$75,Language!$B$3:$K$200,G8,FALSE)","v":"Как"}]
[10,{"$f":"HLOOKUP(texte!$C$75,Language!$B$3:$K$67,A9,FALSE)","v":"Вводимые данные"},{"$nulls":4},159,{"$f":"HLOOKUP(texte!$C$75,Language!$B$3:$K$200,G9,FALSE)","v":"Как использовать утилиту?"}]
[11,{"$f":"HLOOKUP(texte!$C$75,Language!$B$3:$K$67,A10,FALSE)","v":"Мощность установки (кВт)"},{"$nulls":4},160,{"$f":"HLOOKUP(texte!$C$75,Language!$B$3:$K$200,G10,FALSE)","v":"Скопируйте Ваш прайс-лист на лист \"'Price List'\""}]
[12,{"$f":"HLOOKUP(texte!$C$75,Language!$B$3:$K$67,A11,FALSE)","v":"Разрешенный диапазон (+/- ... кВт)"},{"$nulls":4},161,{"$f":"HLOOKUP(texte!$C$75,Language!$B$3:$K$200,G11,FALSE)","v":"Обязательно соблюдать порядок следования столбцов"}]
[13,{"$f":"HLOOKUP(texte!$C$75,Language!$B$3:$K$67,A12,FALSE)","v":"Количество котлов"},{"$nulls":4},162,{"$f":"HLOOKUP(texte!$C$75,Language!$B$3:$K$200,G12,FALSE)","v":"Скопированный прайс-лист должен быть на том же языке, что и выбранный язык для утилиты."}]
[14,{"$f":"HLOOKUP(texte!$C$75,Language!$B$3:$K$67,A13,FALSE)","v":"Расположение в каскаде"},{"$nulls":4},163,{"$f":"HLOOKUP(texte!$C$75,Language!$B$3:$K$200,G13,FALSE)","v":"Например, если выбранный язык английский, то и прайс-лист должен быть на английском."}]
[15,{"$f":"HLOOKUP(texte!$C$75,Language!$B$3:$K$67,A14,FALSE)","v":"Каскадная система"},{"$nulls":4},164,{"$f":"HLOOKUP(texte!$C$75,Language!$B$3:$K$200,G14,FALSE)","v":"Выберите нужный язык"}]
[16,{"$f":"HLOOKUP(texte!$C$75,Language!$B$3:$K$67,A15,FALSE)","v":"Внимание! При изменении выбора всегда изменять следующие значения!"},{"$nulls":4},165,{"$f":"HLOOKUP(texte!$C$75,Language!$B$3:$K$200,G15,FALSE)","v":"Выберите расположение котлов в каскаде"}]
[17,{"$f":"HLOOKUP(texte!$C$75,Language!$B$3:$K$67,A16,FALSE)","v":"Количество котлов"},{"$nulls":4},166,{"$f":"HLOOKUP(texte!$C$75,Language!$B$3:$K$200,G16,FALSE)","v":"Выберите количество котлов и состав каскада"}]
[18,{"$f":"HLOOKUP(texte!$C$75,Language!$B$3:$K$67,A17,FALSE)","v":"Решение De Dietrich"},{"$nulls":4},167,{"$f":"HLOOKUP(texte!$C$75,Language!$B$3:$K$200,G17,FALSE)","v":"Что обозначает наименование каскада? XX.YYYYkW.ABCDE"}]
[19,{"$f":"HLOOKUP(texte!$C$75,Language!$B$3:$K$67,A18,FALSE)","v":"Решение De Dietrich (продолжение)"},{"$nulls":4},168,{"$f":"HLOOKUP(texte!$C$75,Language!$B$3:$K$200,G18,FALSE)","v":"Тип расположения каскада"}]
[20,{"$f":"HLOOKUP(texte!$C$75,Language!$B$3:$K$67,A19,FALSE)","v":"Наименование"},{"$nulls":4},169,{"$f":"HLOOKUP(texte!$C$75,Language!$B$3:$K$200,G19,FALSE)","v":"RG: Спина к спине"}]
[21,{"$f":"HLOOKUP(texte!$C$75,Language!$B$3:$K$67,A20,FALSE)","v":"Мощность (кBт)"},{"$nulls":4},170,{"$f":"HLOOKUP(texte!$C$75,Language!$B$3:$K$200,G20,FALSE)","v":"LW: На стене"}]
[22,{"$f":"HLOOKUP(texte!$C$75,Language!$B$3:$K$67,A21,FALSE)","v":"Количество котлов"},{"$nulls":4},171,{"$f":"HLOOKUP(texte!$C$75,Language!$B$3:$K$200,G21,FALSE)","v":"LV: На полу"}]
[23,{"$f":"HLOOKUP(texte!$C$75,Language!$B$3:$K$67,A22,FALSE)","v":"Тип котлов"},{"$nulls":4},172,{"$f":"HLOOKUP(texte!$C$75,Language!$B$3:$K$200,G22,FALSE)","v":"Мощность каскада, 80/60°C"}]
[24,{"$f":"HLOOKUP(texte!$C$75,Language!$B$3:$K$67,A23,FALSE)","v":"AMC 45"},{"$nulls":4},173,{"$f":"HLOOKUP(texte!$C$75,Language!$B$3:$K$200,G23,FALSE)","v":"Пример: 356 кВт - каскад мощностью 356 кВт"}]
[25,{"$f":"HLOOKUP(texte!$C$75,Language!$B$3:$K$67,A24,FALSE)","v":"AMC 65"},{"$nulls":4},174,{"$f":"HLOOKUP(texte!$C$75,Language!$B$3:$K$200,G24,FALSE)","v":"Состав каскада"}]
[26,{"$f":"HLOOKUP(texte!$C$75,Language!$B$3:$K$67,A25,FALSE)","v":"AMC 90"},{"$nulls":4},175,{"$f":"HLOOKUP(texte!$C$75,Language!$B$3:$K$200,G25,FALSE)","v":"A: Количество котлов AMC 45"}]
[27,{"$f":"HLOOKUP(texte!$C$75,Language!$B$3:$K$67,A26,FALSE)","v":"AMC 115"},{"$nulls":4},176,{"$f":"HLOOKUP(texte!$C$75,Language!$B$3:$K$200,G26,FALSE)","v":"B: Количество котлов AMC 65"}]
[28,{"$f":"HLOOKUP(texte!$C$75,Language!$B$3:$K$67,A27,FALSE)","v":"Цена только каскадной системы"},{"$nulls":4},177,{"$f":"HLOOKUP(texte!$C$75,Language!$B$3:$K$200,G27,FALSE)","v":"C: Количество котлов AMC 90"}]
[29,{"$f":"HLOOKUP(texte!$C$75,Language!$B$3:$K$67,A28,FALSE)","v":"Цена каскадной системы с котлами"},{"$nulls":4},178,{"$f":"HLOOKUP(texte!$C$75,Language!$B$3:$K$200,G28,FALSE)","v":"D: Количество котлов AMC 115"}]
[30,{"$f":"HLOOKUP(texte!$C$75,Language!$B$3:$K$67,A29,FALSE)","v":" €, с НДС"},{"$nulls":4},179,{"$f":"HLOOKUP(texte!$C$75,Language!$B$3:$K$200,G29,FALSE)","v":"E: Количество котлов MCA 160"}]
[31,{"$f":"HLOOKUP(texte!$C$75,Language!$B$3:$K$67,A30,FALSE)","v":"Выбранное решение"},{"$nulls":4},180,{"$f":"HLOOKUP(texte!$C$75,Language!$B$3:$K$200,G30,FALSE)","v":"Результат поделён на 2 отдельные таблицы"}]
[32,{"$f":"HLOOKUP(texte!$C$75,Language!$B$3:$K$67,A31,FALSE)","v":"Кол-во"},{"$nulls":4},181,{"$f":"HLOOKUP(texte!$C$75,Language!$B$3:$K$200,G31,FALSE)","v":"1-ая таблица: таблица с базовым комплектом для каскада"}]
[33,{"$f":"HLOOKUP(texte!$C$75,Language!$B$3:$K$67,A32,FALSE)","v":"Цена за единицу"},{"$nulls":4},182,{"$f":"HLOOKUP(texte!$C$75,Language!$B$3:$K$200,G32,FALSE)","v":"Эта таблица содержит обязательные элементы для заказа каскадной системы"}]
[34,{"$f":"HLOOKUP(texte!$C$75,Language!$B$3:$K$67,A33,FALSE)","v":"Итоговая цена"},{"$nulls":4},183,{"$f":"HLOOKUP(texte!$C$75,Language!$B$3:$K$200,G33,FALSE)","v":"Количество этих элементов нельзя изменить"}]
[35,{"$f":"HLOOKUP(texte!$C$75,Language!$B$3:$K$67,A34,FALSE)","v":"Позиция"},{"$nulls":4},184,{"$f":"HLOOKUP(texte!$C$75,Language!$B$3:$K$200,G34,FALSE)","v":"2-ая таблица: таблица с дополнительным оборудованием"}]
[36,{"$f":"HLOOKUP(texte!$C$75,Language!$B$3:$K$67,A35,FALSE)","v":"Наименование"},{"$nulls":4},185,{"$f":"HLOOKUP(texte!$C$75,Language!$B$3:$K$200,G35,FALSE)","v":"В этой таблице приведено дополнительное оборудование и их необходимое количество"}]
[37,{"$f":"HLOOKUP(texte!$C$75,Language!$B$3:$K$67,A36,FALSE)","v":"Система"},{"$nulls":4},186,{"$f":"HLOOKUP(texte!$C$75,Language!$B$3:$K$200,G36,FALSE)","v":"Пользователь может выбрать нужное количество дополнительного оборудования"}]
[38,{"$f":"HLOOKUP(texte!$C$75,Language!$B$3:$K$67,A37,FALSE)","v":"Доп. оборудование"},{"$nulls":4},187,{"$f":"HLOOKUP(texte!$C$75,Language!$B$3:$K$200,G37,FALSE)","v":"Можно добавить любое дополнительное оборудование при помощи раскрывающегося списка в конце сводной таблицы (см. рисунок ниже)."}]
[39,{"$f":"HLOOKUP(texte!$C$75,Language!$B$3:$K$67,A38,FALSE)","v":"Состав"},{"$nulls":4},188,{"$f":"HLOOKUP(texte!$C$75,Language!$B$3:$K$200,G38,FALSE)","v":"Затем можно выбрать количество для необходимого дополнительного оборудования"}]
[40,{"$f":"HLOOKUP(texte!$C$75,Language!$B$3:$K$67,A39,FALSE)","v":"каскадной системы"},{"$nulls":4},189,{"$f":"HLOOKUP(texte!$C$75,Language!$B$3:$K$200,G39,FALSE)","v":"Последние строки предназначены для дополниткльной информации - примечание, скидки…"}]
[41,{"$f":"HLOOKUP(texte!$C$75,Language!$B$3:$K$67,A40,FALSE)","v":"настенное \"LW\""},{"$nulls":4},190,{"$f":"HLOOKUP(texte!$C$75,Language!$B$3:$K$200,G40,FALSE)","v":"Будет выведена итоговая сумма и список."}]
[42,{"$f":"HLOOKUP(texte!$C$75,Language!$B$3:$K$67,A41,FALSE)","v":"напольное \"LV\""}]
[43,{"$f":"HLOOKUP(texte!$C$75,Language!$B$3:$K$67,A42,FALSE)","v":"сдвоенное \"RG\""}]
[44,{"$f":"HLOOKUP(texte!$C$75,Language!$B$3:$K$67,A43,FALSE)","v":"* Для каскадной установки под давлением"}]
[45,{"$f":"HLOOKUP(texte!$C$75,Language!$B$3:$K$67,A44,FALSE)","v":"Повторить код во время заказа"}]
[46,{"$f":"HLOOKUP(texte!$C$75,Language!$B$3:$K$67,A45,FALSE)","v":"Рынок"}]
[47,{"$f":"HLOOKUP(texte!$C$75,Language!$B$3:$K$67,A46,FALSE)","v":"Мощность (80/60°C)"}]
[48,{"$f":"HLOOKUP(texte!$C$75,Language!$B$3:$K$67,A47,FALSE)","v":"Опора"}]
[49,{"$f":"HLOOKUP(texte!$C$75,Language!$B$3:$K$67,A48,FALSE)","v":"_"}]
[50,{"$f":"HLOOKUP(texte!$C$75,Language!$B$3:$K$67,A49,FALSE)","v":"Панель управления"}]
[51,{"$f":"HLOOKUP(texte!$C$75,Language!$B$3:$K$67,A50,FALSE)","v":"Гидравлика"}]
[52,{"$f":"HLOOKUP(texte!$C$75,Language!$B$3:$K$67,A51,FALSE)","v":"ОБОЗНАЧЕНИЕ"}]
[53,{"$f":"HLOOKUP(texte!$C$75,Language!$B$3:$K$67,A52,FALSE)","v":"Ед. поставки"}]
[54,{"$f":"HLOOKUP(texte!$C$75,Language!$B$3:$K$67,A53,FALSE)","v":"ПРАЙС-ЛИСТ"}]
[55,{"$f":"HLOOKUP(texte!$C$75,Language!$B$3:$K$67,A54,FALSE)","v":"Необохдимо выбрать целевой рынок для данного ПО"}]
[56,{"$f":"HLOOKUP(texte!$C$75,Language!$B$3:$K$67,A55,FALSE)","v":"Проверить данные (цены, расчет, …)"}]
[57,{"$f":"HLOOKUP(texte!$C$75,Language!$B$3:$K$67,A56,FALSE)","v":" €, с НДС"}]
[58,{"$f":"HLOOKUP(texte!$C$75,Language!$B$3:$K$67,A57,FALSE)","v":0}]
[149,{"$f":"HLOOKUP(texte!$C$75,Language!$B$3:$K$647,A58,FALSE)","v":"The result or the contents are given as an indication. In no event shall De Dietrich be liable for the results or for any other use."}]
[150,{"$f":"HLOOKUP(texte!$C$75,Language!$B$3:$K$647,A59,FALSE)","v":"Базовый комплект "}]
[151,{"$f":"HLOOKUP(texte!$C$75,Language!$B$3:$K$647,A60,FALSE)","v":"опции "}]
[152,{"$f":"HLOOKUP(texte!$C$75,Language!$B$3:$K$647,A61,FALSE)","v":"Рекомендуемое количество "}]
[153,{"$f":"HLOOKUP(texte!$C$75,Language!$B$3:$K$647,A62,FALSE)","v":"Количество выбрано "}]
[154,{"$f":"HLOOKUP(texte!$C$75,Language!$B$3:$K$647,A63,FALSE)","v":"регулирование "}]
[155,{"$f":"HLOOKUP(texte!$C$75,Language!$B$3:$K$647,A64,FALSE)","v":"надувать "}]
[156,{"$f":"HLOOKUP(texte!$C$75,Language!$B$3:$K$647,A65,FALSE)","v":"количество "}]
[192,{"$f":"HLOOKUP(texte!$C$75,Language!$B$3:$K$647,A66,FALSE)","v":"Выбор ссылки"}]
[193,{"$f":"HLOOKUP(texte!$C$75,Language!$B$3:$K$647,A67,FALSE)","v":"Бесплатные поля"}]
[]
[]
[]
[]
[null,"Menus déroulants Langues + marchés"]
[null,null,"Langues",null,null,"Marchés"]
[null,"INDEX    ",7]
[null,null,{"$f":"INDEX(texte!$B$81:$B$90,C74,1)","v":"Русский"},null,null,"Italy"]
[{"$nulls":5},"Other"]
[null,"RECHERCHE TARIF    ",{"$f":"B51","v":"ОБОЗНАЧЕНИЕ"},null,null,3]
[null,null,{"$f":"B52","v":"Ед. поставки"},null,null,{"$f":"INDEX(F74:F76,F77)","v":"Other"}]
[null,null,{"$f":"B53","v":"ПРАЙС-ЛИСТ"}]
[]
[null,"Deutsch"]
[null,"English"]
[null,"Español"]
[null,"Français"]
[null,"Italiano"]
[null,"Polsky"]
[null,"Русский"]
[null,"Nederlands"]
[null,"Česky"]
[null,"Belge"]
[]
[null,"Images"]
[]
[]
[]
[]
[]
[null,null,{"$f":"IF('Выбор котлов'!$E$22='Cascade AMC'!$F$10,1,IF('Выбор котлов'!$E$22='Cascade AMC'!$F$11,2,3))","v":1}]
[null,1]
[null,2]
[null,3]

{"sheet":"gamme DD chaud","index":5,"n_rows":4009,"n_cols":97,"rows_kept":562,"cut":true,"hidden":true,"bounds":{"rows_first":250,"rows_last":62,"rows_between":250,"halvings":3}}
[{"$nulls":14},1,2,3,4,5,6,7,8,9,10,11,12,13,14,15,16,17,18,19,20,21,22,23,24,25,26,27,28,29,30,31,32,33,34,35,36,37,38,39,40,41,42,43,null,45,46,47,48,49,50,51,52,53,54,55,56,57,58,59,60,61,62,63,64,65,66,67,68,69,70,71,72,73,74,75,76,77,78,79,80,81,82,83]
[{"$nulls":4},"verkoop omschrijving","Quinta Pro 45","Quinta Pro 65","Quinta Pro 90","Quinta Pro 115","Quinta Ace 160",{"$nulls":8},"verkoop omschrijving","Pompe pour MCA 90/115","Pompe pour MCA 160","Collecteur 2 chaudières DN 65 pour MCA 45/115","Collecteur 2 chaudières DN 100 pour MCA 45/115","Collecteur 2 chaudières DN 100 pour MCA 160","Collecteur 3 chaudières DN 65 pour MCA 45/115","Collecteur 3 chaudières DN 100 pour MCA 45/115","Collecteur 3 chaudières DN 100 pour MCA 160","Collecteur 4 chaudières DN 65 pour MCA 45/115","Collecteur 4 chaudières DN 100 pour MCA 45/115","Bouteille de découplage DN65 (jusqu'à 350 kW)","Bouteille de découplage DN65 (de 350 à 460 kW)","Bouteille de découplage DN100 (supérieur à 460 kW)","Adapateur DN65/DN100  pour collecteur DN65","Kit de raccordement avant ","Raccordement collecteur MCA 45/115","Raccordement collecteur MCA 160","Kit de raccordement collecteur chaudière RG MCA 45/115","Kit de raccordement collecteur chaudière RG MCA MIXTE 45/115 + 160","Kit de raccordement collecteur chaudière RG MCA 160","Raccordement  chaudière RG MCA 45/115",null,"Raccordement  chaudière RG MCA 160","Brides Pleines Gaz DN50","Brides Pleines Gaz DN65","Brides Pleines Eau DN65","Brides Pleines Eau DN100","Montant support L pour MCA 45/115","Montant support L pour MCA 160","Montant support I pour MCA 45/115","Montant support I pour MCA 160","Chassis de montage MCA 45/115","Chassis de montage  MCA 160 combinée","Rail de montage mural 2 chaudières MCA 45/115","Rail de montage mural 2 chaudières MCA 160","Rail de montage mural 3 chaudières MCA 45/115","Rail de montage mural 3 chaudières MCA 160","Rail de montage mural 4 chaudières MCA 45/115",null,"Filtre Gaz DN50","Filtre Gaz DN65","Coudes DN65","Coudes DN100","Rallonge pour filtre gaz DN50","Rallonge pour filtre gaz DN65","Isolation collecteur MCA 45/115","Isolation collecteur MCA 160","Isolation raccordement chaudière MCA 45/115","Isolation raccordement chaudière MCA 160","Isolation Arrière pour MCA 45-115 ","Plaque d'isolation arrière MCA 160","Isolation bouteille de découplage > 350 kW","Isolation adaptateur DN65/DN100","Isolation bouteille de découlage (jusqu'à 350 kW)","Isolation coudes 90°","Pieds réglables",null,null,"Jeu de contre-brides à souder DN65","Jeu de contre-brides à souder DN100",{"$nulls":11},"Jeu de contre brides à souder DN65",null,"Pompe pour MCA 45 / 65",null,"Câble S-BUS  S = 1,5 m","Câble Bus Diematic L = 12 m","Jeu de bouchons"]
[{"$nulls":4},"Puissance chaudière",{"$f":"'Cascade AMC'!$F$34","v":40.8},{"$f":"'Cascade AMC'!$F$35","v":{"v":61.5,"d":"61.50"}},{"$f":"'Cascade AMC'!$F$36","v":{"v":84.2,"d":"84.20"}},{"$f":"'Cascade AMC'!$F$37","v":{"v":107,"d":"107.00"}},{"$f":"'Cascade AMC'!$F$38","v":{"v":152.1,"d":"152.10"}},{"$nulls":8},"bruto",{"v":266.8,"d":"€ 266.80"},{"v":369.2,"d":"€ 369.20"},{"v":507.7,"d":"€ 507.70"},{"v":782.4,"d":"€ 782.40"},{"v":742.6,"d":"€ 742.60"},{"v":695.5,"d":"€ 695.50"},{"v":889.9,"d":"€ 889.90"},{"v":917,"d":"€ 917.00"},{"v":947.5,"d":"€ 947.50"},{"v":1223.2,"d":"€ 1,223.20"},{"v":461.5,"d":"€ 461.50"},{"v":584.3,"d":"€ 584.30"},{"v":958.8,"d":"€ 958.80"},{"v":191.8,"d":"€ 191.80"},{"v":296.7,"d":"€ 296.70"},{"v":415.5,"d":"€ 415.50"},{"v":420,"d":"€ 420.00"},{"v":347.7,"d":"€ 347.70"},{"v":495.5,"d":"€ 495.50"},{"v":491.6,"d":"€ 491.60"},{"v":342.6,"d":"€ 342.60"},{"v":96.9,"d":"€ 96.90"},{"v":101,"d":"€ 101.00"},{"v":58.1,"d":"€ 58.10"},{"v":65.3,"d":"€ 65.30"},{"v":88.8,"d":"€ 88.80"},{"v":116.5,"d":"€ 116.50"},{"v":72.9,"d":"€ 72.90"},{"v":74.5,"d":"€ 74.50"},{"v":42.8,"d":"€ 42.80"},{"v":55.1,"d":"€ 55.10"},{"v":46.6,"d":"€ 46.60"},{"v":92.2,"d":"€ 92.20"},{"v":22.5,"d":"€ 22.50"},{"v":30.2,"d":"€ 30.20"},{"v":30.3,"d":"€ 30.30"},{"v":38.7,"d":"€ 38.70"},{"v":37,"d":"€ 37.00"},null,{"v":282.5,"d":"€ 282.50"},{"v":402.7,"d":"€ 402.70"},{"v":352.9,"d":"€ 352.90"},{"v":516.4,"d":"€ 516.40"},{"v":134.2,"d":"€ 134.20"},{"v":148.3,"d":"€ 148.30"},{"v":68.5,"d":"€ 68.50"},{"v":56.1,"d":"€ 56.10"},{"v":49.4,"d":"€ 49.40"},{"v":45.9,"d":"€ 45.90"},{"v":26,"d":"€ 26.00"},{"v":52,"d":"€ 52.00"},{"v":149.6,"d":"€ 149.60"},{"v":15.3,"d":"€ 15.30"},{"v":60.4,"d":"€ 60.40"},{"v":116.5,"d":"€ 116.50"},{"v":7.07,"d":"€ 7.07"},{"v":992.1,"d":"€ 992.10"},{"v":338.1,"d":"€ 338.10"},{"v":88.1,"d":"€ 88.10"},{"v":111.9,"d":"€ 111.90"},{"v":18.4,"d":"€ 18.40"},{"v":17.9,"d":"€ 17.90"},{"v":61.7,"d":"€ 61.70"},{"v":39.8,"d":"€ 39.80"},{"v":152.1,"d":"€ 152.10"},{"v":97.1,"d":"€ 97.10"},{"v":222.7,"d":"€ 222.70"},{"v":39.2,"d":"€ 39.20"},{"v":71,"d":"€ 71.00"},{"v":106.9,"d":"€ 106.90"},{"v":140.6,"d":"€ 140.60"},{"v":85.6,"d":"€ 85.60"},{"v":71,"d":"€ 71.00"},null,null,"AD308","AD134"]
[{"$nulls":4},"Bestelnr",7608430,7608431,90518,90519,7621759,{"$nulls":9},7608398,7637223,110968,110961,7614795,110967,110960,7611306,110966,110954,114311,111712,111714,7633244,111022,7622699,7622701,111037,7622700,7622702,"S101538",7622704,7622705,111698,111699,111701,111703,120842,7612942,120900,7612941,120918,7621566,111688,7637077,111689,7637088,111690,null,"S101655","S101656",111788,111790,111805,111806,111069,7613401,122441,7611804,123182,7631858,111067,7622201,115269,111167,111807,"S53990","S62518",112632,112633,112829,7641015,113076,7636634,113064,54663,"S101679","S101651","S101468","S100763","S100865",7638518,"S100764",7608398,null,{"$f":"'Cascade AMC'!N143","v":7663618},88017851,111708]
[{"$nulls":3},"volgnr","aantal ketels","QPro45","QPro65","QPro90","QPro115","QAce160","opstelling","boileraansl.","P (80/60) [kW]","bestelcode","Ligne","aant. soorten","breedte","DN-maat",null,null,"EH651","HC188","HC190","EH676","HC187","HC189","EH677","HC186","HC191","HC222","HC200","HC201","EH654","HC202","EH655","EH656","HC203","EH657","EH658","","","","HC196","HC197","HC198","HC199","HC249","EH662","HC250","EH663","HC248","EH664","HC192","EH670","HC193","EH671","HC194",null,"HC255","HC256","HC209","HC210","HC211","HC212","HC213","EH647","HC252","EH648","HC243","EH649","HC215","EH650","HC224","HC216","HC219","","","HC217","HC218","","","","","","","","","","","","EH669","",null,null,"AD308","AD134","HC195"]
[{"$nulls":3},1,8,0,0,0,0,8,"LW","n",{"$f":"ROUND(SUMPRODUCT($F$3:$J$3,F6:J6),0)","v":1217},{"$f":"IF(M6>=1000,CONCATENATE(K6,\".\",M6,\"kW.\",F6,G6,H6,I6,J6),CONCATENATE(K6,\".0\",M6,\"kW.\",F6,G6,H6,I6,J6))","v":"LW.1217kW.00008"},1,1,5689,"DN100",null,{"$f":"I6+H6","v":0},{"$f":"J6","v":8},0,0,1,0,0,2,0,0,0,0,1,0,0,0,8,0,0,0,0,0,0,0,1,0,1,0,0,0,0,0,0,0,1,0,2,0,null,0,1,0,1,0,1,0,8,0,8,{"$f":"+BO6","v":0},0,1,0,0,1,0,2,0,0,1,0,0,0,0,1,0,0,0,0,0,0,0,0,{"$f":"F6+G6","v":0},"n",{"$f":"E6-1","v":7},0,{"$f":"IF(K6<>\"RG\",E6,IF(OR(E6=4,E6=6,E6=8),0,1))","v":8}]
[{"$nulls":3},2,8,0,0,0,1,7,"LW","n",{"$f":"ROUND(SUMPRODUCT($F$3:$J$3,F7:J7),0)","v":1172},{"$f":"IF(M7>=1000,CONCATENATE(K7,\".\",M7,\"kW.\",F7,G7,H7,I7,J7),CONCATENATE(K7,\".0\",M7,\"kW.\",F7,G7,H7,I7,J7))","v":"LW.1172kW.00017"},2,2,5689,"DN100",null,{"$f":"I7+H7","v":1},{"$f":"J7","v":7},0,0,1,0,0,2,0,0,0,0,1,0,0,1,7,0,0,0,0,0,0,0,1,0,1,0,0,0,0,0,0,0,2,0,1,0,null,0,1,0,1,0,1,0,8,0,8,{"$f":"+BO7","v":0},0,1,0,0,1,0,2,0,0,1,0,0,0,0,1,0,0,0,0,1,0,0,0,{"$f":"F7+G7","v":0},"n",7,0,{"$f":"IF(K7<>\"RG\",E7,IF(OR(E7=4,E7=6,E7=8),0,1))","v":8}]
[{"$nulls":3},3,8,0,0,1,0,7,"LW","n",1149,"LW.1149kW.00107",3,2,5689,"DN100",null,1,7,0,0,1,0,0,2,0,0,0,0,1,0,0,1,7,0,0,0,0,0,0,0,1,0,1,0,0,0,0,0,0,0,2,0,1,0,null,0,1,0,1,0,1,0,8,0,8,0,0,1,0,0,1,0,2,0,0,1,0,0,0,0,1,0,0,0,0,1,0,0,0,0,"n",7,0,8]
[{"$nulls":3},4,8,0,1,0,0,7,"LW","n",1126,"LW.1126kW.01007",4,2,5689,"DN100",null,0,7,0,0,1,0,0,2,0,0,0,0,1,0,0,1,7,0,0,0,0,0,0,0,1,0,1,0,0,0,0,0,0,0,2,0,1,0,null,0,1,0,1,0,1,0,8,0,8,0,0,1,0,0,1,0,2,0,0,1,0,0,0,0,1,0,0,0,0,1,0,0,0,1,"n",7,0,8]
[{"$nulls":3},5,8,1,0,0,0,7,"LW","n",1106,"LW.1106kW.10007",5,2,5689,"DN100",null,0,7,0,0,1,0,0,2,0,0,0,0,1,0,0,1,7,0,0,0,0,0,0,0,1,0,1,0,0,0,0,0,0,0,2,0,1,0,null,0,1,0,1,0,1,0,8,0,8,0,0,1,0,0,1,0,2,0,0,1,0,0,0,0,1,0,0,0,0,1,0,0,0,1,"n",7,0,8]
[{"$nulls":3},6,8,0,0,0,2,6,"LW","n",1127,"LW.1127kW.00026",6,2,5689,"DN100",null,2,6,0,0,1,0,0,2,0,0,0,0,1,0,0,2,6,0,0,0,0,0,0,0,1,0,1,0,0,0,0,0,0,1,0,0,2,0,null,0,1,0,1,0,1,0,8,0,8,0,0,1,0,0,1,0,2,0,0,1,0,0,0,0,1,0,0,0,0,2,0,0,0,0,"n",7,0,8]
[{"$nulls":3},7,8,0,0,1,1,6,"LW","n",1104,"LW.1104kW.00116",7,3,5689,"DN100",null,2,6,0,0,1,0,0,2,0,0,0,0,1,0,0,2,6,0,0,0,0,0,0,0,1,0,1,0,0,0,0,0,0,1,0,0,2,0,null,0,1,0,1,0,1,0,8,0,8,0,0,1,0,0,1,0,2,0,0,1,0,0,0,0,1,0,0,0,0,2,0,0,0,0,"n",7,0,8]
[{"$nulls":3},8,8,0,1,0,1,6,"LW","n",1081,"LW.1081kW.01016",8,3,5689,"DN100",null,1,6,0,0,1,0,0,2,0,0,0,0,1,0,0,2,6,0,0,0,0,0,0,0,1,0,1,0,0,0,0,0,0,1,0,0,2,0,null,0,1,0,1,0,1,0,8,0,8,0,0,1,0,0,1,0,2,0,0,1,0,0,0,0,1,0,0,0,0,2,0,0,0,1,"n",7,0,8]
[{"$nulls":3},9,8,1,0,0,1,6,"LW","n",1060,"LW.1060kW.10016",9,3,5689,"DN100",null,1,6,0,0,1,0,0,2,0,0,0,0,1,0,0,2,6,0,0,0,0,0,0,0,1,0,1,0,0,0,0,0,0,1,0,0,2,0,null,0,1,0,1,0,1,0,8,0,8,0,0,1,0,0,1,0,2,0,0,1,0,0,0,0,1,0,0,0,0,2,0,0,0,1,"n",7,0,8]
[{"$nulls":3},10,8,0,0,2,0,6,"LW","n",1081,"LW.1081kW.00206",10,2,5689,"DN100",null,2,6,0,0,1,0,0,2,0,0,0,0,1,0,0,2,6,0,0,0,0,0,0,0,1,0,1,0,0,0,0,0,0,1,0,0,2,0,null,0,1,0,1,0,1,0,8,0,8,0,0,1,0,0,1,0,2,0,0,1,0,0,0,0,1,0,0,0,0,2,0,0,0,0,"n",7,0,8]
[{"$nulls":3},11,8,0,1,1,0,6,"LW","n",1058,"LW.1058kW.01106",11,3,5689,"DN100",null,1,6,0,0,1,0,0,2,0,0,0,0,1,0,0,2,6,0,0,0,0,0,0,0,1,0,1,0,0,0,0,0,0,1,0,0,2,0,null,0,1,0,1,0,1,0,8,0,8,0,0,1,0,0,1,0,2,0,0,1,0,0,0,0,1,0,0,0,0,2,0,0,0,1,"n",7,0,8]
[{"$nulls":3},12,8,1,0,1,0,6,"LW","n",1038,"LW.1038kW.10106",12,3,5689,"DN100",null,1,6,0,0,1,0,0,2,0,0,0,0,1,0,0,2,6,0,0,0,0,0,0,0,1,0,1,0,0,0,0,0,0,1,0,0,2,0,null,0,1,0,1,0,1,0,8,0,8,0,0,1,0,0,1,0,2,0,0,1,0,0,0,0,1,0,0,0,0,2,0,0,0,1,"n",7,0,8]
[{"$nulls":3},13,8,0,2,0,0,6,"LW","n",1036,"LW.1036kW.02006",13,2,5689,"DN100",null,0,6,0,0,1,0,0,2,0,0,0,0,1,0,0,2,6,0,0,0,0,0,0,0,1,0,1,0,0,0,0,0,0,1,0,0,2,0,null,0,1,0,1,0,1,0,8,0,8,0,0,1,0,0,1,0,2,0,0,1,0,0,0,0,1,0,0,0,0,2,0,0,0,2,"n",7,0,8]
[{"$nulls":3},14,8,1,1,0,0,6,"LW","n",1015,"LW.1015kW.11006",14,3,5689,"DN100",null,0,6,0,0,1,0,0,2,0,0,0,0,1,0,0,2,6,0,0,0,0,0,0,0,1,0,1,0,0,0,0,0,0,1,0,0,2,0,null,0,1,0,1,0,1,0,8,0,8,0,0,1,0,0,1,0,2,0,0,1,0,0,0,0,1,0,0,0,0,2,0,0,0,2,"n",7,0,8]
[{"$nulls":3},15,8,2,0,0,0,6,"LW","n",994,"LW.0994kW.20006",15,2,5689,"DN100",null,0,6,0,0,1,0,0,2,0,0,0,0,1,0,0,2,6,0,0,0,0,0,0,0,1,0,1,0,0,0,0,0,0,1,0,0,2,0,null,0,1,0,1,0,1,0,8,0,8,0,0,1,0,0,1,0,2,0,0,1,0,0,0,0,1,0,0,0,0,2,0,0,0,2,"n",7,0,8]
[{"$nulls":3},16,8,0,0,0,3,5,"LW","n",1082,"LW.1082kW.00035",16,2,5689,"DN100",null,3,5,0,0,1,0,0,2,0,0,0,0,1,0,0,3,5,0,0,0,0,0,0,0,1,0,1,0,0,0,0,0,0,0,1,1,1,0,null,0,1,0,1,0,1,0,8,0,8,0,0,1,0,0,1,0,2,0,0,1,0,0,0,0,1,0,0,0,0,3,0,0,0,0,"n",7,0,8]
[{"$nulls":3},17,8,0,0,1,2,5,"LW","n",1059,"LW.1059kW.00125",17,3,5689,"DN100",null,3,5,0,0,1,0,0,2,0,0,0,0,1,0,0,3,5,0,0,0,0,0,0,0,1,0,1,0,0,0,0,0,0,0,1,1,1,0,null,0,1,0,1,0,1,0,8,0,8,0,0,1,0,0,1,0,2,0,0,1,0,0,0,0,1,0,0,0,0,3,0,0,0,0,"n",7,0,8]
[{"$nulls":3},18,8,0,1,0,2,5,"LW","n",1036,"LW.1036kW.01025",18,3,5689,"DN100",null,2,5,0,0,1,0,0,2,0,0,0,0,1,0,0,3,5,0,0,0,0,0,0,0,1,0,1,0,0,0,0,0,0,0,1,1,1,0,null,0,1,0,1,0,1,0,8,0,8,0,0,1,0,0,1,0,2,0,0,1,0,0,0,0,1,0,0,0,0,3,0,0,0,1,"n",7,0,8]
[{"$nulls":3},19,8,1,0,0,2,5,"LW","n",1015,"LW.1015kW.10025",19,3,5689,"DN100",null,2,5,0,0,1,0,0,2,0,0,0,0,1,0,0,3,5,0,0,0,0,0,0,0,1,0,1,0,0,0,0,0,0,0,1,1,1,0,null,0,1,0,1,0,1,0,8,0,8,0,0,1,0,0,1,0,2,0,0,1,0,0,0,0,1,0,0,0,0,3,0,0,0,1,"n",7,0,8]
[{"$nulls":3},20,8,0,0,2,1,5,"LW","n",1036,"LW.1036kW.00215",20,3,5689,"DN100",null,3,5,0,0,1,0,0,2,0,0,0,0,1,0,0,3,5,0,0,0,0,0,0,0,1,0,1,0,0,0,0,0,0,0,1,1,1,0,null,0,1,0,1,0,1,0,8,0,8,0,0,1,0,0,1,0,2,0,0,1,0,0,0,0,1,0,0,0,0,3,0,0,0,0,"n",7,0,8]
[{"$nulls":3},21,8,0,1,1,1,5,"LW","n",1013,"LW.1013kW.01115",21,4,5689,"DN100",null,2,5,0,0,1,0,0,2,0,0,0,0,1,0,0,3,5,0,0,0,0,0,0,0,1,0,1,0,0,0,0,0,0,0,1,1,1,0,null,0,1,0,1,0,1,0,8,0,8,0,0,1,0,0,1,0,2,0,0,1,0,0,0,0,1,0,0,0,0,3,0,0,0,1,"n",7,0,8]
[{"$nulls":3},22,8,1,0,1,1,5,"LW","n",993,"LW.0993kW.10115",22,4,5689,"DN100",null,2,5,0,0,1,0,0,2,0,0,0,0,1,0,0,3,5,0,0,0,0,0,0,0,1,0,1,0,0,0,0,0,0,0,1,1,1,0,null,0,1,0,1,0,1,0,8,0,8,0,0,1,0,0,1,0,2,0,0,1,0,0,0,0,1,0,0,0,0,3,0,0,0,1,"n",7,0,8]
[{"$nulls":3},23,8,0,2,0,1,5,"LW","n",991,"LW.0991kW.02015",23,3,5689,"DN100",null,1,5,0,0,1,0,0,2,0,0,0,0,1,0,0,3,5,0,0,0,0,0,0,0,1,0,1,0,0,0,0,0,0,0,1,1,1,0,null,0,1,0,1,0,1,0,8,0,8,0,0,1,0,0,1,0,2,0,0,1,0,0,0,0,1,0,0,0,0,3,0,0,0,2,"n",7,0,8]
[{"$nulls":3},24,8,1,1,0,1,5,"LW","n",970,"LW.0970kW.11015",24,4,5689,"DN100",null,1,5,0,0,1,0,0,2,0,0,0,0,1,0,0,3,5,0,0,0,0,0,0,0,1,0,1,0,0,0,0,0,0,0,1,1,1,0,null,0,1,0,1,0,1,0,8,0,8,0,0,1,0,0,1,0,2,0,0,1,0,0,0,0,1,0,0,0,0,3,0,0,0,2,"n",7,0,8]
[{"$nulls":3},25,8,2,0,0,1,5,"LW","n",949,"LW.0949kW.20015",25,3,5689,"DN100",null,1,5,0,0,1,0,0,2,0,0,0,0,1,0,0,3,5,0,0,0,0,0,0,0,1,0,1,0,0,0,0,0,0,0,1,1,1,0,null,0,1,0,1,0,1,0,8,0,8,0,0,1,0,0,1,0,2,0,0,1,0,0,0,0,1,0,0,0,0,3,0,0,0,2,"n",7,0,8]
[{"$nulls":3},26,8,0,0,3,0,5,"LW","n",1013,"LW.1013kW.00305",26,2,5689,"DN100",null,3,5,0,0,1,0,0,2,0,0,0,0,1,0,0,3,5,0,0,0,0,0,0,0,1,0,1,0,0,0,0,0,0,0,1,1,1,0,null,0,1,0,1,0,1,0,8,0,8,0,0,1,0,0,1,0,2,0,0,1,0,0,0,0,1,0,0,0,0,3,0,0,0,0,"n",7,0,8]
[{"$nulls":3},27,8,0,1,2,0,5,"LW","n",990,"LW.0990kW.01205",27,3,5689,"DN100",null,2,5,0,0,1,0,0,2,0,0,0,0,1,0,0,3,5,0,0,0,0,0,0,0,1,0,1,0,0,0,0,0,0,0,1,1,1,0,null,0,1,0,1,0,1,0,8,0,8,0,0,1,0,0,1,0,2,0,0,1,0,0,0,0,1,0,0,0,0,3,0,0,0,1,"n",7,0,8]
[{"$nulls":3},28,8,1,0,2,0,5,"LW","n",970,"LW.0970kW.10205",28,3,5689,"DN100",null,2,5,0,0,1,0,0,2,0,0,0,0,1,0,0,3,5,0,0,0,0,0,0,0,1,0,1,0,0,0,0,0,0,0,1,1,1,0,null,0,1,0,1,0,1,0,8,0,8,0,0,1,0,0,1,0,2,0,0,1,0,0,0,0,1,0,0,0,0,3,0,0,0,1,"n",7,0,8]
[{"$nulls":3},29,8,0,2,1,0,5,"LW","n",968,"LW.0968kW.02105",29,3,5689,"DN100",null,1,5,0,0,1,0,0,2,0,0,0,0,1,0,0,3,5,0,0,0,0,0,0,0,1,0,1,0,0,0,0,0,0,0,1,1,1,0,null,0,1,0,1,0,1,0,8,0,8,0,0,1,0,0,1,0,2,0,0,1,0,0,0,0,1,0,0,0,0,3,0,0,0,2,"n",7,0,8]
[{"$nulls":3},30,8,1,1,1,0,5,"LW","n",947,"LW.0947kW.11105",30,4,5689,"DN100",null,1,5,0,0,1,0,0,2,0,0,0,0,1,0,0,3,5,0,0,0,0,0,0,0,1,0,1,0,0,0,0,0,0,0,1,1,1,0,null,0,1,0,1,0,1,0,8,0,8,0,0,1,0,0,1,0,2,0,0,1,0,0,0,0,1,0,0,0,0,3,0,0,0,2,"n",7,0,8]
[{"$nulls":3},31,8,2,0,1,0,5,"LW","n",926,"LW.0926kW.20105",31,3,5689,"DN100",null,1,5,0,0,1,0,0,2,0,0,0,0,1,0,0,3,5,0,0,0,0,0,0,0,1,0,1,0,0,0,0,0,0,0,1,1,1,0,null,0,1,0,1,0,1,0,8,0,8,0,0,1,0,0,1,0,2,0,0,1,0,0,0,0,1,0,0,0,0,3,0,0,0,2,"n",7,0,8]
[{"$nulls":3},32,8,0,3,0,0,5,"LW","n",945,"LW.0945kW.03005",32,2,5689,"DN100",null,0,5,0,0,1,0,0,2,0,0,0,0,1,0,0,3,5,0,0,0,0,0,0,0,1,0,1,0,0,0,0,0,0,0,1,1,1,0,null,0,1,0,1,0,1,0,8,0,8,0,0,1,0,0,1,0,2,0,0,1,0,0,0,0,1,0,0,0,0,3,0,0,0,3,"n",7,0,8]
[{"$nulls":3},33,8,1,2,0,0,5,"LW","n",924,"LW.0924kW.12005",33,3,5689,"DN100",null,0,5,0,0,1,0,0,2,0,0,0,0,1,0,0,3,5,0,0,0,0,0,0,0,1,0,1,0,0,0,0,0,0,0,1,1,1,0,null,0,1,0,1,0,1,0,8,0,8,0,0,1,0,0,1,0,2,0,0,1,0,0,0,0,1,0,0,0,0,3,0,0,0,3,"n",7,0,8]
[{"$nulls":3},34,8,2,1,0,0,5,"LW","n",904,"LW.0904kW.21005",34,3,5689,"DN100",null,0,5,0,0,1,0,0,2,0,0,0,0,1,0,0,3,5,0,0,0,0,0,0,0,1,0,1,0,0,0,0,0,0,0,1,1,1,0,null,0,1,0,1,0,1,0,8,0,8,0,0,1,0,0,1,0,2,0,0,1,0,0,0,0,1,0,0,0,0,3,0,0,0,3,"n",7,0,8]
[{"$nulls":3},35,8,3,0,0,0,5,"LW","n",883,"LW.0883kW.30005",35,2,5689,"DN100",null,0,5,0,0,1,0,0,2,0,0,0,0,1,0,0,3,5,0,0,0,0,0,0,0,1,0,1,0,0,0,0,0,0,0,1,1,1,0,null,0,1,0,1,0,1,0,8,0,8,0,0,1,0,0,1,0,2,0,0,1,0,0,0,0,1,0,0,0,0,3,0,0,0,3,"n",7,0,8]
[{"$nulls":3},36,8,0,0,0,4,4,"LW","n",1036,"LW.1036kW.00044",36,2,5689,"DN100",null,4,4,0,0,1,0,0,2,0,0,0,0,1,0,0,4,4,0,0,0,0,0,0,0,1,0,1,0,0,0,0,0,0,0,2,0,0,1,null,0,1,0,1,0,1,0,8,0,8,0,0,1,0,0,1,0,2,0,0,1,0,0,0,0,1,0,0,0,0,4,0,0,0,0,"n",7,0,8]
[{"$nulls":3},37,8,0,0,1,3,4,"LW","n",1014,"LW.1014kW.00134",37,3,5689,"DN100",null,4,4,0,0,1,0,0,2,0,0,0,0,1,0,0,4,4,0,0,0,0,0,0,0,1,0,1,0,0,0,0,0,0,0,2,0,0,1,null,0,1,0,1,0,1,0,8,0,8,0,0,1,0,0,1,0,2,0,0,1,0,0,0,0,1,0,0,0,0,4,0,0,0,0,"n",7,0,8]
[{"$nulls":3},38,8,0,1,0,3,4,"LW","n",991,"LW.0991kW.01034",38,3,5689,"DN100",null,3,4,0,0,1,0,0,2,0,0,0,0,1,0,0,4,4,0,0,0,0,0,0,0,1,0,1,0,0,0,0,0,0,0,2,0,0,1,null,0,1,0,1,0,1,0,8,0,8,0,0,1,0,0,1,0,2,0,0,1,0,0,0,0,1,0,0,0,0,4,0,0,0,1,"n",7,0,8]
[{"$nulls":3},39,8,1,0,0,3,4,"LW","n",970,"LW.0970kW.10034",39,3,5689,"DN100",null,3,4,0,0,1,0,0,2,0,0,0,0,1,0,0,4,4,0,0,0,0,0,0,0,1,0,1,0,0,0,0,0,0,0,2,0,0,1,null,0,1,0,1,0,1,0,8,0,8,0,0,1,0,0,1,0,2,0,0,1,0,0,0,0,1,0,0,0,0,4,0,0,0,1,"n",7,0,8]
[{"$nulls":3},40,8,0,0,2,2,4,"LW","n",991,"LW.0991kW.00224",40,3,5689,"DN100",null,4,4,0,0,1,0,0,2,0,0,0,0,1,0,0,4,4,0,0,0,0,0,0,0,1,0,1,0,0,0,0,0,0,0,2,0,0,1,null,0,1,0,1,0,1,0,8,0,8,0,0,1,0,0,1,0,2,0,0,1,0,0,0,0,1,0,0,0,0,4,0,0,0,0,"n",7,0,8]
[{"$nulls":3},41,8,0,1,1,2,4,"LW","n",968,"LW.0968kW.01124",41,4,5689,"DN100",null,3,4,0,0,1,0,0,2,0,0,0,0,1,0,0,4,4,0,0,0,0,0,0,0,1,0,1,0,0,0,0,0,0,0,2,0,0,1,null,0,1,0,1,0,1,0,8,0,8,0,0,1,0,0,1,0,2,0,0,1,0,0,0,0,1,0,0,0,0,4,0,0,0,1,"n",7,0,8]
[{"$nulls":3},42,8,1,0,1,2,4,"LW","n",947,"LW.0947kW.10124",42,4,5689,"DN100",null,3,4,0,0,1,0,0,2,0,0,0,0,1,0,0,4,4,0,0,0,0,0,0,0,1,0,1,0,0,0,0,0,0,0,2,0,0,1,null,0,1,0,1,0,1,0,8,0,8,0,0,1,0,0,1,0,2,0,0,1,0,0,0,0,1,0,0,0,0,4,0,0,0,1,"n",7,0,8]
[{"$nulls":3},43,8,0,2,0,2,4,"LW","n",945,"LW.0945kW.02024",43,3,5689,"DN100",null,2,4,0,0,1,0,0,2,0,0,0,0,1,0,0,4,4,0,0,0,0,0,0,0,1,0,1,0,0,0,0,0,0,0,2,0,0,1,null,0,1,0,1,0,1,0,8,0,8,0,0,1,0,0,1,0,2,0,0,1,0,0,0,0,1,0,0,0,0,4,0,0,0,2,"n",7,0,8]
[{"$nulls":3},44,8,1,1,0,2,4,"LW","n",925,"LW.0925kW.11024",44,4,5689,"DN100",null,2,4,0,0,1,0,0,2,0,0,0,0,1,0,0,4,4,0,0,0,0,0,0,0,1,0,1,0,0,0,0,0,0,0,2,0,0,1,null,0,1,0,1,0,1,0,8,0,8,0,0,1,0,0,1,0,2,0,0,1,0,0,0,0,1,0,0,0,0,4,0,0,0,2,"n",7,0,8]
[{"$nulls":3},45,8,2,0,0,2,4,"LW","n",904,"LW.0904kW.20024",45,3,5689,"DN100",null,2,4,0,0,1,0,0,2,0,0,0,0,1,0,0,4,4,0,0,0,0,0,0,0,1,0,1,0,0,0,0,0,0,0,2,0,0,1,null,0,1,0,1,0,1,0,8,0,8,0,0,1,0,0,1,0,2,0,0,1,0,0,0,0,1,0,0,0,0,4,0,0,0,2,"n",7,0,8]
[{"$nulls":3},46,8,0,0,3,1,4,"LW","n",968,"LW.0968kW.00314",46,3,5689,"DN100",null,4,4,0,0,1,0,0,2,0,0,0,0,1,0,0,4,4,0,0,0,0,0,0,0,1,0,1,0,0,0,0,0,0,0,2,0,0,1,null,0,1,0,1,0,1,0,8,0,8,0,0,1,0,0,1,0,2,0,0,1,0,0,0,0,1,0,0,0,0,4,0,0,0,0,"n",7,0,8]
[{"$nulls":3},47,8,0,1,2,1,4,"LW","n",945,"LW.0945kW.01214",47,4,5689,"DN100",null,3,4,0,0,1,0,0,2,0,0,0,0,1,0,0,4,4,0,0,0,0,0,0,0,1,0,1,0,0,0,0,0,0,0,2,0,0,1,null,0,1,0,1,0,1,0,8,0,8,0,0,1,0,0,1,0,2,0,0,1,0,0,0,0,1,0,0,0,0,4,0,0,0,1,"n",7,0,8]
[{"$nulls":3},48,8,1,0,2,1,4,"LW","n",925,"LW.0925kW.10214",48,4,5689,"DN100",null,3,4,0,0,1,0,0,2,0,0,0,0,1,0,0,4,4,0,0,0,0,0,0,0,1,0,1,0,0,0,0,0,0,0,2,0,0,1,null,0,1,0,1,0,1,0,8,0,8,0,0,1,0,0,1,0,2,0,0,1,0,0,0,0,1,0,0,0,0,4,0,0,0,1,"n",7,0,8]
[{"$nulls":3},49,8,0,2,1,1,4,"LW","n",923,"LW.0923kW.02114",49,4,5689,"DN100",null,2,4,0,0,1,0,0,2,0,0,0,0,1,0,0,4,4,0,0,0,0,0,0,0,1,0,1,0,0,0,0,0,0,0,2,0,0,1,null,0,1,0,1,0,1,0,8,0,8,0,0,1,0,0,1,0,2,0,0,1,0,0,0,0,1,0,0,0,0,4,0,0,0,2,"n",7,0,8]
[{"$nulls":3},50,8,1,1,1,1,4,"LW","n",902,"LW.0902kW.11114",50,5,5689,"DN100",null,2,4,0,0,1,0,0,2,0,0,0,0,1,0,0,4,4,0,0,0,0,0,0,0,1,0,1,0,0,0,0,0,0,0,2,0,0,1,null,0,1,0,1,0,1,0,8,0,8,0,0,1,0,0,1,0,2,0,0,1,0,0,0,0,1,0,0,0,0,4,0,0,0,2,"n",7,0,8]
[{"$nulls":3},51,8,2,0,1,1,4,"LW","n",881,"LW.0881kW.20114",51,4,5689,"DN100",null,2,4,0,0,1,0,0,2,0,0,0,0,1,0,0,4,4,0,0,0,0,0,0,0,1,0,1,0,0,0,0,0,0,0,2,0,0,1,null,0,1,0,1,0,1,0,8,0,8,0,0,1,0,0,1,0,2,0,0,1,0,0,0,0,1,0,0,0,0,4,0,0,0,2,"n",7,0,8]
[{"$nulls":3},52,8,0,3,0,1,4,"LW","n",900,"LW.0900kW.03014",52,3,5689,"DN100",null,1,4,0,0,1,0,0,2,0,0,0,0,1,0,0,4,4,0,0,0,0,0,0,0,1,0,1,0,0,0,0,0,0,0,2,0,0,1,null,0,1,0,1,0,1,0,8,0,8,0,0,1,0,0,1,0,2,0,0,1,0,0,0,0,1,0,0,0,0,4,0,0,0,3,"n",7,0,8]
[{"$nulls":3},53,8,1,2,0,1,4,"LW","n",879,"LW.0879kW.12014",53,4,5689,"DN100",null,1,4,0,0,1,0,0,2,0,0,0,0,1,0,0,4,4,0,0,0,0,0,0,0,1,0,1,0,0,0,0,0,0,0,2,0,0,1,null,0,1,0,1,0,1,0,8,0,8,0,0,1,0,0,1,0,2,0,0,1,0,0,0,0,1,0,0,0,0,4,0,0,0,3,"n",7,0,8]
[{"$nulls":3},54,8,2,1,0,1,4,"LW","n",859,"LW.0859kW.21014",54,4,5689,"DN100",null,1,4,0,0,1,0,0,2,0,0,0,0,1,0,0,4,4,0,0,0,0,0,0,0,1,0,1,0,0,0,0,0,0,0,2,0,0,1,null,0,1,0,1,0,1,0,8,0,8,0,0,1,0,0,1,0,2,0,0,1,0,0,0,0,1,0,0,0,0,4,0,0,0,3,"n",7,0,8]
[{"$nulls":3},55,8,3,0,0,1,4,"LW","n",838,"LW.0838kW.30014",55,3,5689,"DN100",null,1,4,0,0,1,0,0,2,0,0,0,0,1,0,0,4,4,0,0,0,0,0,0,0,1,0,1,0,0,0,0,0,0,0,2,0,0,1,null,0,1,0,1,0,1,0,8,0,8,0,0,1,0,0,1,0,2,0,0,1,0,0,0,0,1,0,0,0,0,4,0,0,0,3,"n",7,0,8]
[{"$nulls":3},56,8,0,0,4,0,4,"LW","n",945,"LW.0945kW.00404",56,2,5689,"DN100",null,4,4,0,0,1,0,0,2,0,0,0,0,1,0,0,4,4,0,0,0,0,0,0,0,1,0,1,0,0,0,0,0,0,0,2,0,0,1,null,0,1,0,1,0,1,0,8,0,8,0,0,1,0,0,1,0,2,0,0,1,0,0,0,0,1,0,0,0,0,4,0,0,0,0,"n",7,0,8]
[{"$nulls":3},57,8,0,1,3,0,4,"LW","n",923,"LW.0923kW.01304",57,3,5689,"DN100",null,3,4,0,0,1,0,0,2,0,0,0,0,1,0,0,4,4,0,0,0,0,0,0,0,1,0,1,0,0,0,0,0,0,0,2,0,0,1,null,0,1,0,1,0,1,0,8,0,8,0,0,1,0,0,1,0,2,0,0,1,0,0,0,0,1,0,0,0,0,4,0,0,0,1,"n",7,0,8]
[{"$nulls":3},58,8,1,0,3,0,4,"LW","n",902,"LW.0902kW.10304",58,3,5689,"DN100",null,3,4,0,0,1,0,0,2,0,0,0,0,1,0,0,4,4,0,0,0,0,0,0,0,1,0,1,0,0,0,0,0,0,0,2,0,0,1,null,0,1,0,1,0,1,0,8,0,8,0,0,1,0,0,1,0,2,0,0,1,0,0,0,0,1,0,0,0,0,4,0,0,0,1,"n",7,0,8]
[{"$nulls":3},59,8,0,2,2,0,4,"LW","n",900,"LW.0900kW.02204",59,3,5689,"DN100",null,2,4,0,0,1,0,0,2,0,0,0,0,1,0,0,4,4,0,0,0,0,0,0,0,1,0,1,0,0,0,0,0,0,0,2,0,0,1,null,0,1,0,1,0,1,0,8,0,8,0,0,1,0,0,1,0,2,0,0,1,0,0,0,0,1,0,0,0,0,4,0,0,0,2,"n",7,0,8]
[{"$nulls":3},60,8,1,1,2,0,4,"LW","n",879,"LW.0879kW.11204",60,4,5689,"DN100",null,2,4,0,0,1,0,0,2,0,0,0,0,1,0,0,4,4,0,0,0,0,0,0,0,1,0,1,0,0,0,0,0,0,0,2,0,0,1,null,0,1,0,1,0,1,0,8,0,8,0,0,1,0,0,1,0,2,0,0,1,0,0,0,0,1,0,0,0,0,4,0,0,0,2,"n",7,0,8]
[{"$nulls":3},61,8,2,0,2,0,4,"LW","n",858,"LW.0858kW.20204",61,3,5689,"DN100",null,2,4,0,0,1,0,0,2,0,0,0,0,1,0,0,4,4,0,0,0,0,0,0,0,1,0,1,0,0,0,0,0,0,0,2,0,0,1,null,0,1,0,1,0,1,0,8,0,8,0,0,1,0,0,1,0,2,0,0,1,0,0,0,0,1,0,0,0,0,4,0,0,0,2,"n",7,0,8]
[{"$nulls":3},62,8,0,3,1,0,4,"LW","n",877,"LW.0877kW.03104",62,3,5689,"DN100",null,1,4,0,0,1,0,0,2,0,0,0,0,1,0,0,4,4,0,0,0,0,0,0,0,1,0,1,0,0,0,0,0,0,0,2,0,0,1,null,0,1,0,1,0,1,0,8,0,8,0,0,1,0,0,1,0,2,0,0,1,0,0,0,0,1,0,0,0,0,4,0,0,0,3,"n",7,0,8]
[{"$nulls":3},63,8,1,2,1,0,4,"LW","n",856,"LW.0856kW.12104",63,4,5689,"DN100",null,1,4,0,0,1,0,0,2,0,0,0,0,1,0,0,4,4,0,0,0,0,0,0,0,1,0,1,0,0,0,0,0,0,0,2,0,0,1,null,0,1,0,1,0,1,0,8,0,8,0,0,1,0,0,1,0,2,0,0,1,0,0,0,0,1,0,0,0,0,4,0,0,0,3,"n",7,0,8]
[{"$nulls":3},64,8,2,1,1,0,4,"LW","n",836,"LW.0836kW.21104",64,4,5689,"DN100",null,1,4,0,0,1,0,0,2,0,0,0,0,1,0,0,4,4,0,0,0,0,0,0,0,1,0,1,0,0,0,0,0,0,0,2,0,0,1,null,0,1,0,1,0,1,0,8,0,8,0,0,1,0,0,1,0,2,0,0,1,0,0,0,0,1,0,0,0,0,4,0,0,0,3,"n",7,0,8]
[{"$nulls":3},65,8,3,0,1,0,4,"LW","n",815,"LW.0815kW.30104",65,3,5689,"DN100",null,1,4,0,0,1,0,0,2,0,0,0,0,1,0,0,4,4,0,0,0,0,0,0,0,1,0,1,0,0,0,0,0,0,0,2,0,0,1,null,0,1,0,1,0,1,0,8,0,8,0,0,1,0,0,1,0,2,0,0,1,0,0,0,0,1,0,0,0,0,4,0,0,0,3,"n",{"$f":"E70-1","v":7},0,8]
[{"$nulls":3},66,8,0,4,0,0,4,"LW","n",{"$f":"ROUND(SUMPRODUCT($F$3:$J$3,F71:J71),0)","v":854},{"$f":"IF(M71>=1000,CONCATENATE(K71,\".\",M71,\"kW.\",F71,G71,H71,I71,J71),CONCATENATE(K71,\".0\",M71,\"kW.\",F71,G71,H71,I71,J71))","v":"LW.0854kW.04004"},66,2,5689,"DN100",null,{"$f":"I71+H71","v":0},{"$f":"J71","v":4},0,0,1,0,0,2,0,0,0,0,1,0,0,4,4,0,0,0,0,0,0,0,1,0,1,0,0,0,0,0,0,0,2,0,0,1,null,0,1,0,1,0,1,0,8,0,8,{"$f":"+BO71","v":0},0,1,0,0,1,0,2,0,0,1,0,0,0,0,1,0,0,0,0,4,0,0,0,{"$f":"F71+G71","v":4},"n",7,0,{"$f":"IF(K71<>\"RG\",E71,IF(OR(E71=4,E71=6,E71=8),0,1))","v":8}]
[{"$nulls":3},67,8,1,3,0,0,4,"LW","n",834,"LW.0834kW.13004",67,3,5689,"DN100",null,0,4,0,0,1,0,0,2,0,0,0,0,1,0,0,4,4,0,0,0,0,0,0,0,1,0,1,0,0,0,0,0,0,0,2,0,0,1,null,0,1,0,1,0,1,0,8,0,8,0,0,1,0,0,1,0,2,0,0,1,0,0,0,0,1,0,0,0,0,4,0,0,0,4,"n",7,0,8]
[{"$nulls":3},68,8,2,2,0,0,4,"LW","n",813,"LW.0813kW.22004",68,3,5689,"DN100",null,0,4,0,0,1,0,0,2,0,0,0,0,1,0,0,4,4,0,0,0,0,0,0,0,1,0,1,0,0,0,0,0,0,0,2,0,0,1,null,0,1,0,1,0,1,0,8,0,8,0,0,1,0,0,1,0,2,0,0,1,0,0,0,0,1,0,0,0,0,4,0,0,0,4,"n",7,0,8]
[{"$nulls":3},69,8,3,1,0,0,4,"LW","n",792,"LW.0792kW.31004",69,3,5689,"DN100",null,0,4,0,0,1,0,0,2,0,0,0,0,1,0,0,4,4,0,0,0,0,0,0,0,1,0,1,0,0,0,0,0,0,0,2,0,0,1,null,0,1,0,1,0,1,0,8,0,8,0,0,1,0,0,1,0,2,0,0,1,0,0,0,0,1,0,0,0,0,4,0,0,0,4,"n",7,0,8]
[{"$nulls":3},70,8,4,0,0,0,4,"LW","n",772,"LW.0772kW.40004",70,2,5689,"DN100",null,0,4,0,0,1,0,0,2,0,0,0,0,1,0,0,4,4,0,0,0,0,0,0,0,1,0,1,0,0,0,0,0,0,0,2,0,0,1,null,0,1,0,1,0,1,0,8,0,8,0,0,1,0,0,1,0,2,0,0,1,0,0,0,0,1,0,0,0,0,4,0,0,0,4,"n",7,0,8]
[{"$nulls":3},71,8,0,0,0,5,3,"LW","n",991,"LW.0991kW.00053",71,2,5689,"DN100",null,5,3,0,0,1,0,0,2,0,0,0,0,1,0,0,5,3,0,0,0,0,0,0,0,1,0,1,0,0,0,0,0,0,1,0,1,1,0,null,0,1,0,1,0,1,0,8,0,8,0,0,1,0,0,1,0,2,0,0,1,0,0,0,0,1,0,0,0,0,5,0,0,0,0,"n",7,0,8]
[{"$nulls":3},72,8,0,0,1,4,3,"LW","n",969,"LW.0969kW.00143",72,3,5689,"DN100",null,5,3,0,0,1,0,0,2,0,0,0,0,1,0,0,5,3,0,0,0,0,0,0,0,1,0,1,0,0,0,0,0,0,1,0,1,1,0,null,0,1,0,1,0,1,0,8,0,8,0,0,1,0,0,1,0,2,0,0,1,0,0,0,0,1,0,0,0,0,5,0,0,0,0,"n",7,0,8]
[{"$nulls":3},73,8,0,1,0,4,3,"LW","n",946,"LW.0946kW.01043",73,3,5689,"DN100",null,4,3,0,0,1,0,0,2,0,0,0,0,1,0,0,5,3,0,0,0,0,0,0,0,1,0,1,0,0,0,0,0,0,1,0,1,1,0,null,0,1,0,1,0,1,0,8,0,8,0,0,1,0,0,1,0,2,0,0,1,0,0,0,0,1,0,0,0,0,5,0,0,0,1,"n",7,0,8]
[{"$nulls":3},74,8,1,0,0,4,3,"LW","n",925,"LW.0925kW.10043",74,3,5689,"DN100",null,4,3,0,0,1,0,0,2,0,0,0,0,1,0,0,5,3,0,0,0,0,0,0,0,1,0,1,0,0,0,0,0,0,1,0,1,1,0,null,0,1,0,1,0,1,0,8,0,8,0,0,1,0,0,1,0,2,0,0,1,0,0,0,0,1,0,0,0,0,5,0,0,0,1,"n",7,0,8]
[{"$nulls":3},75,8,0,0,2,3,3,"LW","n",946,"LW.0946kW.00233",75,3,5689,"DN100",null,5,3,0,0,1,0,0,2,0,0,0,0,1,0,0,5,3,0,0,0,0,0,0,0,1,0,1,0,0,0,0,0,0,1,0,1,1,0,null,0,1,0,1,0,1,0,8,0,8,0,0,1,0,0,1,0,2,0,0,1,0,0,0,0,1,0,0,0,0,5,0,0,0,0,"n",7,0,8]
[{"$nulls":3},76,8,0,1,1,3,3,"LW","n",923,"LW.0923kW.01133",76,4,5689,"DN100",null,4,3,0,0,1,0,0,2,0,0,0,0,1,0,0,5,3,0,0,0,0,0,0,0,1,0,1,0,0,0,0,0,0,1,0,1,1,0,null,0,1,0,1,0,1,0,8,0,8,0,0,1,0,0,1,0,2,0,0,1,0,0,0,0,1,0,0,0,0,5,0,0,0,1,"n",7,0,8]
[{"$nulls":3},77,8,1,0,1,3,3,"LW","n",902,"LW.0902kW.10133",77,4,5689,"DN100",null,4,3,0,0,1,0,0,2,0,0,0,0,1,0,0,5,3,0,0,0,0,0,0,0,1,0,1,0,0,0,0,0,0,1,0,1,1,0,null,0,1,0,1,0,1,0,8,0,8,0,0,1,0,0,1,0,2,0,0,1,0,0,0,0,1,0,0,0,0,5,0,0,0,1,"n",7,0,8]
[{"$nulls":3},78,8,0,2,0,3,3,"LW","n",900,"LW.0900kW.02033",78,3,5689,"DN100",null,3,3,0,0,1,0,0,2,0,0,0,0,1,0,0,5,3,0,0,0,0,0,0,0,1,0,1,0,0,0,0,0,0,1,0,1,1,0,null,0,1,0,1,0,1,0,8,0,8,0,0,1,0,0,1,0,2,0,0,1,0,0,0,0,1,0,0,0,0,5,0,0,0,2,"n",7,0,8]
[{"$nulls":3},79,8,1,1,0,3,3,"LW","n",880,"LW.0880kW.11033",79,4,5689,"DN100",null,3,3,0,0,1,0,0,2,0,0,0,0,1,0,0,5,3,0,0,0,0,0,0,0,1,0,1,0,0,0,0,0,0,1,0,1,1,0,null,0,1,0,1,0,1,0,8,0,8,0,0,1,0,0,1,0,2,0,0,1,0,0,0,0,1,0,0,0,0,5,0,0,0,2,"n",7,0,8]
[{"$nulls":3},80,8,2,0,0,3,3,"LW","n",859,"LW.0859kW.20033",80,3,5689,"DN100",null,3,3,0,0,1,0,0,2,0,0,0,0,1,0,0,5,3,0,0,0,0,0,0,0,1,0,1,0,0,0,0,0,0,1,0,1,1,0,null,0,1,0,1,0,1,0,8,0,8,0,0,1,0,0,1,0,2,0,0,1,0,0,0,0,1,0,0,0,0,5,0,0,0,2,"n",7,0,8]
[{"$nulls":3},81,8,0,0,3,2,3,"LW","n",923,"LW.0923kW.00323",81,3,5689,"DN100",null,5,3,0,0,1,0,0,2,0,0,0,0,1,0,0,5,3,0,0,0,0,0,0,0,1,0,1,0,0,0,0,0,0,1,0,1,1,0,null,0,1,0,1,0,1,0,8,0,8,0,0,1,0,0,1,0,2,0,0,1,0,0,0,0,1,0,0,0,0,5,0,0,0,0,"n",7,0,8]
[{"$nulls":3},82,8,0,1,2,2,3,"LW","n",900,"LW.0900kW.01223",82,4,5689,"DN100",null,4,3,0,0,1,0,0,2,0,0,0,0,1,0,0,5,3,0,0,0,0,0,0,0,1,0,1,0,0,0,0,0,0,1,0,1,1,0,null,0,1,0,1,0,1,0,8,0,8,0,0,1,0,0,1,0,2,0,0,1,0,0,0,0,1,0,0,0,0,5,0,0,0,1,"n",7,0,8]
[{"$nulls":3},83,8,1,0,2,2,3,"LW","n",880,"LW.0880kW.10223",83,4,5689,"DN100",null,4,3,0,0,1,0,0,2,0,0,0,0,1,0,0,5,3,0,0,0,0,0,0,0,1,0,1,0,0,0,0,0,0,1,0,1,1,0,null,0,1,0,1,0,1,0,8,0,8,0,0,1,0,0,1,0,2,0,0,1,0,0,0,0,1,0,0,0,0,5,0,0,0,1,"n",7,0,8]
[{"$nulls":3},84,8,0,2,1,2,3,"LW","n",878,"LW.0878kW.02123",84,4,5689,"DN100",null,3,3,0,0,1,0,0,2,0,0,0,0,1,0,0,5,3,0,0,0,0,0,0,0,1,0,1,0,0,0,0,0,0,1,0,1,1,0,null,0,1,0,1,0,1,0,8,0,8,0,0,1,0,0,1,0,2,0,0,1,0,0,0,0,1,0,0,0,0,5,0,0,0,2,"n",7,0,8]
[{"$nulls":3},85,8,1,1,1,2,3,"LW","n",857,"LW.0857kW.11123",85,5,5689,"DN100",null,3,3,0,0,1,0,0,2,0,0,0,0,1,0,0,5,3,0,0,0,0,0,0,0,1,0,1,0,0,0,0,0,0,1,0,1,1,0,null,0,1,0,1,0,1,0,8,0,8,0,0,1,0,0,1,0,2,0,0,1,0,0,0,0,1,0,0,0,0,5,0,0,0,2,"n",7,0,8]
[{"$nulls":3},86,8,2,0,1,2,3,"LW","n",836,"LW.0836kW.20123",86,4,5689,"DN100",null,3,3,0,0,1,0,0,2,0,0,0,0,1,0,0,5,3,0,0,0,0,0,0,0,1,0,1,0,0,0,0,0,0,1,0,1,1,0,null,0,1,0,1,0,1,0,8,0,8,0,0,1,0,0,1,0,2,0,0,1,0,0,0,0,1,0,0,0,0,5,0,0,0,2,"n",7,0,8]
[{"$nulls":3},87,8,0,3,0,2,3,"LW","n",855,"LW.0855kW.03023",87,3,5689,"DN100",null,2,3,0,0,1,0,0,2,0,0,0,0,1,0,0,5,3,0,0,0,0,0,0,0,1,0,1,0,0,0,0,0,0,1,0,1,1,0,null,0,1,0,1,0,1,0,8,0,8,0,0,1,0,0,1,0,2,0,0,1,0,0,0,0,1,0,0,0,0,5,0,0,0,3,"n",7,0,8]
[{"$nulls":3},88,8,1,2,0,2,3,"LW","n",834,"LW.0834kW.12023",88,4,5689,"DN100",null,2,3,0,0,1,0,0,2,0,0,0,0,1,0,0,5,3,0,0,0,0,0,0,0,1,0,1,0,0,0,0,0,0,1,0,1,1,0,null,0,1,0,1,0,1,0,8,0,8,0,0,1,0,0,1,0,2,0,0,1,0,0,0,0,1,0,0,0,0,5,0,0,0,3,"n",7,0,8]
[{"$nulls":3},89,8,2,1,0,2,3,"LW","n",813,"LW.0813kW.21023",89,4,5689,"DN100",null,2,3,0,0,1,0,0,2,0,0,0,0,1,0,0,5,3,0,0,0,0,0,0,0,1,0,1,0,0,0,0,0,0,1,0,1,1,0,null,0,1,0,1,0,1,0,8,0,8,0,0,1,0,0,1,0,2,0,0,1,0,0,0,0,1,0,0,0,0,5,0,0,0,3,"n",7,0,8]
[{"$nulls":3},90,8,3,0,0,2,3,"LW","n",793,"LW.0793kW.30023",90,3,5689,"DN100",null,2,3,0,0,1,0,0,2,0,0,0,0,1,0,0,5,3,0,0,0,0,0,0,0,1,0,1,0,0,0,0,0,0,1,0,1,1,0,null,0,1,0,1,0,1,0,8,0,8,0,0,1,0,0,1,0,2,0,0,1,0,0,0,0,1,0,0,0,0,5,0,0,0,3,"n",7,0,8]
[{"$nulls":3},91,8,0,0,4,1,3,"LW","n",900,"LW.0900kW.00413",91,3,5689,"DN100",null,5,3,0,0,1,0,0,2,0,0,0,0,1,0,0,5,3,0,0,0,0,0,0,0,1,0,1,0,0,0,0,0,0,1,0,1,1,0,null,0,1,0,1,0,1,0,8,0,8,0,0,1,0,0,1,0,2,0,0,1,0,0,0,0,1,0,0,0,0,5,0,0,0,0,"n",7,0,8]
[{"$nulls":3},92,8,0,1,3,1,3,"LW","n",877,"LW.0877kW.01313",92,4,5689,"DN100",null,4,3,0,0,1,0,0,2,0,0,0,0,1,0,0,5,3,0,0,0,0,0,0,0,1,0,1,0,0,0,0,0,0,1,0,1,1,0,null,0,1,0,1,0,1,0,8,0,8,0,0,1,0,0,1,0,2,0,0,1,0,0,0,0,1,0,0,0,0,5,0,0,0,1,"n",7,0,8]
[{"$nulls":3},93,8,1,0,3,1,3,"LW","n",857,"LW.0857kW.10313",93,4,5689,"DN100",null,4,3,0,0,1,0,0,2,0,0,0,0,1,0,0,5,3,0,0,0,0,0,0,0,1,0,1,0,0,0,0,0,0,1,0,1,1,0,null,0,1,0,1,0,1,0,8,0,8,0,0,1,0,0,1,0,2,0,0,1,0,0,0,0,1,0,0,0,0,5,0,0,0,1,"n",7,0,8]
[{"$nulls":3},94,8,0,2,2,1,3,"LW","n",855,"LW.0855kW.02213",94,4,5689,"DN100",null,3,3,0,0,1,0,0,2,0,0,0,0,1,0,0,5,3,0,0,0,0,0,0,0,1,0,1,0,0,0,0,0,0,1,0,1,1,0,null,0,1,0,1,0,1,0,8,0,8,0,0,1,0,0,1,0,2,0,0,1,0,0,0,0,1,0,0,0,0,5,0,0,0,2,"n",7,0,8]
[{"$nulls":3},95,8,1,1,2,1,3,"LW","n",834,"LW.0834kW.11213",95,5,5689,"DN100",null,3,3,0,0,1,0,0,2,0,0,0,0,1,0,0,5,3,0,0,0,0,0,0,0,1,0,1,0,0,0,0,0,0,1,0,1,1,0,null,0,1,0,1,0,1,0,8,0,8,0,0,1,0,0,1,0,2,0,0,1,0,0,0,0,1,0,0,0,0,5,0,0,0,2,"n",7,0,8]
[{"$nulls":3},96,8,2,0,2,1,3,"LW","n",813,"LW.0813kW.20213",96,4,5689,"DN100",null,3,3,0,0,1,0,0,2,0,0,0,0,1,0,0,5,3,0,0,0,0,0,0,0,1,0,1,0,0,0,0,0,0,1,0,1,1,0,null,0,1,0,1,0,1,0,8,0,8,0,0,1,0,0,1,0,2,0,0,1,0,0,0,0,1,0,0,0,0,5,0,0,0,2,"n",7,0,8]
[{"$nulls":3},97,8,0,3,1,1,3,"LW","n",832,"LW.0832kW.03113",97,4,5689,"DN100",null,2,3,0,0,1,0,0,2,0,0,0,0,1,0,0,5,3,0,0,0,0,0,0,0,1,0,1,0,0,0,0,0,0,1,0,1,1,0,null,0,1,0,1,0,1,0,8,0,8,0,0,1,0,0,1,0,2,0,0,1,0,0,0,0,1,0,0,0,0,5,0,0,0,3,"n",7,0,8]
[{"$nulls":3},98,8,1,2,1,1,3,"LW","n",811,"LW.0811kW.12113",98,5,5689,"DN100",null,2,3,0,0,1,0,0,2,0,0,0,0,1,0,0,5,3,0,0,0,0,0,0,0,1,0,1,0,0,0,0,0,0,1,0,1,1,0,null,0,1,0,1,0,1,0,8,0,8,0,0,1,0,0,1,0,2,0,0,1,0,0,0,0,1,0,0,0,0,5,0,0,0,3,"n",7,0,8]
[{"$nulls":3},99,8,2,1,1,1,3,"LW","n",791,"LW.0791kW.21113",99,5,5689,"DN100",null,2,3,0,0,1,0,0,2,0,0,0,0,1,0,0,5,3,0,0,0,0,0,0,0,1,0,1,0,0,0,0,0,0,1,0,1,1,0,null,0,1,0,1,0,1,0,8,0,8,0,0,1,0,0,1,0,2,0,0,1,0,0,0,0,1,0,0,0,0,5,0,0,0,3,"n",7,0,8]
[{"$nulls":3},100,8,3,0,1,1,3,"LW","n",770,"LW.0770kW.30113",100,4,5689,"DN100",null,2,3,0,0,1,0,0,2,0,0,0,0,1,0,0,5,3,0,0,0,0,0,0,0,1,0,1,0,0,0,0,0,0,1,0,1,1,0,null,0,1,0,1,0,1,0,8,0,8,0,0,1,0,0,1,0,2,0,0,1,0,0,0,0,1,0,0,0,0,5,0,0,0,3,"n",7,0,8]
[{"$nulls":3},101,8,0,4,0,1,3,"LW","n",809,"LW.0809kW.04013",101,3,5689,"DN100",null,1,3,0,0,1,0,0,2,0,0,0,0,1,0,0,5,3,0,0,0,0,0,0,0,1,0,1,0,0,0,0,0,0,1,0,1,1,0,null,0,1,0,1,0,1,0,8,0,8,0,0,1,0,0,1,0,2,0,0,1,0,0,0,0,1,0,0,0,0,5,0,0,0,4,"n",7,0,8]
[{"$nulls":3},102,8,1,3,0,1,3,"LW","n",789,"LW.0789kW.13013",102,4,5689,"DN100",null,1,3,0,0,1,0,0,2,0,0,0,0,1,0,0,5,3,0,0,0,0,0,0,0,1,0,1,0,0,0,0,0,0,1,0,1,1,0,null,0,1,0,1,0,1,0,8,0,8,0,0,1,0,0,1,0,2,0,0,1,0,0,0,0,1,0,0,0,0,5,0,0,0,4,"n",7,0,8]
[{"$nulls":3},103,8,2,2,0,1,3,"LW","n",768,"LW.0768kW.22013",103,4,5689,"DN100",null,1,3,0,0,1,0,0,2,0,0,0,0,1,0,0,5,3,0,0,0,0,0,0,0,1,0,1,0,0,0,0,0,0,1,0,1,1,0,null,0,1,0,1,0,1,0,8,0,8,0,0,1,0,0,1,0,2,0,0,1,0,0,0,0,1,0,0,0,0,5,0,0,0,4,"n",7,0,8]
[{"$nulls":3},104,8,3,1,0,1,3,"LW","n",747,"LW.0747kW.31013",104,4,5689,"DN100",null,1,3,0,0,1,0,0,2,0,0,0,0,1,0,0,5,3,0,0,0,0,0,0,0,1,0,1,0,0,0,0,0,0,1,0,1,1,0,null,0,1,0,1,0,1,0,8,0,8,0,0,1,0,0,1,0,2,0,0,1,0,0,0,0,1,0,0,0,0,5,0,0,0,4,"n",7,0,8]
[{"$nulls":3},105,8,4,0,0,1,3,"LW","n",727,"LW.0727kW.40013",105,3,5689,"DN100",null,1,3,0,0,1,0,0,2,0,0,0,0,1,0,0,5,3,0,0,0,0,0,0,0,1,0,1,0,0,0,0,0,0,1,0,1,1,0,null,0,1,0,1,0,1,0,8,0,8,0,0,1,0,0,1,0,2,0,0,1,0,0,0,0,1,0,0,0,0,5,0,0,0,4,"n",7,0,8]
[{"$nulls":3},106,8,0,0,5,0,3,"LW","n",877,"LW.0877kW.00503",106,2,5689,"DN100",null,5,3,0,0,1,0,0,2,0,0,0,0,1,0,0,5,3,0,0,0,0,0,0,0,1,0,1,0,0,0,0,0,0,1,0,1,1,0,null,0,1,0,1,0,1,0,8,0,8,0,0,1,0,0,1,0,2,0,0,1,0,0,0,0,1,0,0,0,0,5,0,0,0,0,"n",7,0,8]
[{"$nulls":3},107,8,0,1,4,0,3,"LW","n",855,"LW.0855kW.01403",107,3,5689,"DN100",null,4,3,0,0,1,0,0,2,0,0,0,0,1,0,0,5,3,0,0,0,0,0,0,0,1,0,1,0,0,0,0,0,0,1,0,1,1,0,null,0,1,0,1,0,1,0,8,0,8,0,0,1,0,0,1,0,2,0,0,1,0,0,0,0,1,0,0,0,0,5,0,0,0,1,"n",7,0,8]
[{"$nulls":3},108,8,1,0,4,0,3,"LW","n",834,"LW.0834kW.10403",108,3,5689,"DN100",null,4,3,0,0,1,0,0,2,0,0,0,0,1,0,0,5,3,0,0,0,0,0,0,0,1,0,1,0,0,0,0,0,0,1,0,1,1,0,null,0,1,0,1,0,1,0,8,0,8,0,0,1,0,0,1,0,2,0,0,1,0,0,0,0,1,0,0,0,0,5,0,0,0,1,"n",7,0,8]
[{"$nulls":3},109,8,0,2,3,0,3,"LW","n",832,"LW.0832kW.02303",109,3,5689,"DN100",null,3,3,0,0,1,0,0,2,0,0,0,0,1,0,0,5,3,0,0,0,0,0,0,0,1,0,1,0,0,0,0,0,0,1,0,1,1,0,null,0,1,0,1,0,1,0,8,0,8,0,0,1,0,0,1,0,2,0,0,1,0,0,0,0,1,0,0,0,0,5,0,0,0,2,"n",7,0,8]
[{"$nulls":3},110,8,1,1,3,0,3,"LW","n",811,"LW.0811kW.11303",110,4,5689,"DN100",null,3,3,0,0,1,0,0,2,0,0,0,0,1,0,0,5,3,0,0,0,0,0,0,0,1,0,1,0,0,0,0,0,0,1,0,1,1,0,null,0,1,0,1,0,1,0,8,0,8,0,0,1,0,0,1,0,2,0,0,1,0,0,0,0,1,0,0,0,0,5,0,0,0,2,"n",7,0,8]
[{"$nulls":3},111,8,2,0,3,0,3,"LW","n",791,"LW.0791kW.20303",111,3,5689,"DN100",null,3,3,0,0,1,0,0,2,0,0,0,0,1,0,0,5,3,0,0,0,0,0,0,0,1,0,1,0,0,0,0,0,0,1,0,1,1,0,null,0,1,0,1,0,1,0,8,0,8,0,0,1,0,0,1,0,2,0,0,1,0,0,0,0,1,0,0,0,0,5,0,0,0,2,"n",7,0,8]
[{"$nulls":3},112,8,0,3,2,0,3,"LW","n",809,"LW.0809kW.03203",112,3,5689,"DN100",null,2,3,0,0,1,0,0,2,0,0,0,0,1,0,0,5,3,0,0,0,0,0,0,0,1,0,1,0,0,0,0,0,0,1,0,1,1,0,null,0,1,0,1,0,1,0,8,0,8,0,0,1,0,0,1,0,2,0,0,1,0,0,0,0,1,0,0,0,0,5,0,0,0,3,"n",7,0,8]
[{"$nulls":3},113,8,1,2,2,0,3,"LW","n",789,"LW.0789kW.12203",113,4,5689,"DN100",null,2,3,0,0,1,0,0,2,0,0,0,0,1,0,0,5,3,0,0,0,0,0,0,0,1,0,1,0,0,0,0,0,0,1,0,1,1,0,null,0,1,0,1,0,1,0,8,0,8,0,0,1,0,0,1,0,2,0,0,1,0,0,0,0,1,0,0,0,0,5,0,0,0,3,"n",7,0,8]
[{"$nulls":3},114,8,2,1,2,0,3,"LW","n",768,"LW.0768kW.21203",114,4,5689,"DN100",null,2,3,0,0,1,0,0,2,0,0,0,0,1,0,0,5,3,0,0,0,0,0,0,0,1,0,1,0,0,0,0,0,0,1,0,1,1,0,null,0,1,0,1,0,1,0,8,0,8,0,0,1,0,0,1,0,2,0,0,1,0,0,0,0,1,0,0,0,0,5,0,0,0,3,"n",7,0,8]
[{"$nulls":3},115,8,3,0,2,0,3,"LW","n",747,"LW.0747kW.30203",115,3,5689,"DN100",null,2,3,0,0,1,0,0,2,0,0,0,0,1,0,0,5,3,0,0,0,0,0,0,0,1,0,1,0,0,0,0,0,0,1,0,1,1,0,null,0,1,0,1,0,1,0,8,0,8,0,0,1,0,0,1,0,2,0,0,1,0,0,0,0,1,0,0,0,0,5,0,0,0,3,"n",7,0,8]
[{"$nulls":3},116,8,0,4,1,0,3,"LW","n",787,"LW.0787kW.04103",116,3,5689,"DN100",null,1,3,0,0,1,0,0,2,0,0,0,0,1,0,0,5,3,0,0,0,0,0,0,0,1,0,1,0,0,0,0,0,0,1,0,1,1,0,null,0,1,0,1,0,1,0,8,0,8,0,0,1,0,0,1,0,2,0,0,1,0,0,0,0,1,0,0,0,0,5,0,0,0,4,"n",7,0,8]
[{"$nulls":3},117,8,1,3,1,0,3,"LW","n",766,"LW.0766kW.13103",117,4,5689,"DN100",null,1,3,0,0,1,0,0,2,0,0,0,0,1,0,0,5,3,0,0,0,0,0,0,0,1,0,1,0,0,0,0,0,0,1,0,1,1,0,null,0,1,0,1,0,1,0,8,0,8,0,0,1,0,0,1,0,2,0,0,1,0,0,0,0,1,0,0,0,0,5,0,0,0,4,"n",7,0,8]
[{"$nulls":3},118,8,2,2,1,0,3,"LW","n",745,"LW.0745kW.22103",118,4,5689,"DN100",null,1,3,0,0,1,0,0,2,0,0,0,0,1,0,0,5,3,0,0,0,0,0,0,0,1,0,1,0,0,0,0,0,0,1,0,1,1,0,null,0,1,0,1,0,1,0,8,0,8,0,0,1,0,0,1,0,2,0,0,1,0,0,0,0,1,0,0,0,0,5,0,0,0,4,"n",7,0,8]
[{"$nulls":3},119,8,3,1,1,0,3,"LW","n",724,"LW.0724kW.31103",119,4,5689,"DN100",null,1,3,0,0,1,0,0,2,0,0,0,0,1,0,0,5,3,0,0,0,0,0,0,0,1,0,1,0,0,0,0,0,0,1,0,1,1,0,null,0,1,0,1,0,1,0,8,0,8,0,0,1,0,0,1,0,2,0,0,1,0,0,0,0,1,0,0,0,0,5,0,0,0,4,"n",7,0,8]
[{"$nulls":3},120,8,4,0,1,0,3,"LW","n",704,"LW.0704kW.40103",120,3,5689,"DN100",null,1,3,0,0,1,0,0,2,0,0,0,0,1,0,0,5,3,0,0,0,0,0,0,0,1,0,1,0,0,0,0,0,0,1,0,1,1,0,null,0,1,0,1,0,1,0,8,0,8,0,0,1,0,0,1,0,2,0,0,1,0,0,0,0,1,0,0,0,0,5,0,0,0,4,"n",7,0,8]
[{"$nulls":3},121,8,0,5,0,0,3,"LW","n",764,"LW.0764kW.05003",121,2,5689,"DN100",null,0,3,0,0,1,0,0,2,0,0,0,0,1,0,0,5,3,0,0,0,0,0,0,0,1,0,1,0,0,0,0,0,0,1,0,1,1,0,null,0,1,0,1,0,1,0,8,0,8,0,0,1,0,0,1,0,2,0,0,1,0,0,0,0,1,0,0,0,0,5,0,0,0,5,"n",7,0,8]
[{"$nulls":3},122,8,1,4,0,0,3,"LW","n",743,"LW.0743kW.14003",122,3,5689,"DN100",null,0,3,0,0,1,0,0,2,0,0,0,0,1,0,0,5,3,0,0,0,0,0,0,0,1,0,1,0,0,0,0,0,0,1,0,1,1,0,null,0,1,0,1,0,1,0,8,0,8,0,0,1,0,0,1,0,2,0,0,1,0,0,0,0,1,0,0,0,0,5,0,0,0,5,"n",7,0,8]
[{"$nulls":3},123,8,2,3,0,0,3,"LW","n",722,"LW.0722kW.23003",123,3,5689,"DN100",null,0,3,0,0,1,0,0,2,0,0,0,0,1,0,0,5,3,0,0,0,0,0,0,0,1,0,1,0,0,0,0,0,0,1,0,1,1,0,null,0,1,0,1,0,1,0,8,0,8,0,0,1,0,0,1,0,2,0,0,1,0,0,0,0,1,0,0,0,0,5,0,0,0,5,"n",7,0,8]
[{"$nulls":3},124,8,3,2,0,0,3,"LW","n",702,"LW.0702kW.32003",124,3,5689,"DN100",null,0,3,0,0,1,0,0,2,0,0,0,0,1,0,0,5,3,0,0,0,0,0,0,0,1,0,1,0,0,0,0,0,0,1,0,1,1,0,null,0,1,0,1,0,1,0,8,0,8,0,0,1,0,0,1,0,2,0,0,1,0,0,0,0,1,0,0,0,0,5,0,0,0,5,"n",7,0,8]
[{"$nulls":3},125,8,4,1,0,0,3,"LW","n",681,"LW.0681kW.41003",125,3,5689,"DN100",null,0,3,0,0,1,0,0,2,0,0,0,0,1,0,0,5,3,0,0,0,0,0,0,0,1,0,1,0,0,0,0,0,0,1,0,1,1,0,null,0,1,0,1,0,1,0,8,0,8,0,0,1,0,0,1,0,2,0,0,1,0,0,0,0,1,0,0,0,0,5,0,0,0,5,"n",7,0,8]
[{"$nulls":3},126,8,5,0,0,0,3,"LW","n",660,"LW.0660kW.50003",126,2,5689,"DN100",null,0,3,0,0,1,0,0,2,0,0,0,0,1,0,0,5,3,0,0,0,0,0,0,0,1,0,1,0,0,0,0,0,0,1,0,1,1,0,null,0,1,0,1,0,1,0,8,0,8,0,0,1,0,0,1,0,2,0,0,1,0,0,0,0,1,0,0,0,0,5,0,0,0,5,"n",7,0,8]
[{"$nulls":3},127,8,0,0,0,6,2,"LW","n",946,"LW.0946kW.00062",127,2,5689,"DN100",null,6,2,0,0,1,0,0,2,0,0,0,0,1,0,0,6,2,0,0,0,0,0,0,0,1,0,1,0,0,0,0,0,0,0,1,2,0,0,null,0,1,0,1,0,1,0,8,0,8,0,0,1,0,0,1,0,2,0,0,1,0,0,0,0,1,0,0,0,0,6,0,0,0,0,"n",7,0,8]
[{"$nulls":3},128,8,0,0,1,5,2,"LW","n",923,"LW.0923kW.00152",128,3,5689,"DN100",null,6,2,0,0,1,0,0,2,0,0,0,0,1,0,0,6,2,0,0,0,0,0,0,0,1,0,1,0,0,0,0,0,0,0,1,2,0,0,null,0,1,0,1,0,1,0,8,0,8,0,0,1,0,0,1,0,2,0,0,1,0,0,0,0,1,0,0,0,0,6,0,0,0,0,"n",7,0,8]
[{"$nulls":3},129,8,0,1,0,5,2,"LW","n",901,"LW.0901kW.01052",129,3,5689,"DN100",null,5,2,0,0,1,0,0,2,0,0,0,0,1,0,0,6,2,0,0,0,0,0,0,0,1,0,1,0,0,0,0,0,0,0,1,2,0,0,null,0,1,0,1,0,1,0,8,0,8,0,0,1,0,0,1,0,2,0,0,1,0,0,0,0,1,0,0,0,0,6,0,0,0,1,"n",{"$f":"E134-1","v":7},0,8]
[{"$nulls":3},130,8,1,0,0,5,2,"LW","n",{"$f":"ROUND(SUMPRODUCT($F$3:$J$3,F135:J135),0)","v":880},{"$f":"IF(M135>=1000,CONCATENATE(K135,\".\",M135,\"kW.\",F135,G135,H135,I135,J135),CONCATENATE(K135,\".0\",M135,\"kW.\",F135,G135,H135,I135,J135))","v":"LW.0880kW.10052"},130,3,5689,"DN100",null,{"$f":"I135+H135","v":5},{"$f":"J135","v":2},0,0,1,0,0,2,0,0,0,0,1,0,0,6,2,0,0,0,0,0,0,0,1,0,1,0,0,0,0,0,0,0,1,2,0,0,null,0,1,0,1,0,1,0,8,0,8,{"$f":"+BO135","v":0},0,1,0,0,1,0,2,0,0,1,0,0,0,0,1,0,0,0,0,6,0,0,0,{"$f":"F135+G135","v":1},"n",7,0,{"$f":"IF(K135<>\"RG\",E135,IF(OR(E135=4,E135=6,E135=8),0,1))","v":8}]
[{"$nulls":3},131,8,0,0,2,4,2,"LW","n",901,"LW.0901kW.00242",131,3,5689,"DN100",null,6,2,0,0,1,0,0,2,0,0,0,0,1,0,0,6,2,0,0,0,0,0,0,0,1,0,1,0,0,0,0,0,0,0,1,2,0,0,null,0,1,0,1,0,1,0,8,0,8,0,0,1,0,0,1,0,2,0,0,1,0,0,0,0,1,0,0,0,0,6,0,0,0,0,"n",7,0,8]
[{"$nulls":3},132,8,0,1,1,4,2,"LW","n",878,"LW.0878kW.01142",132,4,5689,"DN100",null,5,2,0,0,1,0,0,2,0,0,0,0,1,0,0,6,2,0,0,0,0,0,0,0,1,0,1,0,0,0,0,0,0,0,1,2,0,0,null,0,1,0,1,0,1,0,8,0,8,0,0,1,0,0,1,0,2,0,0,1,0,0,0,0,1,0,0,0,0,6,0,0,0,1,"n",7,0,8]
[{"$nulls":3},133,8,1,0,1,4,2,"LW","n",857,"LW.0857kW.10142",133,4,5689,"DN100",null,5,2,0,0,1,0,0,2,0,0,0,0,1,0,0,6,2,0,0,0,0,0,0,0,1,0,1,0,0,0,0,0,0,0,1,2,0,0,null,0,1,0,1,0,1,0,8,0,8,0,0,1,0,0,1,0,2,0,0,1,0,0,0,0,1,0,0,0,0,6,0,0,0,1,"n",7,0,8]
[{"$nulls":3},134,8,0,2,0,4,2,"LW","n",855,"LW.0855kW.02042",134,3,5689,"DN100",null,4,2,0,0,1,0,0,2,0,0,0,0,1,0,0,6,2,0,0,0,0,0,0,0,1,0,1,0,0,0,0,0,0,0,1,2,0,0,null,0,1,0,1,0,1,0,8,0,8,0,0,1,0,0,1,0,2,0,0,1,0,0,0,0,1,0,0,0,0,6,0,0,0,2,"n",7,0,8]
[{"$nulls":3},135,8,1,1,0,4,2,"LW","n",835,"LW.0835kW.11042",135,4,5689,"DN100",null,4,2,0,0,1,0,0,2,0,0,0,0,1,0,0,6,2,0,0,0,0,0,0,0,1,0,1,0,0,0,0,0,0,0,1,2,0,0,null,0,1,0,1,0,1,0,8,0,8,0,0,1,0,0,1,0,2,0,0,1,0,0,0,0,1,0,0,0,0,6,0,0,0,2,"n",7,0,8]
[{"$nulls":3},136,8,2,0,0,4,2,"LW","n",814,"LW.0814kW.20042",136,3,5689,"DN100",null,4,2,0,0,1,0,0,2,0,0,0,0,1,0,0,6,2,0,0,0,0,0,0,0,1,0,1,0,0,0,0,0,0,0,1,2,0,0,null,0,1,0,1,0,1,0,8,0,8,0,0,1,0,0,1,0,2,0,0,1,0,0,0,0,1,0,0,0,0,6,0,0,0,2,"n",7,0,8]
[{"$nulls":3},137,8,0,0,3,3,2,"LW","n",878,"LW.0878kW.00332",137,3,5689,"DN100",null,6,2,0,0,1,0,0,2,0,0,0,0,1,0,0,6,2,0,0,0,0,0,0,0,1,0,1,0,0,0,0,0,0,0,1,2,0,0,null,0,1,0,1,0,1,0,8,0,8,0,0,1,0,0,1,0,2,0,0,1,0,0,0,0,1,0,0,0,0,6,0,0,0,0,"n",7,0,8]
[{"$nulls":3},138,8,0,1,2,3,2,"LW","n",855,"LW.0855kW.01232",138,4,5689,"DN100",null,5,2,0,0,1,0,0,2,0,0,0,0,1,0,0,6,2,0,0,0,0,0,0,0,1,0,1,0,0,0,0,0,0,0,1,2,0,0,null,0,1,0,1,0,1,0,8,0,8,0,0,1,0,0,1,0,2,0,0,1,0,0,0,0,1,0,0,0,0,6,0,0,0,1,"n",7,0,8]
[{"$nulls":3},139,8,1,0,2,3,2,"LW","n",834,"LW.0834kW.10232",139,4,5689,"DN100",null,5,2,0,0,1,0,0,2,0,0,0,0,1,0,0,6,2,0,0,0,0,0,0,0,1,0,1,0,0,0,0,0,0,0,1,2,0,0,null,0,1,0,1,0,1,0,8,0,8,0,0,1,0,0,1,0,2,0,0,1,0,0,0,0,1,0,0,0,0,6,0,0,0,1,"n",7,0,8]
[{"$nulls":3},140,8,0,2,1,3,2,"LW","n",832,"LW.0832kW.02132",140,4,5689,"DN100",null,4,2,0,0,1,0,0,2,0,0,0,0,1,0,0,6,2,0,0,0,0,0,0,0,1,0,1,0,0,0,0,0,0,0,1,2,0,0,null,0,1,0,1,0,1,0,8,0,8,0,0,1,0,0,1,0,2,0,0,1,0,0,0,0,1,0,0,0,0,6,0,0,0,2,"n",7,0,8]
[{"$nulls":3},141,8,1,1,1,3,2,"LW","n",812,"LW.0812kW.11132",141,5,5689,"DN100",null,4,2,0,0,1,0,0,2,0,0,0,0,1,0,0,6,2,0,0,0,0,0,0,0,1,0,1,0,0,0,0,0,0,0,1,2,0,0,null,0,1,0,1,0,1,0,8,0,8,0,0,1,0,0,1,0,2,0,0,1,0,0,0,0,1,0,0,0,0,6,0,0,0,2,"n",7,0,8]
[{"$nulls":3},142,8,2,0,1,3,2,"LW","n",791,"LW.0791kW.20132",142,4,5689,"DN100",null,4,2,0,0,1,0,0,2,0,0,0,0,1,0,0,6,2,0,0,0,0,0,0,0,1,0,1,0,0,0,0,0,0,0,1,2,0,0,null,0,1,0,1,0,1,0,8,0,8,0,0,1,0,0,1,0,2,0,0,1,0,0,0,0,1,0,0,0,0,6,0,0,0,2,"n",7,0,8]
[{"$nulls":3},143,8,0,3,0,3,2,"LW","n",810,"LW.0810kW.03032",143,3,5689,"DN100",null,3,2,0,0,1,0,0,2,0,0,0,0,1,0,0,6,2,0,0,0,0,0,0,0,1,0,1,0,0,0,0,0,0,0,1,2,0,0,null,0,1,0,1,0,1,0,8,0,8,0,0,1,0,0,1,0,2,0,0,1,0,0,0,0,1,0,0,0,0,6,0,0,0,3,"n",7,0,8]
[{"$nulls":3},144,8,1,2,0,3,2,"LW","n",789,"LW.0789kW.12032",144,4,5689,"DN100",null,3,2,0,0,1,0,0,2,0,0,0,0,1,0,0,6,2,0,0,0,0,0,0,0,1,0,1,0,0,0,0,0,0,0,1,2,0,0,null,0,1,0,1,0,1,0,8,0,8,0,0,1,0,0,1,0,2,0,0,1,0,0,0,0,1,0,0,0,0,6,0,0,0,3,"n",7,0,8]
[{"$nulls":3},145,8,2,1,0,3,2,"LW","n",768,"LW.0768kW.21032",145,4,5689,"DN100",null,3,2,0,0,1,0,0,2,0,0,0,0,1,0,0,6,2,0,0,0,0,0,0,0,1,0,1,0,0,0,0,0,0,0,1,2,0,0,null,0,1,0,1,0,1,0,8,0,8,0,0,1,0,0,1,0,2,0,0,1,0,0,0,0,1,0,0,0,0,6,0,0,0,3,"n",7,0,8]
[{"$nulls":3},146,8,3,0,0,3,2,"LW","n",748,"LW.0748kW.30032",146,3,5689,"DN100",null,3,2,0,0,1,0,0,2,0,0,0,0,1,0,0,6,2,0,0,0,0,0,0,0,1,0,1,0,0,0,0,0,0,0,1,2,0,0,null,0,1,0,1,0,1,0,8,0,8,0,0,1,0,0,1,0,2,0,0,1,0,0,0,0,1,0,0,0,0,6,0,0,0,3,"n",7,0,8]
[{"$nulls":3},147,8,0,0,4,2,2,"LW","n",855,"LW.0855kW.00422",147,3,5689,"DN100",null,6,2,0,0,1,0,0,2,0,0,0,0,1,0,0,6,2,0,0,0,0,0,0,0,1,0,1,0,0,0,0,0,0,0,1,2,0,0,null,0,1,0,1,0,1,0,8,0,8,0,0,1,0,0,1,0,2,0,0,1,0,0,0,0,1,0,0,0,0,6,0,0,0,0,"n",7,0,8]
[{"$nulls":3},148,8,0,1,3,2,2,"LW","n",832,"LW.0832kW.01322",148,4,5689,"DN100",null,5,2,0,0,1,0,0,2,0,0,0,0,1,0,0,6,2,0,0,0,0,0,0,0,1,0,1,0,0,0,0,0,0,0,1,2,0,0,null,0,1,0,1,0,1,0,8,0,8,0,0,1,0,0,1,0,2,0,0,1,0,0,0,0,1,0,0,0,0,6,0,0,0,1,"n",7,0,8]
[{"$nulls":3},149,8,1,0,3,2,2,"LW","n",812,"LW.0812kW.10322",149,4,5689,"DN100",null,5,2,0,0,1,0,0,2,0,0,0,0,1,0,0,6,2,0,0,0,0,0,0,0,1,0,1,0,0,0,0,0,0,0,1,2,0,0,null,0,1,0,1,0,1,0,8,0,8,0,0,1,0,0,1,0,2,0,0,1,0,0,0,0,1,0,0,0,0,6,0,0,0,1,"n",7,0,8]
[{"$nulls":3},150,8,0,2,2,2,2,"LW","n",810,"LW.0810kW.02222",150,4,5689,"DN100",null,4,2,0,0,1,0,0,2,0,0,0,0,1,0,0,6,2,0,0,0,0,0,0,0,1,0,1,0,0,0,0,0,0,0,1,2,0,0,null,0,1,0,1,0,1,0,8,0,8,0,0,1,0,0,1,0,2,0,0,1,0,0,0,0,1,0,0,0,0,6,0,0,0,2,"n",7,0,8]
[{"$nulls":3},151,8,1,1,2,2,2,"LW","n",789,"LW.0789kW.11222",151,5,5689,"DN100",null,4,2,0,0,1,0,0,2,0,0,0,0,1,0,0,6,2,0,0,0,0,0,0,0,1,0,1,0,0,0,0,0,0,0,1,2,0,0,null,0,1,0,1,0,1,0,8,0,8,0,0,1,0,0,1,0,2,0,0,1,0,0,0,0,1,0,0,0,0,6,0,0,0,2,"n",7,0,8]
[{"$nulls":3},152,8,2,0,2,2,2,"LW","n",768,"LW.0768kW.20222",152,4,5689,"DN100",null,4,2,0,0,1,0,0,2,0,0,0,0,1,0,0,6,2,0,0,0,0,0,0,0,1,0,1,0,0,0,0,0,0,0,1,2,0,0,null,0,1,0,1,0,1,0,8,0,8,0,0,1,0,0,1,0,2,0,0,1,0,0,0,0,1,0,0,0,0,6,0,0,0,2,"n",7,0,8]
[{"$nulls":3},153,8,0,3,1,2,2,"LW","n",787,"LW.0787kW.03122",153,4,5689,"DN100",null,3,2,0,0,1,0,0,2,0,0,0,0,1,0,0,6,2,0,0,0,0,0,0,0,1,0,1,0,0,0,0,0,0,0,1,2,0,0,null,0,1,0,1,0,1,0,8,0,8,0,0,1,0,0,1,0,2,0,0,1,0,0,0,0,1,0,0,0,0,6,0,0,0,3,"n",7,0,8]
[{"$nulls":3},154,8,1,2,1,2,2,"LW","n",766,"LW.0766kW.12122",154,5,5689,"DN100",null,3,2,0,0,1,0,0,2,0,0,0,0,1,0,0,6,2,0,0,0,0,0,0,0,1,0,1,0,0,0,0,0,0,0,1,2,0,0,null,0,1,0,1,0,1,0,8,0,8,0,0,1,0,0,1,0,2,0,0,1,0,0,0,0,1,0,0,0,0,6,0,0,0,3,"n",7,0,8]
[{"$nulls":3},155,8,2,1,1,2,2,"LW","n",746,"LW.0746kW.21122",155,5,5689,"DN100",null,3,2,0,0,1,0,0,2,0,0,0,0,1,0,0,6,2,0,0,0,0,0,0,0,1,0,1,0,0,0,0,0,0,0,1,2,0,0,null,0,1,0,1,0,1,0,8,0,8,0,0,1,0,0,1,0,2,0,0,1,0,0,0,0,1,0,0,0,0,6,0,0,0,3,"n",7,0,8]
[{"$nulls":3},156,8,3,0,1,2,2,"LW","n",725,"LW.0725kW.30122",156,4,5689,"DN100",null,3,2,0,0,1,0,0,2,0,0,0,0,1,0,0,6,2,0,0,0,0,0,0,0,1,0,1,0,0,0,0,0,0,0,1,2,0,0,null,0,1,0,1,0,1,0,8,0,8,0,0,1,0,0,1,0,2,0,0,1,0,0,0,0,1,0,0,0,0,6,0,0,0,3,"n",7,0,8]
[{"$nulls":3},157,8,0,4,0,2,2,"LW","n",764,"LW.0764kW.04022",157,3,5689,"DN100",null,2,2,0,0,1,0,0,2,0,0,0,0,1,0,0,6,2,0,0,0,0,0,0,0,1,0,1,0,0,0,0,0,0,0,1,2,0,0,null,0,1,0,1,0,1,0,8,0,8,0,0,1,0,0,1,0,2,0,0,1,0,0,0,0,1,0,0,0,0,6,0,0,0,4,"n",7,0,8]
[{"$nulls":3},158,8,1,3,0,2,2,"LW","n",744,"LW.0744kW.13022",158,4,5689,"DN100",null,2,2,0,0,1,0,0,2,0,0,0,0,1,0,0,6,2,0,0,0,0,0,0,0,1,0,1,0,0,0,0,0,0,0,1,2,0,0,null,0,1,0,1,0,1,0,8,0,8,0,0,1,0,0,1,0,2,0,0,1,0,0,0,0,1,0,0,0,0,6,0,0,0,4,"n",7,0,8]
[{"$nulls":3},159,8,2,2,0,2,2,"LW","n",723,"LW.0723kW.22022",159,4,5689,"DN100",null,2,2,0,0,1,0,0,2,0,0,0,0,1,0,0,6,2,0,0,0,0,0,0,0,1,0,1,0,0,0,0,0,0,0,1,2,0,0,null,0,1,0,1,0,1,0,8,0,8,0,0,1,0,0,1,0,2,0,0,1,0,0,0,0,1,0,0,0,0,6,0,0,0,4,"n",7,0,8]
[{"$nulls":3},160,8,3,1,0,2,2,"LW","n",702,"LW.0702kW.31022",160,4,5689,"DN100",null,2,2,0,0,1,0,0,2,0,0,0,0,1,0,0,6,2,0,0,0,0,0,0,0,1,0,1,0,0,0,0,0,0,0,1,2,0,0,null,0,1,0,1,0,1,0,8,0,8,0,0,1,0,0,1,0,2,0,0,1,0,0,0,0,1,0,0,0,0,6,0,0,0,4,"n",7,0,8]
[{"$nulls":3},161,8,4,0,0,2,2,"LW","n",681,"LW.0681kW.40022",161,3,5689,"DN100",null,2,2,0,0,1,0,0,2,0,0,0,0,1,0,0,6,2,0,0,0,0,0,0,0,1,0,1,0,0,0,0,0,0,0,1,2,0,0,null,0,1,0,1,0,1,0,8,0,8,0,0,1,0,0,1,0,2,0,0,1,0,0,0,0,1,0,0,0,0,6,0,0,0,4,"n",7,0,8]
[{"$nulls":3},162,8,0,0,5,1,2,"LW","n",832,"LW.0832kW.00512",162,3,5689,"DN100",null,6,2,0,0,1,0,0,2,0,0,0,0,1,0,0,6,2,0,0,0,0,0,0,0,1,0,1,0,0,0,0,0,0,0,1,2,0,0,null,0,1,0,1,0,1,0,8,0,8,0,0,1,0,0,1,0,2,0,0,1,0,0,0,0,1,0,0,0,0,6,0,0,0,0,"n",7,0,8]
[{"$nulls":3},163,8,0,1,4,1,2,"LW","n",810,"LW.0810kW.01412",163,4,5689,"DN100",null,5,2,0,0,1,0,0,2,0,0,0,0,1,0,0,6,2,0,0,0,0,0,0,0,1,0,1,0,0,0,0,0,0,0,1,2,0,0,null,0,1,0,1,0,1,0,8,0,8,0,0,1,0,0,1,0,2,0,0,1,0,0,0,0,1,0,0,0,0,6,0,0,0,1,"n",7,0,8]
[{"$nulls":3},164,8,1,0,4,1,2,"LW","n",789,"LW.0789kW.10412",164,4,5689,"DN100",null,5,2,0,0,1,0,0,2,0,0,0,0,1,0,0,6,2,0,0,0,0,0,0,0,1,0,1,0,0,0,0,0,0,0,1,2,0,0,null,0,1,0,1,0,1,0,8,0,8,0,0,1,0,0,1,0,2,0,0,1,0,0,0,0,1,0,0,0,0,6,0,0,0,1,"n",7,0,8]
[{"$nulls":3},165,8,0,2,3,1,2,"LW","n",787,"LW.0787kW.02312",165,4,5689,"DN100",null,4,2,0,0,1,0,0,2,0,0,0,0,1,0,0,6,2,0,0,0,0,0,0,0,1,0,1,0,0,0,0,0,0,0,1,2,0,0,null,0,1,0,1,0,1,0,8,0,8,0,0,1,0,0,1,0,2,0,0,1,0,0,0,0,1,0,0,0,0,6,0,0,0,2,"n",7,0,8]
[{"$nulls":3},166,8,1,1,3,1,2,"LW","n",766,"LW.0766kW.11312",166,5,5689,"DN100",null,4,2,0,0,1,0,0,2,0,0,0,0,1,0,0,6,2,0,0,0,0,0,0,0,1,0,1,0,0,0,0,0,0,0,1,2,0,0,null,0,1,0,1,0,1,0,8,0,8,0,0,1,0,0,1,0,2,0,0,1,0,0,0,0,1,0,0,0,0,6,0,0,0,2,"n",7,0,8]
[{"$nulls":3},167,8,2,0,3,1,2,"LW","n",745,"LW.0745kW.20312",167,4,5689,"DN100",null,4,2,0,0,1,0,0,2,0,0,0,0,1,0,0,6,2,0,0,0,0,0,0,0,1,0,1,0,0,0,0,0,0,0,1,2,0,0,null,0,1,0,1,0,1,0,8,0,8,0,0,1,0,0,1,0,2,0,0,1,0,0,0,0,1,0,0,0,0,6,0,0,0,2,"n",7,0,8]
[{"$nulls":3},168,8,0,3,2,1,2,"LW","n",764,"LW.0764kW.03212",168,4,5689,"DN100",null,3,2,0,0,1,0,0,2,0,0,0,0,1,0,0,6,2,0,0,0,0,0,0,0,1,0,1,0,0,0,0,0,0,0,1,2,0,0,null,0,1,0,1,0,1,0,8,0,8,0,0,1,0,0,1,0,2,0,0,1,0,0,0,0,1,0,0,0,0,6,0,0,0,3,"n",7,0,8]
[{"$nulls":3},169,8,1,2,2,1,2,"LW","n",743,"LW.0743kW.12212",169,5,5689,"DN100",null,3,2,0,0,1,0,0,2,0,0,0,0,1,0,0,6,2,0,0,0,0,0,0,0,1,0,1,0,0,0,0,0,0,0,1,2,0,0,null,0,1,0,1,0,1,0,8,0,8,0,0,1,0,0,1,0,2,0,0,1,0,0,0,0,1,0,0,0,0,6,0,0,0,3,"n",7,0,8]
[{"$nulls":3},170,8,2,1,2,1,2,"LW","n",723,"LW.0723kW.21212",170,5,5689,"DN100",null,3,2,0,0,1,0,0,2,0,0,0,0,1,0,0,6,2,0,0,0,0,0,0,0,1,0,1,0,0,0,0,0,0,0,1,2,0,0,null,0,1,0,1,0,1,0,8,0,8,0,0,1,0,0,1,0,2,0,0,1,0,0,0,0,1,0,0,0,0,6,0,0,0,3,"n",7,0,8]
[{"$nulls":3},171,8,3,0,2,1,2,"LW","n",702,"LW.0702kW.30212",171,4,5689,"DN100",null,3,2,0,0,1,0,0,2,0,0,0,0,1,0,0,6,2,0,0,0,0,0,0,0,1,0,1,0,0,0,0,0,0,0,1,2,0,0,null,0,1,0,1,0,1,0,8,0,8,0,0,1,0,0,1,0,2,0,0,1,0,0,0,0,1,0,0,0,0,6,0,0,0,3,"n",7,0,8]
[{"$nulls":3},172,8,0,4,1,1,2,"LW","n",741,"LW.0741kW.04112",172,4,5689,"DN100",null,2,2,0,0,1,0,0,2,0,0,0,0,1,0,0,6,2,0,0,0,0,0,0,0,1,0,1,0,0,0,0,0,0,0,1,2,0,0,null,0,1,0,1,0,1,0,8,0,8,0,0,1,0,0,1,0,2,0,0,1,0,0,0,0,1,0,0,0,0,6,0,0,0,4,"n",7,0,8]
[{"$nulls":3},173,8,1,3,1,1,2,"LW","n",721,"LW.0721kW.13112",173,5,5689,"DN100",null,2,2,0,0,1,0,0,2,0,0,0,0,1,0,0,6,2,0,0,0,0,0,0,0,1,0,1,0,0,0,0,0,0,0,1,2,0,0,null,0,1,0,1,0,1,0,8,0,8,0,0,1,0,0,1,0,2,0,0,1,0,0,0,0,1,0,0,0,0,6,0,0,0,4,"n",7,0,8]
[{"$nulls":3},174,8,2,2,1,1,2,"LW","n",700,"LW.0700kW.22112",174,5,5689,"DN100",null,2,2,0,0,1,0,0,2,0,0,0,0,1,0,0,6,2,0,0,0,0,0,0,0,1,0,1,0,0,0,0,0,0,0,1,2,0,0,null,0,1,0,1,0,1,0,8,0,8,0,0,1,0,0,1,0,2,0,0,1,0,0,0,0,1,0,0,0,0,6,0,0,0,4,"n",7,0,8]
[{"$nulls":3},175,8,3,1,1,1,2,"LW","n",679,"LW.0679kW.31112",175,5,5689,"DN100",null,2,2,0,0,1,0,0,2,0,0,0,0,1,0,0,6,2,0,0,0,0,0,0,0,1,0,1,0,0,0,0,0,0,0,1,2,0,0,null,0,1,0,1,0,1,0,8,0,8,0,0,1,0,0,1,0,2,0,0,1,0,0,0,0,1,0,0,0,0,6,0,0,0,4,"n",7,0,8]
[{"$nulls":3},176,8,4,0,1,1,2,"LW","n",659,"LW.0659kW.40112",176,4,5689,"DN100",null,2,2,0,0,1,0,0,2,0,0,0,0,1,0,0,6,2,0,0,0,0,0,0,0,1,0,1,0,0,0,0,0,0,0,1,2,0,0,null,0,1,0,1,0,1,0,8,0,8,0,0,1,0,0,1,0,2,0,0,1,0,0,0,0,1,0,0,0,0,6,0,0,0,4,"n",7,0,8]
[{"$nulls":3},177,8,0,5,0,1,2,"LW","n",719,"LW.0719kW.05012",177,3,5689,"DN100",null,1,2,0,0,1,0,0,2,0,0,0,0,1,0,0,6,2,0,0,0,0,0,0,0,1,0,1,0,0,0,0,0,0,0,1,2,0,0,null,0,1,0,1,0,1,0,8,0,8,0,0,1,0,0,1,0,2,0,0,1,0,0,0,0,1,0,0,0,0,6,0,0,0,5,"n",7,0,8]
[{"$nulls":3},178,8,1,4,0,1,2,"LW","n",698,"LW.0698kW.14012",178,4,5689,"DN100",null,1,2,0,0,1,0,0,2,0,0,0,0,1,0,0,6,2,0,0,0,0,0,0,0,1,0,1,0,0,0,0,0,0,0,1,2,0,0,null,0,1,0,1,0,1,0,8,0,8,0,0,1,0,0,1,0,2,0,0,1,0,0,0,0,1,0,0,0,0,6,0,0,0,5,"n",7,0,8]
[{"$nulls":3},179,8,2,3,0,1,2,"LW","n",677,"LW.0677kW.23012",179,4,5689,"DN100",null,1,2,0,0,1,0,0,2,0,0,0,0,1,0,0,6,2,0,0,0,0,0,0,0,1,0,1,0,0,0,0,0,0,0,1,2,0,0,null,0,1,0,1,0,1,0,8,0,8,0,0,1,0,0,1,0,2,0,0,1,0,0,0,0,1,0,0,0,0,6,0,0,0,5,"n",7,0,8]
[{"$nulls":3},180,8,3,2,0,1,2,"LW","n",657,"LW.0657kW.32012",180,4,5689,"DN100",null,1,2,0,0,1,0,0,2,0,0,0,0,1,0,0,6,2,0,0,0,0,0,0,0,1,0,1,0,0,0,0,0,0,0,1,2,0,0,null,0,1,0,1,0,1,0,8,0,8,0,0,1,0,0,1,0,2,0,0,1,0,0,0,0,1,0,0,0,0,6,0,0,0,5,"n",7,0,8]
[{"$nulls":3},181,8,4,1,0,1,2,"LW","n",636,"LW.0636kW.41012",181,4,5689,"DN100",null,1,2,0,0,1,0,0,2,0,0,0,0,1,0,0,6,2,0,0,0,0,0,0,0,1,0,1,0,0,0,0,0,0,0,1,2,0,0,null,0,1,0,1,0,1,0,8,0,8,0,0,1,0,0,1,0,2,0,0,1,0,0,0,0,1,0,0,0,0,6,0,0,0,5,"n",7,0,8]
[{"$nulls":3},182,8,5,0,0,1,2,"LW","n",615,"LW.0615kW.50012",182,3,5689,"DN100",null,1,2,0,0,1,0,0,2,0,0,0,0,1,0,0,6,2,0,0,0,0,0,0,0,1,0,1,0,0,0,0,0,0,0,1,2,0,0,null,0,1,0,1,0,1,0,8,0,8,0,0,1,0,0,1,0,2,0,0,1,0,0,0,0,1,0,0,0,0,6,0,0,0,5,"n",7,0,8]
[{"$nulls":3},183,8,0,0,6,0,2,"LW","n",809,"LW.0809kW.00602",183,2,5689,"DN100",null,6,2,0,0,1,0,0,2,0,0,0,0,1,0,0,6,2,0,0,0,0,0,0,0,1,0,1,0,0,0,0,0,0,0,1,2,0,0,null,0,1,0,1,0,1,0,8,0,8,0,0,1,0,0,1,0,2,0,0,1,0,0,0,0,1,0,0,0,0,6,0,0,0,0,"n",7,0,8]
[{"$nulls":3},184,8,0,1,5,0,2,"LW","n",787,"LW.0787kW.01502",184,3,5689,"DN100",null,5,2,0,0,1,0,0,2,0,0,0,0,1,0,0,6,2,0,0,0,0,0,0,0,1,0,1,0,0,0,0,0,0,0,1,2,0,0,null,0,1,0,1,0,1,0,8,0,8,0,0,1,0,0,1,0,2,0,0,1,0,0,0,0,1,0,0,0,0,6,0,0,0,1,"n",7,0,8]
[{"$nulls":3},185,8,1,0,5,0,2,"LW","n",766,"LW.0766kW.10502",185,3,5689,"DN100",null,5,2,0,0,1,0,0,2,0,0,0,0,1,0,0,6,2,0,0,0,0,0,0,0,1,0,1,0,0,0,0,0,0,0,1,2,0,0,null,0,1,0,1,0,1,0,8,0,8,0,0,1,0,0,1,0,2,0,0,1,0,0,0,0,1,0,0,0,0,6,0,0,0,1,"n",7,0,8]
[{"$nulls":3},186,8,0,2,4,0,2,"LW","n",764,"LW.0764kW.02402",186,3,5689,"DN100",null,4,2,0,0,1,0,0,2,0,0,0,0,1,0,0,6,2,0,0,0,0,0,0,0,1,0,1,0,0,0,0,0,0,0,1,2,0,0,null,0,1,0,1,0,1,0,8,0,8,0,0,1,0,0,1,0,2,0,0,1,0,0,0,0,1,0,0,0,0,6,0,0,0,2,"n",7,0,8]
[{"$nulls":3},187,8,1,1,4,0,2,"LW","n",743,"LW.0743kW.11402",187,4,5689,"DN100",null,4,2,0,0,1,0,0,2,0,0,0,0,1,0,0,6,2,0,0,0,0,0,0,0,1,0,1,0,0,0,0,0,0,0,1,2,0,0,null,0,1,0,1,0,1,0,8,0,8,0,0,1,0,0,1,0,2,0,0,1,0,0,0,0,1,0,0,0,0,6,0,0,0,2,"n",7,0,8]
[{"$nulls":3},188,8,2,0,4,0,2,"LW","n",723,"LW.0723kW.20402",188,3,5689,"DN100",null,4,2,0,0,1,0,0,2,0,0,0,0,1,0,0,6,2,0,0,0,0,0,0,0,1,0,1,0,0,0,0,0,0,0,1,2,0,0,null,0,1,0,1,0,1,0,8,0,8,0,0,1,0,0,1,0,2,0,0,1,0,0,0,0,1,0,0,0,0,6,0,0,0,2,"n",7,0,8]
[{"$nulls":3},189,8,0,3,3,0,2,"LW","n",741,"LW.0741kW.03302",189,3,5689,"DN100",null,3,2,0,0,1,0,0,2,0,0,0,0,1,0,0,6,2,0,0,0,0,0,0,0,1,0,1,0,0,0,0,0,0,0,1,2,0,0,null,0,1,0,1,0,1,0,8,0,8,0,0,1,0,0,1,0,2,0,0,1,0,0,0,0,1,0,0,0,0,6,0,0,0,3,"n",7,0,8]
[{"$nulls":3},190,8,1,2,3,0,2,"LW","n",721,"LW.0721kW.12302",190,4,5689,"DN100",null,3,2,0,0,1,0,0,2,0,0,0,0,1,0,0,6,2,0,0,0,0,0,0,0,1,0,1,0,0,0,0,0,0,0,1,2,0,0,null,0,1,0,1,0,1,0,8,0,8,0,0,1,0,0,1,0,2,0,0,1,0,0,0,0,1,0,0,0,0,6,0,0,0,3,"n",7,0,8]
[{"$nulls":3},191,8,2,1,3,0,2,"LW","n",700,"LW.0700kW.21302",191,4,5689,"DN100",null,3,2,0,0,1,0,0,2,0,0,0,0,1,0,0,6,2,0,0,0,0,0,0,0,1,0,1,0,0,0,0,0,0,0,1,2,0,0,null,0,1,0,1,0,1,0,8,0,8,0,0,1,0,0,1,0,2,0,0,1,0,0,0,0,1,0,0,0,0,6,0,0,0,3,"n",7,0,8]
[{"$nulls":3},192,8,3,0,3,0,2,"LW","n",679,"LW.0679kW.30302",192,3,5689,"DN100",null,3,2,0,0,1,0,0,2,0,0,0,0,1,0,0,6,2,0,0,0,0,0,0,0,1,0,1,0,0,0,0,0,0,0,1,2,0,0,null,0,1,0,1,0,1,0,8,0,8,0,0,1,0,0,1,0,2,0,0,1,0,0,0,0,1,0,0,0,0,6,0,0,0,3,"n",7,0,8]
[{"$nulls":3},193,8,0,4,2,0,2,"LW","n",719,"LW.0719kW.04202",193,3,5689,"DN100",null,2,2,0,0,1,0,0,2,0,0,0,0,1,0,0,6,2,0,0,0,0,0,0,0,1,0,1,0,0,0,0,0,0,0,1,2,0,0,null,0,1,0,1,0,1,0,8,0,8,0,0,1,0,0,1,0,2,0,0,1,0,0,0,0,1,0,0,0,0,6,0,0,0,4,"n",{"$f":"E198-1","v":7},0,8]
[{"$nulls":3},194,8,1,3,2,0,2,"LW","n",{"$f":"ROUND(SUMPRODUCT($F$3:$J$3,F199:J199),0)","v":698},{"$f":"IF(M199>=1000,CONCATENATE(K199,\".\",M199,\"kW.\",F199,G199,H199,I199,J199),CONCATENATE(K199,\".0\",M199,\"kW.\",F199,G199,H199,I199,J199))","v":"LW.0698kW.13202"},194,4,5689,"DN100",null,{"$f":"I199+H199","v":2},{"$f":"J199","v":2},0,0,1,0,0,2,0,0,0,0,1,0,0,6,2,0,0,0,0,0,0,0,1,0,1,0,0,0,0,0,0,0,1,2,0,0,null,0,1,0,1,0,1,0,8,0,8,{"$f":"+BO199","v":0},0,1,0,0,1,0,2,0,0,1,0,0,0,0,1,0,0,0,0,6,0,0,0,{"$f":"F199+G199","v":4},"n",7,0,{"$f":"IF(K199<>\"RG\",E199,IF(OR(E199=4,E199=6,E199=8),0,1))","v":8}]
[{"$nulls":3},195,8,2,2,2,0,2,"LW","n",677,"LW.0677kW.22202",195,4,5689,"DN100",null,2,2,0,0,1,0,0,2,0,0,0,0,1,0,0,6,2,0,0,0,0,0,0,0,1,0,1,0,0,0,0,0,0,0,1,2,0,0,null,0,1,0,1,0,1,0,8,0,8,0,0,1,0,0,1,0,2,0,0,1,0,0,0,0,1,0,0,0,0,6,0,0,0,4,"n",7,0,8]
[{"$nulls":3},196,8,3,1,2,0,2,"LW","n",657,"LW.0657kW.31202",196,4,5689,"DN100",null,2,2,0,0,1,0,0,2,0,0,0,0,1,0,0,6,2,0,0,0,0,0,0,0,1,0,1,0,0,0,0,0,0,0,1,2,0,0,null,0,1,0,1,0,1,0,8,0,8,0,0,1,0,0,1,0,2,0,0,1,0,0,0,0,1,0,0,0,0,6,0,0,0,4,"n",7,0,8]
[{"$nulls":3},197,8,4,0,2,0,2,"LW","n",636,"LW.0636kW.40202",197,3,5689,"DN100",null,2,2,0,0,1,0,0,2,0,0,0,0,1,0,0,6,2,0,0,0,0,0,0,0,1,0,1,0,0,0,0,0,0,0,1,2,0,0,null,0,1,0,1,0,1,0,8,0,8,0,0,1,0,0,1,0,2,0,0,1,0,0,0,0,1,0,0,0,0,6,0,0,0,4,"n",7,0,8]
[{"$nulls":3},198,8,0,5,1,0,2,"LW","n",696,"LW.0696kW.05102",198,3,5689,"DN100",null,1,2,0,0,1,0,0,2,0,0,0,0,1,0,0,6,2,0,0,0,0,0,0,0,1,0,1,0,0,0,0,0,0,0,1,2,0,0,null,0,1,0,1,0,1,0,8,0,8,0,0,1,0,0,1,0,2,0,0,1,0,0,0,0,1,0,0,0,0,6,0,0,0,5,"n",7,0,8]
[{"$nulls":3},199,8,1,4,1,0,2,"LW","n",675,"LW.0675kW.14102",199,4,5689,"DN100",null,1,2,0,0,1,0,0,2,0,0,0,0,1,0,0,6,2,0,0,0,0,0,0,0,1,0,1,0,0,0,0,0,0,0,1,2,0,0,null,0,1,0,1,0,1,0,8,0,8,0,0,1,0,0,1,0,2,0,0,1,0,0,0,0,1,0,0,0,0,6,0,0,0,5,"n",7,0,8]
[{"$nulls":3},200,8,2,3,1,0,2,"LW","n",655,"LW.0655kW.23102",200,4,5689,"DN100",null,1,2,0,0,1,0,0,2,0,0,0,0,1,0,0,6,2,0,0,0,0,0,0,0,1,0,1,0,0,0,0,0,0,0,1,2,0,0,null,0,1,0,1,0,1,0,8,0,8,0,0,1,0,0,1,0,2,0,0,1,0,0,0,0,1,0,0,0,0,6,0,0,0,5,"n",7,0,8]
[{"$nulls":3},201,8,3,2,1,0,2,"LW","n",634,"LW.0634kW.32102",201,4,5689,"DN100",null,1,2,0,0,1,0,0,2,0,0,0,0,1,0,0,6,2,0,0,0,0,0,0,0,1,0,1,0,0,0,0,0,0,0,1,2,0,0,null,0,1,0,1,0,1,0,8,0,8,0,0,1,0,0,1,0,2,0,0,1,0,0,0,0,1,0,0,0,0,6,0,0,0,5,"n",7,0,8]
[{"$nulls":3},202,8,4,1,1,0,2,"LW","n",613,"LW.0613kW.41102",202,4,5689,"DN100",null,1,2,0,0,1,0,0,2,0,0,0,0,1,0,0,6,2,0,0,0,0,0,0,0,1,0,1,0,0,0,0,0,0,0,1,2,0,0,null,0,1,0,1,0,1,0,8,0,8,0,0,1,0,0,1,0,2,0,0,1,0,0,0,0,1,0,0,0,0,6,0,0,0,5,"n",7,0,8]
[{"$nulls":3},203,8,5,0,1,0,2,"LW","n",592,"LW.0592kW.50102",203,3,5689,"DN100",null,1,2,0,0,1,0,0,2,0,0,0,0,1,0,0,6,2,0,0,0,0,0,0,0,1,0,1,0,0,0,0,0,0,0,1,2,0,0,null,0,1,0,1,0,1,0,8,0,8,0,0,1,0,0,1,0,2,0,0,1,0,0,0,0,1,0,0,0,0,6,0,0,0,5,"n",7,0,8]
[{"$nulls":3},204,8,0,6,0,0,2,"LW","n",673,"LW.0673kW.06002",204,2,5689,"DN100",null,0,2,0,0,1,0,0,2,0,0,0,0,1,0,0,6,2,0,0,0,0,0,0,0,1,0,1,0,0,0,0,0,0,0,1,2,0,0,null,0,1,0,1,0,1,0,8,0,8,0,0,1,0,0,1,0,2,0,0,1,0,0,0,0,1,0,0,0,0,6,0,0,0,6,"n",7,0,8]
[{"$nulls":3},205,8,1,5,0,0,2,"LW","n",653,"LW.0653kW.15002",205,3,5689,"DN100",null,0,2,0,0,1,0,0,2,0,0,0,0,1,0,0,6,2,0,0,0,0,0,0,0,1,0,1,0,0,0,0,0,0,0,1,2,0,0,null,0,1,0,1,0,1,0,8,0,8,0,0,1,0,0,1,0,2,0,0,1,0,0,0,0,1,0,0,0,0,6,0,0,0,6,"n",7,0,8]
[{"$nulls":3},206,8,2,4,0,0,2,"LW","n",632,"LW.0632kW.24002",206,3,5689,"DN100",null,0,2,0,0,1,0,0,2,0,0,0,0,1,0,0,6,2,0,0,0,0,0,0,0,1,0,1,0,0,0,0,0,0,0,1,2,0,0,null,0,1,0,1,0,1,0,8,0,8,0,0,1,0,0,1,0,2,0,0,1,0,0,0,0,1,0,0,0,0,6,0,0,0,6,"n",7,0,8]
[{"$nulls":3},207,8,3,3,0,0,2,"LW","n",611,"LW.0611kW.33002",207,3,5689,"DN100",null,0,2,0,0,1,0,0,2,0,0,0,0,1,0,0,6,2,0,0,0,0,0,0,0,1,0,1,0,0,0,0,0,0,0,1,2,0,0,null,0,1,0,1,0,1,0,8,0,8,0,0,1,0,0,1,0,2,0,0,1,0,0,0,0,1,0,0,0,0,6,0,0,0,6,"n",7,0,8]
[{"$nulls":3},208,8,4,2,0,0,2,"LW","n",590,"LW.0590kW.42002",208,3,5689,"DN100",null,0,2,0,0,1,0,0,2,0,0,0,0,1,0,0,6,2,0,0,0,0,0,0,0,1,0,1,0,0,0,0,0,0,0,1,2,0,0,null,0,1,0,1,0,1,0,8,0,8,0,0,1,0,0,1,0,2,0,0,1,0,0,0,0,1,0,0,0,0,6,0,0,0,6,"n",7,0,8]
[{"$nulls":3},209,8,5,1,0,0,2,"LW","n",570,"LW.0570kW.51002",209,3,5689,"DN100",null,0,2,0,0,1,0,0,2,0,0,0,0,1,0,0,6,2,0,0,0,0,0,0,0,1,0,1,0,0,0,0,0,0,0,1,2,0,0,null,0,1,0,1,0,1,0,8,0,8,0,0,1,0,0,1,0,2,0,0,1,0,0,0,0,1,0,0,0,0,6,0,0,0,6,"n",7,0,8]
[{"$nulls":3},210,8,6,0,0,0,2,"LW","n",549,"LW.0549kW.60002",210,2,5689,"DN100",null,0,2,0,0,1,0,0,2,0,0,0,0,1,0,0,6,2,0,0,0,0,0,0,0,1,0,1,0,0,0,0,0,0,0,1,2,0,0,null,0,1,0,1,0,1,0,8,0,8,0,0,1,0,0,1,0,2,0,0,1,0,0,0,0,1,0,0,0,0,6,0,0,0,6,"n",7,0,8]
[{"$nulls":3},211,8,0,0,0,7,1,"LW","n",901,"LW.0901kW.00071",211,2,5689,"DN100",null,7,1,0,0,1,0,0,2,0,0,0,0,1,0,0,7,1,0,0,0,0,0,0,0,1,0,1,0,0,0,0,0,0,0,0,1,0,1,null,0,1,0,1,0,1,0,8,0,8,0,0,1,0,0,1,0,2,0,0,1,0,0,0,0,1,0,0,0,0,7,0,0,0,0,"n",7,0,8]
[{"$nulls":3},212,8,0,0,1,6,1,"LW","n",878,"LW.0878kW.00161",212,3,5689,"DN100",null,7,1,0,0,1,0,0,2,0,0,0,0,1,0,0,7,1,0,0,0,0,0,0,0,1,0,1,0,0,0,0,0,0,0,0,1,0,1,null,0,1,0,1,0,1,0,8,0,8,0,0,1,0,0,1,0,2,0,0,1,0,0,0,0,1,0,0,0,0,7,0,0,0,0,"n",7,0,8]
[{"$nulls":3},213,8,0,1,0,6,1,"LW","n",856,"LW.0856kW.01061",213,3,5689,"DN100",null,6,1,0,0,1,0,0,2,0,0,0,0,1,0,0,7,1,0,0,0,0,0,0,0,1,0,1,0,0,0,0,0,0,0,0,1,0,1,null,0,1,0,1,0,1,0,8,0,8,0,0,1,0,0,1,0,2,0,0,1,0,0,0,0,1,0,0,0,0,7,0,0,0,1,"n",7,0,8]
[{"$nulls":3},214,8,1,0,0,6,1,"LW","n",835,"LW.0835kW.10061",214,3,5689,"DN100",null,6,1,0,0,1,0,0,2,0,0,0,0,1,0,0,7,1,0,0,0,0,0,0,0,1,0,1,0,0,0,0,0,0,0,0,1,0,1,null,0,1,0,1,0,1,0,8,0,8,0,0,1,0,0,1,0,2,0,0,1,0,0,0,0,1,0,0,0,0,7,0,0,0,1,"n",7,0,8]
[{"$nulls":3},215,8,0,0,2,5,1,"LW","n",856,"LW.0856kW.00251",215,3,5689,"DN100",null,7,1,0,0,1,0,0,2,0,0,0,0,1,0,0,7,1,0,0,0,0,0,0,0,1,0,1,0,0,0,0,0,0,0,0,1,0,1,null,0,1,0,1,0,1,0,8,0,8,0,0,1,0,0,1,0,2,0,0,1,0,0,0,0,1,0,0,0,0,7,0,0,0,0,"n",7,0,8]
[{"$nulls":3},216,8,0,1,1,5,1,"LW","n",833,"LW.0833kW.01151",216,4,5689,"DN100",null,6,1,0,0,1,0,0,2,0,0,0,0,1,0,0,7,1,0,0,0,0,0,0,0,1,0,1,0,0,0,0,0,0,0,0,1,0,1,null,0,1,0,1,0,1,0,8,0,8,0,0,1,0,0,1,0,2,0,0,1,0,0,0,0,1,0,0,0,0,7,0,0,0,1,"n",7,0,8]
[{"$nulls":3},217,8,1,0,1,5,1,"LW","n",812,"LW.0812kW.10151",217,4,5689,"DN100",null,6,1,0,0,1,0,0,2,0,0,0,0,1,0,0,7,1,0,0,0,0,0,0,0,1,0,1,0,0,0,0,0,0,0,0,1,0,1,null,0,1,0,1,0,1,0,8,0,8,0,0,1,0,0,1,0,2,0,0,1,0,0,0,0,1,0,0,0,0,7,0,0,0,1,"n",7,0,8]
[{"$nulls":3},218,8,0,2,0,5,1,"LW","n",810,"LW.0810kW.02051",218,3,5689,"DN100",null,5,1,0,0,1,0,0,2,0,0,0,0,1,0,0,7,1,0,0,0,0,0,0,0,1,0,1,0,0,0,0,0,0,0,0,1,0,1,null,0,1,0,1,0,1,0,8,0,8,0,0,1,0,0,1,0,2,0,0,1,0,0,0,0,1,0,0,0,0,7,0,0,0,2,"n",7,0,8]
[{"$nulls":3},219,8,1,1,0,5,1,"LW","n",789,"LW.0789kW.11051",219,4,5689,"DN100",null,5,1,0,0,1,0,0,2,0,0,0,0,1,0,0,7,1,0,0,0,0,0,0,0,1,0,1,0,0,0,0,0,0,0,0,1,0,1,null,0,1,0,1,0,1,0,8,0,8,0,0,1,0,0,1,0,2,0,0,1,0,0,0,0,1,0,0,0,0,7,0,0,0,2,"n",7,0,8]
[{"$nulls":3},220,8,2,0,0,5,1,"LW","n",769,"LW.0769kW.20051",220,3,5689,"DN100",null,5,1,0,0,1,0,0,2,0,0,0,0,1,0,0,7,1,0,0,0,0,0,0,0,1,0,1,0,0,0,0,0,0,0,0,1,0,1,null,0,1,0,1,0,1,0,8,0,8,0,0,1,0,0,1,0,2,0,0,1,0,0,0,0,1,0,0,0,0,7,0,0,0,2,"n",7,0,8]
[{"$nulls":3},221,8,0,0,3,4,1,"LW","n",833,"LW.0833kW.00341",221,3,5689,"DN100",null,7,1,0,0,1,0,0,2,0,0,0,0,1,0,0,7,1,0,0,0,0,0,0,0,1,0,1,0,0,0,0,0,0,0,0,1,0,1,null,0,1,0,1,0,1,0,8,0,8,0,0,1,0,0,1,0,2,0,0,1,0,0,0,0,1,0,0,0,0,7,0,0,0,0,"n",7,0,8]
[{"$nulls":3},222,8,0,1,2,4,1,"LW","n",810,"LW.0810kW.01241",222,4,5689,"DN100",null,6,1,0,0,1,0,0,2,0,0,0,0,1,0,0,7,1,0,0,0,0,0,0,0,1,0,1,0,0,0,0,0,0,0,0,1,0,1,null,0,1,0,1,0,1,0,8,0,8,0,0,1,0,0,1,0,2,0,0,1,0,0,0,0,1,0,0,0,0,7,0,0,0,1,"n",7,0,8]
[{"$nulls":3},223,8,1,0,2,4,1,"LW","n",789,"LW.0789kW.10241",223,4,5689,"DN100",null,6,1,0,0,1,0,0,2,0,0,0,0,1,0,0,7,1,0,0,0,0,0,0,0,1,0,1,0,0,0,0,0,0,0,0,1,0,1,null,0,1,0,1,0,1,0,8,0,8,0,0,1,0,0,1,0,2,0,0,1,0,0,0,0,1,0,0,0,0,7,0,0,0,1,"n",7,0,8]
[{"$nulls":3},224,8,0,2,1,4,1,"LW","n",787,"LW.0787kW.02141",224,4,5689,"DN100",null,5,1,0,0,1,0,0,2,0,0,0,0,1,0,0,7,1,0,0,0,0,0,0,0,1,0,1,0,0,0,0,0,0,0,0,1,0,1,null,0,1,0,1,0,1,0,8,0,8,0,0,1,0,0,1,0,2,0,0,1,0,0,0,0,1,0,0,0,0,7,0,0,0,2,"n",7,0,8]
[{"$nulls":3},225,8,1,1,1,4,1,"LW","n",767,"LW.0767kW.11141",225,5,5689,"DN100",null,5,1,0,0,1,0,0,2,0,0,0,0,1,0,0,7,1,0,0,0,0,0,0,0,1,0,1,0,0,0,0,0,0,0,0,1,0,1,null,0,1,0,1,0,1,0,8,0,8,0,0,1,0,0,1,0,2,0,0,1,0,0,0,0,1,0,0,0,0,7,0,0,0,2,"n",7,0,8]
[{"$nulls":3},226,8,2,0,1,4,1,"LW","n",746,"LW.0746kW.20141",226,4,5689,"DN100",null,5,1,0,0,1,0,0,2,0,0,0,0,1,0,0,7,1,0,0,0,0,0,0,0,1,0,1,0,0,0,0,0,0,0,0,1,0,1,null,0,1,0,1,0,1,0,8,0,8,0,0,1,0,0,1,0,2,0,0,1,0,0,0,0,1,0,0,0,0,7,0,0,0,2,"n",7,0,8]
[{"$nulls":3},227,8,0,3,0,4,1,"LW","n",765,"LW.0765kW.03041",227,3,5689,"DN100",null,4,1,0,0,1,0,0,2,0,0,0,0,1,0,0,7,1,0,0,0,0,0,0,0,1,0,1,0,0,0,0,0,0,0,0,1,0,1,null,0,1,0,1,0,1,0,8,0,8,0,0,1,0,0,1,0,2,0,0,1,0,0,0,0,1,0,0,0,0,7,0,0,0,3,"n",7,0,8]
[{"$nulls":3},228,8,1,2,0,4,1,"LW","n",744,"LW.0744kW.12041",228,4,5689,"DN100",null,4,1,0,0,1,0,0,2,0,0,0,0,1,0,0,7,1,0,0,0,0,0,0,0,1,0,1,0,0,0,0,0,0,0,0,1,0,1,null,0,1,0,1,0,1,0,8,0,8,0,0,1,0,0,1,0,2,0,0,1,0,0,0,0,1,0,0,0,0,7,0,0,0,3,"n",7,0,8]
[{"$nulls":3},229,8,2,1,0,4,1,"LW","n",723,"LW.0723kW.21041",229,4,5689,"DN100",null,4,1,0,0,1,0,0,2,0,0,0,0,1,0,0,7,1,0,0,0,0,0,0,0,1,0,1,0,0,0,0,0,0,0,0,1,0,1,null,0,1,0,1,0,1,0,8,0,8,0,0,1,0,0,1,0,2,0,0,1,0,0,0,0,1,0,0,0,0,7,0,0,0,3,"n",7,0,8]
[{"$nulls":3},230,8,3,0,0,4,1,"LW","n",703,"LW.0703kW.30041",230,3,5689,"DN100",null,4,1,0,0,1,0,0,2,0,0,0,0,1,0,0,7,1,0,0,0,0,0,0,0,1,0,1,0,0,0,0,0,0,0,0,1,0,1,null,0,1,0,1,0,1,0,8,0,8,0,0,1,0,0,1,0,2,0,0,1,0,0,0,0,1,0,0,0,0,7,0,0,0,3,"n",7,0,8]
[{"$nulls":3},231,8,0,0,4,3,1,"LW","n",810,"LW.0810kW.00431",231,3,5689,"DN100",null,7,1,0,0,1,0,0,2,0,0,0,0,1,0,0,7,1,0,0,0,0,0,0,0,1,0,1,0,0,0,0,0,0,0,0,1,0,1,null,0,1,0,1,0,1,0,8,0,8,0,0,1,0,0,1,0,2,0,0,1,0,0,0,0,1,0,0,0,0,7,0,0,0,0,"n",7,0,8]
[{"$nulls":3},232,8,0,1,3,3,1,"LW","n",787,"LW.0787kW.01331",232,4,5689,"DN100",null,6,1,0,0,1,0,0,2,0,0,0,0,1,0,0,7,1,0,0,0,0,0,0,0,1,0,1,0,0,0,0,0,0,0,0,1,0,1,null,0,1,0,1,0,1,0,8,0,8,0,0,1,0,0,1,0,2,0,0,1,0,0,0,0,1,0,0,0,0,7,0,0,0,1,"n",7,0,8]
[{"$nulls":3},233,8,1,0,3,3,1,"LW","n",767,"LW.0767kW.10331",233,4,5689,"DN100",null,6,1,0,0,1,0,0,2,0,0,0,0,1,0,0,7,1,0,0,0,0,0,0,0,1,0,1,0,0,0,0,0,0,0,0,1,0,1,null,0,1,0,1,0,1,0,8,0,8,0,0,1,0,0,1,0,2,0,0,1,0,0,0,0,1,0,0,0,0,7,0,0,0,1,"n",7,0,8]
[{"$nulls":3},234,8,0,2,2,3,1,"LW","n",765,"LW.0765kW.02231",234,4,5689,"DN100",null,5,1,0,0,1,0,0,2,0,0,0,0,1,0,0,7,1,0,0,0,0,0,0,0,1,0,1,0,0,0,0,0,0,0,0,1,0,1,null,0,1,0,1,0,1,0,8,0,8,0,0,1,0,0,1,0,2,0,0,1,0,0,0,0,1,0,0,0,0,7,0,0,0,2,"n",7,0,8]
[{"$nulls":3},235,8,1,1,2,3,1,"LW","n",744,"LW.0744kW.11231",235,5,5689,"DN100",null,5,1,0,0,1,0,0,2,0,0,0,0,1,0,0,7,1,0,0,0,0,0,0,0,1,0,1,0,0,0,0,0,0,0,0,1,0,1,null,0,1,0,1,0,1,0,8,0,8,0,0,1,0,0,1,0,2,0,0,1,0,0,0,0,1,0,0,0,0,7,0,0,0,2,"n",7,0,8]
[{"$nulls":3},236,8,2,0,2,3,1,"LW","n",723,"LW.0723kW.20231",236,4,5689,"DN100",null,5,1,0,0,1,0,0,2,0,0,0,0,1,0,0,7,1,0,0,0,0,0,0,0,1,0,1,0,0,0,0,0,0,0,0,1,0,1,null,0,1,0,1,0,1,0,8,0,8,0,0,1,0,0,1,0,2,0,0,1,0,0,0,0,1,0,0,0,0,7,0,0,0,2,"n",7,0,8]
[{"$nulls":3},237,8,0,3,1,3,1,"LW","n",742,"LW.0742kW.03131",237,4,5689,"DN100",null,4,1,0,0,1,0,0,2,0,0,0,0,1,0,0,7,1,0,0,0,0,0,0,0,1,0,1,0,0,0,0,0,0,0,0,1,0,1,null,0,1,0,1,0,1,0,8,0,8,0,0,1,0,0,1,0,2,0,0,1,0,0,0,0,1,0,0,0,0,7,0,0,0,3,"n",7,0,8]
[{"$nulls":3},238,8,1,2,1,3,1,"LW","n",721,"LW.0721kW.12131",238,5,5689,"DN100",null,4,1,0,0,1,0,0,2,0,0,0,0,1,0,0,7,1,0,0,0,0,0,0,0,1,0,1,0,0,0,0,0,0,0,0,1,0,1,null,0,1,0,1,0,1,0,8,0,8,0,0,1,0,0,1,0,2,0,0,1,0,0,0,0,1,0,0,0,0,7,0,0,0,3,"n",7,0,8]
[{"$nulls":3},239,8,2,1,1,3,1,"LW","n",700,"LW.0700kW.21131",239,5,5689,"DN100",null,4,1,0,0,1,0,0,2,0,0,0,0,1,0,0,7,1,0,0,0,0,0,0,0,1,0,1,0,0,0,0,0,0,0,0,1,0,1,null,0,1,0,1,0,1,0,8,0,8,0,0,1,0,0,1,0,2,0,0,1,0,0,0,0,1,0,0,0,0,7,0,0,0,3,"n",7,0,8]
[{"$nulls":3},240,8,3,0,1,3,1,"LW","n",680,"LW.0680kW.30131",240,4,5689,"DN100",null,4,1,0,0,1,0,0,2,0,0,0,0,1,0,0,7,1,0,0,0,0,0,0,0,1,0,1,0,0,0,0,0,0,0,0,1,0,1,null,0,1,0,1,0,1,0,8,0,8,0,0,1,0,0,1,0,2,0,0,1,0,0,0,0,1,0,0,0,0,7,0,0,0,3,"n",7,0,8]
[{"$nulls":3},241,8,0,4,0,3,1,"LW","n",719,"LW.0719kW.04031",241,3,5689,"DN100",null,3,1,0,0,1,0,0,2,0,0,0,0,1,0,0,7,1,0,0,0,0,0,0,0,1,0,1,0,0,0,0,0,0,0,0,1,0,1,null,0,1,0,1,0,1,0,8,0,8,0,0,1,0,0,1,0,2,0,0,1,0,0,0,0,1,0,0,0,0,7,0,0,0,4,"n",7,0,8]
[{"$nulls":3},242,8,1,3,0,3,1,"LW","n",698,"LW.0698kW.13031",242,4,5689,"DN100",null,3,1,0,0,1,0,0,2,0,0,0,0,1,0,0,7,1,0,0,0,0,0,0,0,1,0,1,0,0,0,0,0,0,0,0,1,0,1,null,0,1,0,1,0,1,0,8,0,8,0,0,1,0,0,1,0,2,0,0,1,0,0,0,0,1,0,0,0,0,7,0,0,0,4,"n",7,0,8]
[{"$nulls":3},243,8,2,2,0,3,1,"LW","n",678,"LW.0678kW.22031",243,4,5689,"DN100",null,3,1,0,0,1,0,0,2,0,0,0,0,1,0,0,7,1,0,0,0,0,0,0,0,1,0,1,0,0,0,0,0,0,0,0,1,0,1,null,0,1,0,1,0,1,0,8,0,8,0,0,1,0,0,1,0,2,0,0,1,0,0,0,0,1,0,0,0,0,7,0,0,0,4,"n",7,0,8]
[{"$nulls":3},244,8,3,1,0,3,1,"LW","n",657,"LW.0657kW.31031",244,4,5689,"DN100",null,3,1,0,0,1,0,0,2,0,0,0,0,1,0,0,7,1,0,0,0,0,0,0,0,1,0,1,0,0,0,0,0,0,0,0,1,0,1,null,0,1,0,1,0,1,0,8,0,8,0,0,1,0,0,1,0,2,0,0,1,0,0,0,0,1,0,0,0,0,7,0,0,0,4,"n",7,0,8]
[{"$nulls":3},245,8,4,0,0,3,1,"LW","n",636,"LW.0636kW.40031",245,3,5689,"DN100",null,3,1,0,0,1,0,0,2,0,0,0,0,1,0,0,7,1,0,0,0,0,0,0,0,1,0,1,0,0,0,0,0,0,0,0,1,0,1,null,0,1,0,1,0,1,0,8,0,8,0,0,1,0,0,1,0,2,0,0,1,0,0,0,0,1,0,0,0,0,7,0,0,0,4,"n",7,0,8]
[{"$nulls":3},257,8,1,3,1,2,1,"LW","n",676,"LW.0676kW.13121",257,5,5689,"DN100",null,3,1,0,0,1,0,0,2,0,0,0,0,1,0,0,7,1,0,0,0,0,0,0,0,1,0,1,0,0,0,0,0,0,0,0,1,0,1,null,0,1,0,1,0,1,0,8,0,8,0,0,1,0,0,1,0,2,0,0,1,0,0,0,0,1,0,0,0,0,7,0,0,0,4,"n",{"$f":"E262-1","v":7},0,8]
[{"$nulls":3},261,8,0,5,0,2,1,"LW","n",674,"LW.0674kW.05021",261,3,5689,"DN100",null,2,1,0,0,1,0,0,2,0,0,0,0,1,0,0,7,1,0,0,0,0,0,0,0,1,0,1,0,0,0,0,0,0,0,0,1,0,1,null,0,1,0,1,0,1,0,8,0,8,0,0,1,0,0,1,0,2,0,0,1,0,0,0,0,1,0,0,0,0,7,0,0,0,5,"n",7,0,8]
[{"$nulls":3},276,8,3,0,3,1,1,"LW","n",634,"LW.0634kW.30311",276,4,5689,"DN100",null,4,1,0,0,1,0,0,2,0,0,0,0,1,0,0,7,1,0,0,0,0,0,0,0,1,0,1,0,0,0,0,0,0,0,0,1,0,1,null,0,1,0,1,0,1,0,8,0,8,0,0,1,0,0,1,0,2,0,0,1,0,0,0,0,1,0,0,0,0,7,0,0,0,3,"n",7,0,8]
[{"$nulls":3},292,8,4,2,0,1,1,"LW","n",545,"LW.0545kW.42011",292,4,5689,"DN100",null,1,1,0,0,1,0,0,2,0,0,0,0,1,0,0,7,1,0,0,0,0,0,0,0,1,0,1,0,0,0,0,0,0,0,0,1,0,1,null,0,1,0,1,0,1,0,8,0,8,0,0,1,0,0,1,0,2,0,0,1,0,0,0,0,1,0,0,0,0,7,0,0,0,6,"n",7,0,8]
[{"$nulls":3},314,8,4,1,2,0,1,"LW","n",545,"LW.0545kW.41201",314,4,5689,"DN100",null,2,1,0,0,1,0,0,2,0,0,0,0,1,0,0,7,1,0,0,0,0,0,0,0,1,0,1,0,0,0,0,0,0,0,0,1,0,1,null,0,1,0,1,0,1,0,8,0,8,0,0,1,0,0,1,0,2,0,0,1,0,0,0,0,1,0,0,0,0,7,0,0,0,5,"n",7,0,8]
[{"$nulls":3},321,8,5,1,1,0,1,"LW","n",502,"LW.0502kW.51101",321,4,5689,"DN100",null,1,1,0,0,1,0,0,2,0,0,0,0,1,0,0,7,1,0,0,0,0,0,0,0,1,0,1,0,0,0,0,0,0,0,0,1,0,1,null,0,1,0,1,0,1,0,8,0,8,0,0,1,0,0,1,0,2,0,0,1,0,0,0,0,1,0,0,0,0,7,0,0,0,6,"n",{"$f":"E326-1","v":7},0,8]
[{"$nulls":3},337,7,0,0,1,1,5,"LW","n",952,"LW.0952kW.00115",337,3,5059,"DN100",null,2,5,0,0,2,0,0,1,0,0,0,0,1,0,0,2,5,0,0,0,0,0,0,0,1,0,1,0,0,0,0,0,0,1,1,0,1,0,null,0,1,0,1,0,1,0,7,0,7,0,0,1,0,0,1,0,2,0,0,1,0,0,0,0,1,0,0,0,0,2,0,0,0,0,"n",6,0,7]
[{"$nulls":3},352,7,1,0,1,1,4,"LW","n",840,"LW.0840kW.10114",352,4,5059,"DN100",null,2,4,0,0,2,0,0,1,0,0,0,0,1,0,0,3,4,0,0,0,0,0,0,0,1,0,1,0,0,0,0,0,0,0,2,1,0,0,null,0,1,0,1,0,1,0,7,0,7,0,0,1,0,0,1,0,2,0,0,1,0,0,0,0,1,0,0,0,0,3,0,0,0,1,"n",6,0,7]
[{"$nulls":3},368,7,0,1,0,3,3,"LW","n",839,"LW.0839kW.01033",368,3,5059,"DN100",null,3,3,0,0,2,0,0,1,0,0,0,0,1,0,0,4,3,0,0,0,0,0,0,0,1,0,1,0,0,0,0,0,0,0,0,0,1,1,null,0,1,0,1,0,1,0,7,0,7,0,0,1,0,0,1,0,2,0,0,1,0,0,0,0,1,0,0,0,0,4,0,0,0,1,"n",6,0,7]
[{"$nulls":3},387,7,0,1,3,0,3,"LW","n",770,"LW.0770kW.01303",387,3,5059,"DN100",null,3,3,0,0,2,0,0,1,0,0,0,0,1,0,0,4,3,0,0,0,0,0,0,0,1,0,1,0,0,0,0,0,0,0,0,0,1,1,null,0,1,0,1,0,1,0,7,0,7,0,0,1,0,0,1,0,2,0,0,1,0,0,0,0,1,0,0,0,0,4,0,0,0,1,"n",6,0,7]
[{"$nulls":3},397,7,1,3,0,0,3,"LW","n",682,"LW.0682kW.13003",397,3,5059,"DN100",null,0,3,0,0,2,0,0,1,0,0,0,0,1,0,0,4,3,0,0,0,0,0,0,0,1,0,1,0,0,0,0,0,0,0,0,0,1,1,null,0,1,0,1,0,1,0,7,0,7,0,0,1,0,0,1,0,2,0,0,1,0,0,0,0,1,0,0,0,0,4,0,0,0,4,"n",6,0,7]
[{"$nulls":3},413,7,1,0,2,2,2,"LW","n",727,"LW.0727kW.10222",413,4,5059,"DN100",null,4,2,0,0,2,0,0,1,0,0,0,0,1,0,0,5,2,0,0,0,0,0,0,0,1,0,1,0,0,0,0,0,0,1,1,1,0,0,null,0,1,0,1,0,1,0,7,0,7,0,0,1,0,0,1,0,2,0,0,1,0,0,0,0,1,0,0,0,0,5,0,0,0,1,"n",6,0,7]
[{"$nulls":3},428,7,1,2,1,1,2,"LW","n",659,"LW.0659kW.12112",428,5,5059,"DN100",null,2,2,0,0,2,0,0,1,0,0,0,0,1,0,0,5,2,0,0,0,0,0,0,0,1,0,1,0,0,0,0,0,0,1,1,1,0,0,null,0,1,0,1,0,1,0,7,0,7,0,0,1,0,0,1,0,2,0,0,1,0,0,0,0,1,0,0,0,0,5,0,0,0,3,"n",6,0,7]
[{"$nulls":3},443,7,1,2,2,0,2,"LW","n",636,"LW.0636kW.12202",443,4,5059,"DN100",null,2,2,0,0,2,0,0,1,0,0,0,0,1,0,0,5,2,0,0,0,0,0,0,0,1,0,1,0,0,0,0,0,0,1,1,1,0,0,null,0,1,0,1,0,1,0,7,0,7,0,0,1,0,0,1,0,2,0,0,1,0,0,0,0,1,0,0,0,0,5,0,0,0,3,"n",6,0,7]
[{"$nulls":3},460,7,1,0,0,5,1,"LW","n",728,"LW.0728kW.10051",460,3,5059,"DN100",null,5,1,0,0,2,0,0,1,0,0,0,0,1,0,0,6,1,0,0,0,0,0,0,0,1,0,1,0,0,0,0,0,0,0,0,2,0,0,null,0,1,0,1,0,1,0,7,0,7,0,0,1,0,0,1,0,2,0,0,1,0,0,0,0,1,0,0,0,0,6,0,0,0,1,"n",6,0,7]
[{"$nulls":3},473,7,0,3,0,3,1,"LW","n",658,"LW.0658kW.03031",473,3,5059,"DN100",null,3,1,0,0,2,0,0,1,0,0,0,0,1,0,0,6,1,0,0,0,0,0,0,0,1,0,1,0,0,0,0,0,0,0,0,2,0,0,null,0,1,0,1,0,1,0,7,0,7,0,0,1,0,0,1,0,2,0,0,1,0,0,0,0,1,0,0,0,0,6,0,0,0,3,"n",6,0,7]
[{"$nulls":3},489,7,2,2,0,2,1,"LW","n",571,"LW.0571kW.22021",489,4,5059,"DN100",null,2,1,0,0,2,0,0,1,0,0,0,0,1,0,0,6,1,0,0,0,0,0,0,0,1,0,1,0,0,0,0,0,0,0,0,2,0,0,null,0,1,0,1,0,1,0,7,0,7,0,0,1,0,0,1,0,2,0,0,1,0,0,0,0,1,0,0,0,0,6,0,0,0,4,"n",6,0,7]
[{"$nulls":3},504,7,2,2,1,1,1,"LW","n",548,"LW.0548kW.22111",504,5,5059,"DN100",null,2,1,0,0,2,0,0,1,0,0,0,0,1,0,0,6,1,0,0,0,0,0,0,0,1,0,1,0,0,0,0,0,0,0,0,2,0,0,null,0,1,0,1,0,1,0,7,0,7,0,0,1,0,0,1,0,2,0,0,1,0,0,0,0,1,0,0,0,0,6,0,0,0,4,"n",6,0,7]
[{"$nulls":3},513,7,0,0,6,0,1,"LW","n",657,"LW.0657kW.00601",513,2,5059,"DN100",null,6,1,0,0,2,0,0,1,0,0,0,0,1,0,0,6,1,0,0,0,0,0,0,0,1,0,1,0,0,0,0,0,0,0,0,2,0,0,null,0,1,0,1,0,1,0,7,0,7,0,0,1,0,0,1,0,2,0,0,1,0,0,0,0,1,0,0,0,0,6,0,0,0,0,"n",{"$f":"E518-1","v":6},0,7]
[{"$nulls":3},534,7,0,6,0,0,1,"LW","n",521,"LW.0521kW.06001",534,2,5059,"DN100",null,0,1,0,0,2,0,0,1,0,0,0,0,1,0,0,6,1,0,0,0,0,0,0,0,1,0,1,0,0,0,0,0,0,0,0,2,0,0,null,0,1,0,1,0,1,0,7,0,7,0,0,1,0,0,1,0,2,0,0,1,0,0,0,0,1,0,0,0,0,6,0,0,0,6,"n",6,0,7]
[{"$nulls":3},549,6,1,0,0,1,4,"LW","n",756,"LW.0756kW.10014",549,3,4429,"DN100",null,1,4,0,0,0,0,0,2,0,0,0,0,1,0,0,2,4,0,0,0,0,0,0,0,1,0,1,0,0,0,0,0,0,1,2,0,0,0,null,0,1,0,1,0,1,0,6,0,6,0,0,1,0,0,1,0,2,0,0,1,0,0,0,0,1,0,0,0,0,2,0,0,0,1,"n",5,0,6]
[{"$nulls":3},565,6,2,0,0,1,3,"LW","n",645,"LW.0645kW.20013",565,3,4429,"DN100",null,1,3,0,0,0,0,0,2,0,0,0,0,1,0,0,3,3,0,0,0,0,0,0,0,1,0,1,0,0,0,0,0,0,0,0,1,1,0,null,0,1,0,1,0,1,0,6,0,6,0,0,1,0,0,1,0,2,0,0,1,0,0,0,0,1,0,0,0,0,3,0,0,0,2,"n",5,0,6]
[{"$nulls":3},580,6,0,0,2,2,2,"LW","n",687,"LW.0687kW.00222",580,3,4429,"DN100",null,4,2,0,0,0,0,0,2,0,0,0,0,1,0,0,4,2,0,0,0,0,0,0,0,1,0,1,0,0,0,0,0,0,0,1,0,0,1,null,0,1,0,1,0,1,0,6,0,6,0,0,1,0,0,1,0,2,0,0,1,0,0,0,0,1,0,0,0,0,4,0,0,0,0,"n",5,0,6]
[{"$nulls":3},586,6,0,0,3,1,2,"LW","n",664,"LW.0664kW.00312",586,3,4429,"DN100",null,4,2,0,0,0,0,0,2,0,0,0,0,1,0,0,4,2,0,0,0,0,0,0,0,1,0,1,0,0,0,0,0,0,0,1,0,0,1,null,0,1,0,1,0,1,0,6,0,6,0,0,1,0,0,1,0,2,0,0,1,0,0,0,0,1,0,0,0,0,4,0,0,0,0,"n",5,0,6]
[{"$nulls":3},610,6,4,0,0,0,2,"LW","n",467,"LW.0467kW.40002",610,2,4497,"DN65",null,0,2,0,0,0,0,0,2,0,0,0,1,0,1,0,4,2,0,0,0,0,0,0,0,1,0,1,0,0,0,0,0,0,0,1,0,0,1,null,0,1,1,0,0,1,0,6,0,6,0,0,1,1,0,1,0,2,0,0,0,0,0,0,0,1,0,0,0,0,4,0,1,0,4,"n",5,0,6]
[{"$nulls":3},625,6,1,1,1,2,1,"LW","n",553,"LW.0553kW.11121",625,5,4429,"DN100",null,3,1,0,0,0,0,0,2,0,0,0,0,1,0,0,5,1,0,0,0,0,0,0,0,1,0,1,0,0,0,0,0,0,1,0,1,0,0,null,0,1,0,1,0,1,0,6,0,6,0,0,1,0,0,1,0,2,0,0,1,0,0,0,0,1,0,0,0,0,5,0,0,0,2,"n",5,0,6]
[{"$nulls":3},640,6,3,0,1,1,1,"LW","n",466,"LW.0466kW.30111",640,4,4497,"DN65",null,2,1,0,0,0,0,0,2,0,0,0,1,0,1,0,5,1,0,0,0,0,0,0,0,1,0,1,0,0,0,0,0,0,1,0,1,0,0,null,0,1,1,0,0,1,0,6,0,6,0,0,1,1,0,1,0,2,0,0,0,0,0,0,0,1,0,0,0,0,5,0,1,0,3,"n",5,0,6]
[{"$nulls":3},656,6,0,4,1,0,1,"LW","n",482,"LW.0482kW.04101",656,3,4429,"DN100",null,1,1,0,0,0,0,0,2,0,0,0,0,1,0,0,5,1,0,0,0,0,0,0,0,1,0,1,0,0,0,0,0,0,1,0,1,0,0,null,0,1,0,1,0,1,0,6,0,6,0,0,1,0,0,1,0,2,0,0,1,0,0,0,0,1,0,0,0,0,5,0,0,0,4,"n",5,0,6]
[{"$nulls":3},673,5,0,0,1,1,3,"LW","n",648,"LW.0648kW.00113",673,3,3799,"DN100",null,2,3,0,0,1,0,0,1,0,0,0,0,1,0,0,2,3,0,0,0,0,0,0,0,1,0,1,0,0,0,0,0,0,1,0,0,1,0,null,0,1,0,1,0,1,0,5,0,5,0,0,1,0,0,1,0,1,0,0,1,0,0,0,0,1,0,0,0,0,2,0,0,0,0,"n",4,0,5]
[{"$nulls":3},686,5,0,0,2,1,2,"LW","n",580,"LW.0580kW.00212",686,3,3799,"DN100",null,3,2,0,0,1,0,0,1,0,0,0,0,1,0,0,3,2,0,0,0,0,0,0,0,1,0,1,0,0,0,0,0,0,0,1,1,0,0,null,0,1,0,1,0,1,0,5,0,5,0,0,1,0,0,1,0,1,0,0,1,0,0,0,0,1,0,0,0,0,3,0,0,0,0,"n",4,0,5]
[{"$nulls":3},701,5,3,0,0,0,2,"LW","n",427,"LW.0427kW.30002",701,2,3867,"DN65",null,0,2,0,0,1,0,0,1,0,0,0,1,0,1,0,3,2,0,0,0,0,0,0,0,1,0,1,0,0,0,0,0,0,0,1,1,0,0,null,0,1,1,0,0,1,0,5,0,5,0,0,1,1,0,1,0,1,0,0,0,0,0,0,0,1,0,0,0,0,3,0,1,0,3,"n",4,0,5]
[{"$nulls":3},716,5,1,1,1,1,1,"LW","n",446,"LW.0446kW.11111",716,5,3867,"DN65",null,2,1,0,0,1,0,0,1,0,0,0,1,0,1,0,4,1,0,0,0,0,0,0,0,1,0,1,0,0,0,0,0,0,0,0,0,0,1,null,0,1,1,0,0,1,0,5,0,5,0,0,1,1,0,1,0,1,0,0,0,0,0,0,0,1,0,0,0,0,4,0,1,0,2,"n",4,0,5]
[{"$nulls":3},732,5,0,4,0,0,1,"LW","n",398,"LW.0398kW.04001",732,2,3867,"DN65",null,0,1,0,0,1,0,0,1,0,0,0,1,0,1,0,4,1,0,0,0,0,0,0,0,1,0,1,0,0,0,0,0,0,0,0,0,0,1,null,0,1,1,0,0,1,0,5,0,5,0,0,1,1,0,1,0,1,0,0,0,0,0,0,0,1,0,0,0,0,4,0,1,0,4,"n",4,0,5]
[{"$nulls":3},746,4,0,0,2,0,2,"LW","n",473,"LW.0473kW.00202",746,2,3169,"DN100",null,2,2,0,0,2,0,0,0,0,0,0,0,1,0,0,2,2,0,0,0,0,0,0,0,1,0,1,0,0,0,0,0,0,1,1,0,0,0,null,0,1,0,1,0,1,0,4,0,4,0,0,1,0,0,1,0,1,1,0,1,0,0,0,0,1,0,1,0,0,2,1,0,0,0,"n",3,0,4]
[{"$nulls":3},761,4,2,0,0,1,1,"LW","n",341,"LW.0341kW.20011",761,3,2897,"DN65",null,1,1,0,0,2,0,0,0,0,0,1,0,0,1,0,3,1,0,0,0,0,0,0,0,1,0,1,0,0,0,0,0,0,0,0,1,0,0,null,0,1,1,0,0,1,0,4,0,4,0,0,0,1,1,1,0,1,1,0,0,0,0,0,0,0,1,1,0,0,3,1,1,0,2,"n",3,0,4]
[{"$nulls":3},777,3,0,0,0,2,1,"LW","n",366,"LW.0366kW.00021",777,2,2607,"DN65",null,2,1,0,0,0,0,0,1,0,0,0,1,0,1,0,2,1,0,0,0,0,0,0,0,1,0,1,0,0,0,0,0,0,1,0,0,0,0,null,0,1,1,0,0,1,0,3,0,3,0,0,1,1,0,1,0,1,1,0,0,0,0,0,0,1,0,1,0,0,2,1,1,0,0,"n",2,0,3]
[{"$nulls":3},792,8,0,0,0,0,8,"LV","n",1217,"LV.1217kW.00008",792,1,5689,"DN100",null,0,8,0,0,1,0,0,2,0,0,0,0,1,0,0,0,8,0,0,0,0,0,0,0,1,0,1,0,0,0,9,0,8,0,0,0,0,0,null,0,1,0,1,0,1,0,8,0,8,0,8,1,0,0,1,20,2,0,0,1,0,1,0,4,1,0,0,0,0,0,0,0,0,0,"n",7,0,8]
[{"$nulls":3},803,8,1,0,1,0,6,"LV","n",1038,"LV.1038kW.10106",803,3,5689,"DN100",null,1,6,0,0,1,0,0,2,0,0,0,0,1,0,0,2,6,0,0,0,0,0,0,0,1,0,1,0,0,0,9,0,8,0,0,0,0,0,null,0,1,0,1,0,1,0,8,0,8,0,8,1,0,0,1,20,2,0,0,1,0,1,0,4,1,0,0,0,0,2,0,0,0,1,"n",7,0,8]
[{"$nulls":3},807,8,0,0,0,3,5,"LV","n",1082,"LV.1082kW.00035",807,2,5689,"DN100",null,3,5,0,0,1,0,0,2,0,0,0,0,1,0,0,3,5,0,0,0,0,0,0,0,1,0,1,0,0,0,9,0,8,0,0,0,0,0,null,0,1,0,1,0,1,0,8,0,8,0,8,1,0,0,1,20,2,0,0,1,0,1,0,4,1,0,0,0,0,3,0,0,0,0,"n",7,0,8]
[{"$nulls":3},822,8,2,0,1,0,5,"LV","n",926,"LV.0926kW.20105",822,3,5689,"DN100",null,1,5,0,0,1,0,0,2,0,0,0,0,1,0,0,3,5,0,0,0,0,0,0,0,1,0,1,0,0,0,9,0,8,0,0,0,0,0,null,0,1,0,1,0,1,0,8,0,8,0,8,1,0,0,1,20,2,0,0,1,0,1,0,4,1,0,0,0,0,3,0,0,0,2,"n",7,0,8]
[{"$nulls":3},838,8,0,1,2,1,4,"LV","n",945,"LV.0945kW.01214",838,4,5689,"DN100",null,3,4,0,0,1,0,0,2,0,0,0,0,1,0,0,4,4,0,0,0,0,0,0,0,1,0,1,0,0,0,9,0,8,0,0,0,0,0,null,0,1,0,1,0,1,0,8,0,8,0,8,1,0,0,1,20,2,0,0,1,0,1,0,4,1,0,0,0,0,4,0,0,0,1,"n",7,0,8]
[{"$nulls":3},853,8,0,3,1,0,4,"LV","n",877,"LV.0877kW.03104",853,3,5689,"DN100",null,1,4,0,0,1,0,0,2,0,0,0,0,1,0,0,4,4,0,0,0,0,0,0,0,1,0,1,0,0,0,9,0,8,0,0,0,0,0,null,0,1,0,1,0,1,0,8,0,8,0,8,1,0,0,1,20,2,0,0,1,0,1,0,4,1,0,0,0,0,4,0,0,0,3,"n",7,0,8]
[{"$nulls":3},876,8,1,1,1,2,3,"LV","n",857,"LV.0857kW.11123",876,5,5689,"DN100",null,3,3,0,0,1,0,0,2,0,0,0,0,1,0,0,5,3,0,0,0,0,0,0,0,1,0,1,0,0,0,9,0,8,0,0,0,0,0,null,0,1,0,1,0,1,0,8,0,8,0,8,1,0,0,1,20,2,0,0,1,0,1,0,4,1,0,0,0,0,5,0,0,0,2,"n",7,0,8]
[{"$nulls":3},883,8,0,1,3,1,3,"LV","n",877,"LV.0877kW.01313",883,4,5689,"DN100",null,4,3,0,0,1,0,0,2,0,0,0,0,1,0,0,5,3,0,0,0,0,0,0,0,1,0,1,0,0,0,9,0,8,0,0,0,0,0,null,0,1,0,1,0,1,0,8,0,8,0,8,1,0,0,1,20,2,0,0,1,0,1,0,4,1,0,0,0,0,5,0,0,0,1,"n",7,0,8]
[{"$nulls":3},898,8,0,1,4,0,3,"LV","n",{"$f":"ROUND(SUMPRODUCT($F$3:$J$3,F903:J903),0)","v":855},{"$f":"IF(M903>=1000,CONCATENATE(K903,\".\",M903,\"kW.\",F903,G903,H903,I903,J903),CONCATENATE(K903,\".0\",M903,\"kW.\",F903,G903,H903,I903,J903))","v":"LV.0855kW.01403"},898,3,5689,"DN100",null,{"$f":"I903+H903","v":4},{"$f":"J903","v":3},0,0,1,0,0,2,0,0,0,0,1,0,0,5,3,0,0,0,0,0,0,0,1,0,1,0,0,0,9,0,8,0,0,0,0,0,null,0,1,0,1,0,1,0,8,0,8,{"$f":"+BO903","v":0},8,1,0,0,1,20,2,0,0,1,0,1,0,4,1,0,0,0,0,5,0,0,0,{"$f":"F903+G903","v":1},"n",7,0,{"$f":"IF(K903<>\"RG\",E903,IF(OR(E903=4,E903=6,E903=8),0,1))","v":8}]
[{"$nulls":3},914,8,2,3,0,0,3,"LV","n",722,"LV.0722kW.23003",914,3,5689,"DN100",null,0,3,0,0,1,0,0,2,0,0,0,0,1,0,0,5,3,0,0,0,0,0,0,0,1,0,1,0,0,0,9,0,8,0,0,0,0,0,null,0,1,0,1,0,1,0,8,0,8,0,8,1,0,0,1,20,2,0,0,1,0,1,0,4,1,0,0,0,0,5,0,0,0,5,"n",7,0,8]
[{"$nulls":3},929,8,0,1,2,3,2,"LV","n",855,"LV.0855kW.01232",929,4,5689,"DN100",null,5,2,0,0,1,0,0,2,0,0,0,0,1,0,0,6,2,0,0,0,0,0,0,0,1,0,1,0,0,0,9,0,8,0,0,0,0,0,null,0,1,0,1,0,1,0,8,0,8,0,8,1,0,0,1,20,2,0,0,1,0,1,0,4,1,0,0,0,0,6,0,0,0,1,"n",7,0,8]
[{"$nulls":3},945,8,1,2,1,2,2,"LV","n",766,"LV.0766kW.12122",945,5,5689,"DN100",null,3,2,0,0,1,0,0,2,0,0,0,0,1,0,0,6,2,0,0,0,0,0,0,0,1,0,1,0,0,0,9,0,8,0,0,0,0,0,null,0,1,0,1,0,1,0,8,0,8,0,8,1,0,0,1,20,2,0,0,1,0,1,0,4,1,0,0,0,0,6,0,0,0,3,"n",7,0,8]
[{"$nulls":3},959,8,0,3,2,1,2,"LV","n",764,"LV.0764kW.03212",959,4,5689,"DN100",null,3,2,0,0,1,0,0,2,0,0,0,0,1,0,0,6,2,0,0,0,0,0,0,0,1,0,1,0,0,0,9,0,8,0,0,0,0,0,null,0,1,0,1,0,1,0,8,0,8,0,8,1,0,0,1,20,2,0,0,1,0,1,0,4,1,0,0,0,0,6,0,0,0,3,"n",7,0,8]
[{"$nulls":3},974,8,0,0,6,0,2,"LV","n",809,"LV.0809kW.00602",974,2,5689,"DN100",null,6,2,0,0,1,0,0,2,0,0,0,0,1,0,0,6,2,0,0,0,0,0,0,0,1,0,1,0,0,0,9,0,8,0,0,0,0,0,null,0,1,0,1,0,1,0,8,0,8,0,8,1,0,0,1,20,2,0,0,1,0,1,0,4,1,0,0,0,0,6,0,0,0,0,"n",7,0,8]
[{"$nulls":3},990,8,1,4,1,0,2,"LV","n",675,"LV.0675kW.14102",990,4,5689,"DN100",null,1,2,0,0,1,0,0,2,0,0,0,0,1,0,0,6,2,0,0,0,0,0,0,0,1,0,1,0,0,0,9,0,8,0,0,0,0,0,null,0,1,0,1,0,1,0,8,0,8,0,8,1,0,0,1,20,2,0,0,1,0,1,0,4,1,0,0,0,0,6,0,0,0,5,"n",7,0,8]
[{"$nulls":3},1002,8,0,0,0,7,1,"LV","n",901,"LV.0901kW.00071",1002,2,5689,"DN100",null,7,1,0,0,1,0,0,2,0,0,0,0,1,0,0,7,1,0,0,0,0,0,0,0,1,0,1,0,0,0,9,0,8,0,0,0,0,0,null,0,1,0,1,0,1,0,8,0,8,0,8,1,0,0,1,20,2,0,0,1,0,1,0,4,1,0,0,0,0,7,0,0,0,0,"n",7,0,8]
[{"$nulls":3},1019,8,1,2,0,4,1,"LV","n",744,"LV.0744kW.12041",1019,4,5689,"DN100",null,4,1,0,0,1,0,0,2,0,0,0,0,1,0,0,7,1,0,0,0,0,0,0,0,1,0,1,0,0,0,9,0,8,0,0,0,0,0,null,0,1,0,1,0,1,0,8,0,8,0,8,1,0,0,1,20,2,0,0,1,0,1,0,4,1,0,0,0,0,7,0,0,0,3,"n",7,0,8]
[{"$nulls":3},1035,8,3,1,0,3,1,"LV","n",657,"LV.0657kW.31031",1035,4,5689,"DN100",null,3,1,0,0,1,0,0,2,0,0,0,0,1,0,0,7,1,0,0,0,0,0,0,0,1,0,1,0,0,0,9,0,8,0,0,0,0,0,null,0,1,0,1,0,1,0,8,0,8,0,8,1,0,0,1,20,2,0,0,1,0,1,0,4,1,0,0,0,0,7,0,0,0,4,"n",7,0,8]
[{"$nulls":3},1050,8,3,1,1,2,1,"LV","n",634,"LV.0634kW.31121",1050,5,5689,"DN100",null,3,1,0,0,1,0,0,2,0,0,0,0,1,0,0,7,1,0,0,0,0,0,0,0,1,0,1,0,0,0,9,0,8,0,0,0,0,0,null,0,1,0,1,0,1,0,8,0,8,0,8,1,0,0,1,20,2,0,0,1,0,1,0,4,1,0,0,0,0,7,0,0,0,4,"n",7,0,8]
[{"$nulls":3},1066,8,2,1,3,1,1,"LV","n",655,"LV.0655kW.21311",1066,5,5689,"DN100",null,4,1,0,0,1,0,0,2,0,0,0,0,1,0,0,7,1,0,0,0,0,0,0,0,1,0,1,0,0,0,9,0,8,0,0,0,0,0,null,0,1,0,1,0,1,0,8,0,8,0,8,1,0,0,1,20,2,0,0,1,0,1,0,4,1,0,0,0,0,7,0,0,0,3,"n",7,0,8]
[{"$nulls":3},1075,8,2,3,1,1,1,"LV","n",609,"LV.0609kW.23111",1075,5,5689,"DN100",null,2,1,0,0,1,0,0,2,0,0,0,0,1,0,0,7,1,0,0,0,0,0,0,0,1,0,1,0,0,0,9,0,8,0,0,0,0,0,null,0,1,0,1,0,1,0,8,0,8,0,8,1,0,0,1,20,2,0,0,1,0,1,0,4,1,0,0,0,0,7,0,0,0,5,"n",7,0,8]
[{"$nulls":3},1095,8,3,0,4,0,1,"LV","n",611,"LV.0611kW.30401",1095,3,5689,"DN100",null,4,1,0,0,1,0,0,2,0,0,0,0,1,0,0,7,1,0,0,0,0,0,0,0,1,0,1,0,0,0,9,0,8,0,0,0,0,0,null,0,1,0,1,0,1,0,8,0,8,0,8,1,0,0,1,20,2,0,0,1,0,1,0,4,1,0,0,0,0,7,0,0,0,3,"n",7,0,8]
[{"$nulls":3},1111,8,4,2,1,0,1,"LV","n",523,"LV.0523kW.42101",1111,4,5689,"DN100",null,1,1,0,0,1,0,0,2,0,0,0,0,1,0,0,7,1,0,0,0,0,0,0,0,1,0,1,0,0,0,9,0,8,0,0,0,0,0,null,0,1,0,1,0,1,0,8,0,8,0,8,1,0,0,1,20,2,0,0,1,0,1,0,4,1,0,0,0,0,7,0,0,0,6,"n",7,0,8]
[{"$nulls":3},1126,7,1,0,0,0,6,"LV","n",953,"LV.0953kW.10006",1126,2,5059,"DN100",null,0,6,0,0,2,0,0,1,0,0,0,0,1,0,0,1,6,0,0,0,0,0,0,0,1,0,1,0,0,0,8,0,7,0,0,0,0,0,null,0,1,0,1,0,1,0,7,0,7,0,7,1,0,0,1,18,2,0,0,1,0,1,0,4,1,0,0,0,0,1,0,0,0,1,"n",6,0,7]
[{"$nulls":3},1141,7,0,0,2,1,4,"LV","n",884,"LV.0884kW.00214",1141,3,5059,"DN100",null,3,4,0,0,2,0,0,1,0,0,0,0,1,0,0,3,4,0,0,0,0,0,0,0,1,0,1,0,0,0,8,0,7,0,0,0,0,0,null,0,1,0,1,0,1,0,7,0,7,0,7,1,0,0,1,18,2,0,0,1,0,1,0,4,1,0,0,0,0,3,0,0,0,0,"n",6,0,7]
[{"$nulls":3},1148,7,0,1,2,0,4,"LV","n",838,"LV.0838kW.01204",1148,3,5059,"DN100",null,2,4,0,0,2,0,0,1,0,0,0,0,1,0,0,3,4,0,0,0,0,0,0,0,1,0,1,0,0,0,8,0,7,0,0,0,0,0,null,0,1,0,1,0,1,0,7,0,7,0,7,1,0,0,1,18,2,0,0,1,0,1,0,4,1,0,0,0,0,3,0,0,0,1,"n",6,0,7]
[{"$nulls":3},1171,7,1,1,1,1,3,"LV","n",750,"LV.0750kW.11113",1171,5,5059,"DN100",null,2,3,0,0,2,0,0,1,0,0,0,0,1,0,0,4,3,0,0,0,0,0,0,0,1,0,1,0,0,0,8,0,7,0,0,0,0,0,null,0,1,0,1,0,1,0,7,0,7,0,7,1,0,0,1,18,2,0,0,1,0,1,0,4,1,0,0,0,0,4,0,0,0,2,"n",6,0,7]
[{"$nulls":3},1187,7,0,4,0,0,3,"LV","n",702,"LV.0702kW.04003",1187,2,5059,"DN100",null,0,3,0,0,2,0,0,1,0,0,0,0,1,0,0,4,3,0,0,0,0,0,0,0,1,0,1,0,0,0,8,0,7,0,0,0,0,0,null,0,1,0,1,0,1,0,7,0,7,0,7,1,0,0,1,18,2,0,0,1,0,1,0,4,1,0,0,0,0,4,0,0,0,4,"n",6,0,7]
[{"$nulls":3},1202,7,0,0,3,2,2,"LV","n",771,"LV.0771kW.00322",1202,3,5059,"DN100",null,5,2,0,0,2,0,0,1,0,0,0,0,1,0,0,5,2,0,0,0,0,0,0,0,1,0,1,0,0,0,8,0,7,0,0,0,0,0,null,0,1,0,1,0,1,0,7,0,7,0,7,1,0,0,1,18,2,0,0,1,0,1,0,4,1,0,0,0,0,5,0,0,0,0,"n",6,0,7]
[{"$nulls":3},1217,7,2,0,2,1,2,"LV","n",661,"LV.0661kW.20212",1217,4,5059,"DN100",null,3,2,0,0,2,0,0,1,0,0,0,0,1,0,0,5,2,0,0,0,0,0,0,0,1,0,1,0,0,0,8,0,7,0,0,0,0,0,null,0,1,0,1,0,1,0,7,0,7,0,7,1,0,0,1,18,2,0,0,1,0,1,0,4,1,0,0,0,0,5,0,0,0,2,"n",6,0,7]
[{"$nulls":3},1235,7,2,1,2,0,2,"LV","n",616,"LV.0616kW.21202",1235,4,5059,"DN100",null,2,2,0,0,2,0,0,1,0,0,0,0,1,0,0,5,2,0,0,0,0,0,0,0,1,0,1,0,0,0,8,0,7,0,0,0,0,0,null,0,1,0,1,0,1,0,7,0,7,0,7,1,0,0,1,18,2,0,0,1,0,1,0,4,1,0,0,0,0,5,0,0,0,3,"n",6,0,7]
[{"$nulls":3},1247,7,5,0,0,0,2,"LV","n",508,"LV.0508kW.50002",1247,2,5059,"DN100",null,0,2,0,0,2,0,0,1,0,0,0,0,1,0,0,5,2,0,0,0,0,0,0,0,1,0,1,0,0,0,8,0,7,0,0,0,0,0,null,0,1,0,1,0,1,0,7,0,7,0,7,1,0,0,1,18,2,0,0,1,0,1,0,4,1,0,0,0,0,5,0,0,0,5,"n",6,0,7]
[{"$nulls":3},1262,7,1,1,1,3,1,"LV","n",660,"LV.0660kW.11131",1262,5,5059,"DN100",null,4,1,0,0,2,0,0,1,0,0,0,0,1,0,0,6,1,0,0,0,0,0,0,0,1,0,1,0,0,0,8,0,7,0,0,0,0,0,null,0,1,0,1,0,1,0,7,0,7,0,7,1,0,0,1,18,2,0,0,1,0,1,0,4,1,0,0,0,0,6,0,0,0,2,"n",6,0,7]
[{"$nulls":3},1278,7,0,4,0,2,1,"LV","n",612,"LV.0612kW.04021",1278,3,5059,"DN100",null,2,1,0,0,2,0,0,1,0,0,0,0,1,0,0,6,1,0,0,0,0,0,0,0,1,0,1,0,0,0,8,0,7,0,0,0,0,0,null,0,1,0,1,0,1,0,7,0,7,0,7,1,0,0,1,18,2,0,0,1,0,1,0,4,1,0,0,0,0,6,0,0,0,4,"n",6,0,7]
[{"$nulls":3},1288,7,2,0,3,1,1,"LV","n",593,"LV.0593kW.20311",1288,4,5059,"DN100",null,4,1,0,0,2,0,0,1,0,0,0,0,1,0,0,6,1,0,0,0,0,0,0,0,1,0,1,0,0,0,8,0,7,0,0,0,0,0,null,0,1,0,1,0,1,0,7,0,7,0,7,1,0,0,1,18,2,0,0,1,0,1,0,4,1,0,0,0,0,6,0,0,0,2,"n",6,0,7]
[{"$nulls":3},1308,7,1,1,4,0,1,"LV","n",591,"LV.0591kW.11401",1308,4,5059,"DN100",null,4,1,0,0,2,0,0,1,0,0,0,0,1,0,0,6,1,0,0,0,0,0,0,0,1,0,1,0,0,0,8,0,7,0,0,0,0,0,null,0,1,0,1,0,1,0,7,0,7,0,7,1,0,0,1,18,2,0,0,1,0,1,0,4,1,0,0,0,0,6,0,0,0,2,"n",6,0,7]
[{"$nulls":3},1323,7,4,1,1,0,1,"LV","n",461,"LV.0461kW.41101",1323,4,5127,"DN65",null,1,1,0,0,2,0,0,1,0,0,0,1,0,1,0,6,1,0,0,0,0,0,0,0,1,0,1,0,0,0,8,0,7,0,0,0,0,0,null,0,1,1,0,0,1,0,7,0,7,0,7,1,1,0,1,18,2,0,0,0,0,1,0,4,1,0,0,0,0,6,0,1,0,5,"n",6,0,7]
[{"$nulls":3},1338,6,0,0,1,1,4,"LV","n",800,"LV.0800kW.00114",1338,3,4429,"DN100",null,2,4,0,0,0,0,0,2,0,0,0,0,1,0,0,2,4,0,0,0,0,0,0,0,1,0,1,0,0,0,7,0,6,0,0,0,0,0,null,0,1,0,1,0,1,0,6,0,6,0,6,1,0,0,1,15,2,0,0,1,0,1,0,3,1,0,0,0,0,2,0,0,0,0,"n",5,0,6]
[{"$nulls":3},1354,6,0,2,0,1,3,"LV","n",686,"LV.0686kW.02013",1354,3,4429,"DN100",null,1,3,0,0,0,0,0,2,0,0,0,0,1,0,0,3,3,0,0,0,0,0,0,0,1,0,1,0,0,0,7,0,6,0,0,0,0,0,null,0,1,0,1,0,1,0,6,0,6,0,6,1,0,0,1,15,2,0,0,1,0,1,0,3,1,0,0,0,0,3,0,0,0,2,"n",5,0,6]
[{"$nulls":3},1361,6,1,1,1,0,3,"LV","n",643,"LV.0643kW.11103",1361,4,4429,"DN100",null,1,3,0,0,0,0,0,2,0,0,0,0,1,0,0,3,3,0,0,0,0,0,0,0,1,0,1,0,0,0,7,0,6,0,0,0,0,0,null,0,1,0,1,0,1,0,6,0,6,0,6,1,0,0,1,15,2,0,0,1,0,1,0,3,1,0,0,0,0,3,0,0,0,2,"n",5,0,6]
[{"$nulls":3},1369,6,0,1,0,3,2,"LV","n",687,"LV.0687kW.01032",1369,3,4429,"DN100",null,3,2,0,0,0,0,0,2,0,0,0,0,1,0,0,4,2,0,0,0,0,0,0,0,1,0,1,0,0,0,7,0,6,0,0,0,0,0,null,0,1,0,1,0,1,0,6,0,6,0,6,1,0,0,1,15,2,0,0,1,0,1,0,3,1,0,0,0,0,4,0,0,0,1,"n",5,0,6]
[{"$nulls":3},1384,6,1,2,0,1,2,"LV","n",575,"LV.0575kW.12012",1384,4,4429,"DN100",null,1,2,0,0,0,0,0,2,0,0,0,0,1,0,0,4,2,0,0,0,0,0,0,0,1,0,1,0,0,0,7,0,6,0,0,0,0,0,null,0,1,0,1,0,1,0,6,0,6,0,6,1,0,0,1,15,2,0,0,1,0,1,0,3,1,0,0,0,0,4,0,0,0,3,"n",5,0,6]
[{"$nulls":3},1399,6,2,2,0,0,2,"LV","n",509,"LV.0509kW.22002",1399,3,4429,"DN100",null,0,2,0,0,0,0,0,2,0,0,0,0,1,0,0,4,2,0,0,0,0,0,0,0,1,0,1,0,0,0,7,0,6,0,0,0,0,0,null,0,1,0,1,0,1,0,6,0,6,0,6,1,0,0,1,15,2,0,0,1,0,1,0,3,1,0,0,0,0,4,0,0,0,4,"n",5,0,6]
[{"$nulls":3},1415,6,0,2,1,2,1,"LV","n",573,"LV.0573kW.02121",1415,4,4429,"DN100",null,3,1,0,0,0,0,0,2,0,0,0,0,1,0,0,5,1,0,0,0,0,0,0,0,1,0,1,0,0,0,7,0,6,0,0,0,0,0,null,0,1,0,1,0,1,0,6,0,6,0,6,1,0,0,1,15,2,0,0,1,0,1,0,3,1,0,0,0,0,5,0,0,0,2,"n",5,0,6]
[{"$nulls":3},1434,6,2,2,0,1,1,"LV","n",464,"LV.0464kW.22011",1434,4,4497,"DN65",null,1,1,0,0,0,0,0,2,0,0,0,1,0,1,0,5,1,0,0,0,0,0,0,0,1,0,1,0,0,0,7,0,6,0,0,0,0,0,null,0,1,1,0,0,1,0,6,0,6,0,6,1,1,0,1,15,2,0,0,0,0,1,0,3,1,0,0,0,0,5,0,1,0,4,"n",5,0,6]
[{"$nulls":3},1444,6,1,2,2,0,1,"LV","n",484,"LV.0484kW.12201",1444,4,4429,"DN100",null,2,1,0,0,0,0,0,2,0,0,0,0,1,0,0,5,1,0,0,0,0,0,0,0,1,0,1,0,0,0,7,0,6,0,0,0,0,0,null,0,1,0,1,0,1,0,6,0,6,0,6,1,0,0,1,15,2,0,0,1,0,1,0,3,1,0,0,0,0,5,0,0,0,3,"n",5,0,6]
[{"$nulls":3},1460,5,0,0,1,0,4,"LV","n",693,"LV.0693kW.00104",1460,2,3799,"DN100",null,1,4,0,0,1,0,0,1,0,0,0,0,1,0,0,1,4,0,0,0,0,0,0,0,1,0,1,0,0,0,6,0,5,0,0,0,0,0,null,0,1,0,1,0,1,0,5,0,5,0,5,1,0,0,1,12,1,0,0,1,0,1,0,3,1,0,0,0,0,1,0,0,0,0,"n",4,0,5]
[{"$nulls":3},1475,5,0,1,0,2,2,"LV","n",580,"LV.0580kW.01022",1475,3,3799,"DN100",null,2,2,0,0,1,0,0,1,0,0,0,0,1,0,0,3,2,0,0,0,0,0,0,0,1,0,1,0,0,0,6,0,5,0,0,0,0,0,null,0,1,0,1,0,1,0,5,0,5,0,5,1,0,0,1,12,1,0,0,1,0,1,0,3,1,0,0,0,0,3,0,0,0,1,"n",4,0,5]
[{"$nulls":3},1491,5,2,1,0,0,2,"LV","n",447,"LV.0447kW.21002",1491,3,3867,"DN65",null,0,2,0,0,1,0,0,1,0,0,0,1,0,1,0,3,2,0,0,0,0,0,0,0,1,0,1,0,0,0,6,0,5,0,0,0,0,0,null,0,1,1,0,0,1,0,5,0,5,0,5,1,1,0,1,12,1,0,0,0,0,1,0,3,1,0,0,0,0,3,0,1,0,3,"n",4,0,5]
[{"$nulls":3},1505,5,1,0,2,1,1,"LV","n",468,"LV.0468kW.10211",1505,4,3799,"DN100",null,3,1,0,0,1,0,0,1,0,0,0,0,1,0,0,4,1,0,0,0,0,0,0,0,1,0,1,0,0,0,6,0,5,0,0,0,0,0,null,0,1,0,1,0,1,0,5,0,5,0,5,1,0,0,1,12,1,0,0,1,0,1,0,3,1,0,0,0,0,4,0,0,0,1,"n",4,0,5]
[{"$nulls":3},1520,5,1,2,1,0,1,"LV","n",400,"LV.0400kW.12101",1520,4,3867,"DN65",null,1,1,0,0,1,0,0,1,0,0,0,1,0,1,0,4,1,0,0,0,0,0,0,0,1,0,1,0,0,0,6,0,5,0,0,0,0,0,null,0,1,1,0,0,1,0,5,0,5,0,5,1,1,0,1,12,1,0,0,0,0,1,0,3,1,0,0,0,0,4,0,1,0,3,"n",4,0,5]
[{"$nulls":3},1536,4,1,0,0,1,2,"LV","n",452,"LV.0452kW.10012",1536,3,3237,"DN65",null,1,2,0,0,2,0,0,0,0,0,0,1,0,1,0,2,2,0,0,0,0,0,0,0,1,0,1,0,0,0,5,0,4,0,0,0,0,0,null,0,1,1,0,0,1,0,4,0,4,0,4,1,1,0,1,10,1,1,0,0,0,1,0,2,1,0,1,0,0,2,1,1,0,1,"n",3,0,4]
[{"$nulls":3},1551,4,1,1,0,1,1,"LV","n",361,"LV.0361kW.11011",1551,4,3237,"DN65",null,1,1,0,0,2,0,0,0,0,0,0,1,0,1,0,3,1,0,0,0,0,0,0,0,1,0,1,0,0,0,5,0,4,0,0,0,0,0,null,0,1,1,0,0,1,0,4,0,4,0,4,1,1,0,1,10,1,1,0,0,0,1,0,2,1,0,1,0,0,3,1,1,0,2,"n",3,0,4]
[{"$nulls":3},1574,3,1,0,1,0,1,"LV","n",277,"LV.0277kW.10101",1574,3,2267,"DN65",null,1,1,0,0,0,0,0,1,0,0,1,0,0,1,0,2,1,0,0,0,0,0,0,0,1,0,1,0,0,0,4,0,3,0,0,0,0,0,null,0,1,1,0,0,1,0,3,0,3,0,3,0,1,1,1,8,1,1,0,0,0,1,0,2,0,1,1,0,0,2,1,1,0,1,"n",2,0,3]
[{"$nulls":3},1581,2,0,1,0,0,1,"LV","n",214,"LV.0214kW.01001",1581,2,1637,"DN65",null,0,1,0,0,1,0,0,0,0,0,1,0,0,1,0,1,1,0,0,0,0,0,0,0,1,0,1,0,0,0,3,0,2,0,0,0,0,0,null,0,1,1,0,0,1,0,2,0,2,0,2,0,1,1,1,6,1,1,0,0,0,1,0,1,0,1,1,0,0,1,1,1,0,1,"n",1,0,2]
[{"$nulls":3},1596,8,1,1,0,0,6,"RG","n",1015,"RG.1015kW.11006",1596,3,3169,"DN100",null,0,6,0,0,2,0,0,0,0,0,0,0,1,0,0,1,3,0,1,3,0,0,0,0,1,0,1,0,3,0,2,0,4,0,0,0,0,0,null,0,1,0,1,0,1,0,4,0,8,0,0,1,0,0,1,14,2,0,0,1,0,1,0,4,1,0,0,0,0,2,0,0,0,2,"n",7,0,0]
[{"$nulls":3},1612,8,1,1,1,0,5,"RG","n",947,"RG.0947kW.11105",1612,4,3169,"DN100",null,1,5,0,0,2,0,0,0,0,0,0,0,1,0,0,2,3,0,1,2,0,0,0,0,1,0,1,0,3,0,2,0,4,0,0,0,0,0,null,0,1,0,1,0,1,0,4,0,8,0,0,1,0,0,1,14,2,0,0,1,0,1,0,4,1,0,0,0,0,3,0,0,0,2,"n",7,0,0]
[{"$nulls":3},1627,8,2,0,0,2,4,"RG","n",904,"RG.0904kW.20024",1627,3,3169,"DN100",null,2,4,0,0,2,0,0,0,0,0,0,0,1,0,0,2,2,0,2,2,0,0,0,0,1,0,1,0,3,0,2,0,4,0,0,0,0,0,null,0,1,0,1,0,1,0,4,0,8,0,0,1,0,0,1,14,2,0,0,1,0,1,0,4,1,0,0,0,0,4,0,0,0,2,"n",7,0,0]
[{"$nulls":3},1647,8,3,0,1,0,4,"RG","n",815,"RG.0815kW.30104",1647,3,3169,"DN100",null,1,4,0,0,2,0,0,0,0,0,0,0,1,0,0,2,2,0,2,2,0,0,0,0,1,0,1,0,3,0,2,0,4,0,0,0,0,0,null,0,1,0,1,0,1,0,4,0,8,0,0,1,0,0,1,14,2,0,0,1,0,1,0,4,1,0,0,0,0,4,0,0,0,3,"n",7,0,0]
[{"$nulls":3},1657,8,0,0,2,3,3,"RG","n",946,"RG.0946kW.00233",1657,3,3169,"DN100",null,5,3,0,0,2,0,0,0,0,0,0,0,1,0,0,3,2,0,2,1,0,0,0,0,1,0,1,0,3,0,2,0,4,0,0,0,0,0,null,0,1,0,1,0,1,0,4,0,8,0,0,1,0,0,1,14,2,0,0,1,0,1,0,4,1,0,0,0,0,5,0,0,0,0,"n",7,0,0]
[{"$nulls":3},1672,8,3,0,0,2,3,"RG","n",793,"RG.0793kW.30023",1672,3,3169,"DN100",null,2,3,0,0,2,0,0,0,0,0,0,0,1,0,0,3,2,0,2,1,0,0,0,0,1,0,1,0,3,0,2,0,4,0,0,0,0,0,null,0,1,0,1,0,1,0,4,0,8,0,0,1,0,0,1,14,2,0,0,1,0,1,0,4,1,0,0,0,0,5,0,0,0,3,"n",7,0,0]
[{"$nulls":3},1688,8,0,0,5,0,3,"RG","n",877,"RG.0877kW.00503",1688,2,3169,"DN100",null,5,3,0,0,2,0,0,0,0,0,0,0,1,0,0,3,2,0,2,1,0,0,0,0,1,0,1,0,3,0,2,0,4,0,0,0,0,0,null,0,1,0,1,0,1,0,4,0,8,0,0,1,0,0,1,14,2,0,0,1,0,1,0,4,1,0,0,0,0,5,0,0,0,0,"n",7,0,0]
[{"$nulls":3},1703,8,0,5,0,0,3,"RG","n",764,"RG.0764kW.05003",1703,2,3169,"DN100",null,0,3,0,0,2,0,0,0,0,0,0,0,1,0,0,3,2,0,2,1,0,0,0,0,1,0,1,0,3,0,2,0,4,0,0,0,0,0,null,0,1,0,1,0,1,0,4,0,8,0,0,1,0,0,1,14,2,0,0,1,0,1,0,4,1,0,0,0,0,5,0,0,0,5,"n",7,0,0]
[{"$nulls":3},1720,8,0,1,2,3,2,"RG","n",855,"RG.0855kW.01232",1720,4,3169,"DN100",null,5,2,0,0,2,0,0,0,0,0,0,0,1,0,0,3,1,0,3,1,0,0,0,0,1,0,1,0,3,0,2,0,4,0,0,0,0,0,null,0,1,0,1,0,1,0,4,0,8,0,0,1,0,0,1,14,2,0,0,1,0,1,0,4,1,0,0,0,0,6,0,0,0,1,"n",7,0,0]
[{"$nulls":3},1733,8,1,1,2,2,2,"RG","n",789,"RG.0789kW.11222",1733,5,3169,"DN100",null,4,2,0,0,2,0,0,0,0,0,0,0,1,0,0,3,1,0,3,1,0,0,0,0,1,0,1,0,3,0,2,0,4,0,0,0,0,0,null,0,1,0,1,0,1,0,4,0,8,0,0,1,0,0,1,14,2,0,0,1,0,1,0,4,1,0,0,0,0,6,0,0,0,2,"n",7,0,0]
[{"$nulls":3},1748,8,1,1,3,1,2,"RG","n",766,"RG.0766kW.11312",1748,5,3169,"DN100",null,4,2,0,0,2,0,0,0,0,0,0,0,1,0,0,3,1,0,3,1,0,0,0,0,1,0,1,0,3,0,2,0,4,0,0,0,0,0,null,0,1,0,1,0,1,0,4,0,8,0,0,1,0,0,1,14,2,0,0,1,0,1,0,4,1,0,0,0,0,6,0,0,0,2,"n",7,0,0]
[{"$nulls":3},1763,8,4,1,0,1,2,"RG","n",636,"RG.0636kW.41012",1763,4,3169,"DN100",null,1,2,0,0,2,0,0,0,0,0,0,0,1,0,0,3,1,0,3,1,0,0,0,0,1,0,1,0,3,0,2,0,4,0,0,0,0,0,null,0,1,0,1,0,1,0,4,0,8,0,0,1,0,0,1,14,2,0,0,1,0,1,0,4,1,0,0,0,0,6,0,0,0,5,"n",7,0,0]
[{"$nulls":3},1777,8,2,2,2,0,2,"RG","n",677,"RG.0677kW.22202",1777,4,3169,"DN100",null,2,2,0,0,2,0,0,0,0,0,0,0,1,0,0,3,1,0,3,1,0,0,0,0,1,0,1,0,3,0,2,0,4,0,0,0,0,0,null,0,1,0,1,0,1,0,4,0,8,0,0,1,0,0,1,14,2,0,0,1,0,1,0,4,1,0,0,0,0,6,0,0,0,4,"n",7,0,0]
[{"$nulls":3},1793,8,0,0,0,7,1,"RG","n",901,"RG.0901kW.00071",1793,2,3169,"DN100",null,7,1,0,0,2,0,0,0,0,0,0,0,1,0,0,4,1,0,3,0,0,0,0,0,1,0,1,0,3,0,2,0,4,0,0,0,0,0,null,0,1,0,1,0,1,0,4,0,8,0,0,1,0,0,1,14,2,0,0,1,0,1,0,4,1,0,0,0,0,7,0,0,0,0,"n",7,0,0]
[{"$nulls":3},1809,8,0,3,0,4,1,"RG","n",765,"RG.0765kW.03041",1809,3,3169,"DN100",null,4,1,0,0,2,0,0,0,0,0,0,0,1,0,0,4,1,0,3,0,0,0,0,0,1,0,1,0,3,0,2,0,4,0,0,0,0,0,null,0,1,0,1,0,1,0,4,0,8,0,0,1,0,0,1,14,2,0,0,1,0,1,0,4,1,0,0,0,0,7,0,0,0,3,"n",7,0,0]
[{"$nulls":3},1824,8,1,3,0,3,1,"RG","n",698,"RG.0698kW.13031",1824,4,3169,"DN100",null,3,1,0,0,2,0,0,0,0,0,0,0,1,0,0,4,1,0,3,0,0,0,0,0,1,0,1,0,3,0,2,0,4,0,0,0,0,0,null,0,1,0,1,0,1,0,4,0,8,0,0,1,0,0,1,14,2,0,0,1,0,1,0,4,1,0,0,0,0,7,0,0,0,4,"n",7,0,0]
[{"$nulls":3},1839,8,1,3,1,2,1,"RG","n",676,"RG.0676kW.13121",1839,5,3169,"DN100",null,3,1,0,0,2,0,0,0,0,0,0,0,1,0,0,4,1,0,3,0,0,0,0,0,1,0,1,0,3,0,2,0,4,0,0,0,0,0,null,0,1,0,1,0,1,0,4,0,8,0,0,1,0,0,1,14,2,0,0,1,0,1,0,4,1,0,0,0,0,7,0,0,0,4,"n",7,0,0]
[{"$nulls":3},1850,8,0,1,5,1,1,"RG","n",742,"RG.0742kW.01511",1850,4,3169,"DN100",null,6,1,0,0,2,0,0,0,0,0,0,0,1,0,0,4,1,0,3,0,0,0,0,0,1,0,1,0,3,0,2,0,4,0,0,0,0,0,null,0,1,0,1,0,1,0,4,0,8,0,0,1,0,0,1,14,2,0,0,1,0,1,0,4,1,0,0,0,0,7,0,0,0,1,"n",7,0,0]
[{"$nulls":3},1869,8,5,0,1,1,1,"RG","n",547,"RG.0547kW.50111",1869,4,3169,"DN100",null,2,1,0,0,2,0,0,0,0,0,0,0,1,0,0,4,1,0,3,0,0,0,0,0,1,0,1,0,3,0,2,0,4,0,0,0,0,0,null,0,1,0,1,0,1,0,4,0,8,0,0,1,0,0,1,14,2,0,0,1,0,1,0,4,1,0,0,0,0,7,0,0,0,5,"n",7,0,0]
[{"$nulls":3},1885,8,2,1,4,0,1,"RG","n",632,"RG.0632kW.21401",1885,4,3169,"DN100",null,4,1,0,0,2,0,0,0,0,0,0,0,1,0,0,4,1,0,3,0,0,0,0,0,1,0,1,0,3,0,2,0,4,0,0,0,0,0,null,0,1,0,1,0,1,0,4,0,8,0,0,1,0,0,1,14,2,0,0,1,0,1,0,4,1,0,0,0,0,7,0,0,0,3,"n",7,0,0]
[{"$nulls":3},1900,8,2,4,1,0,1,"RG","n",564,"RG.0564kW.24101",1900,4,3169,"DN100",null,1,1,0,0,2,0,0,0,0,0,0,0,1,0,0,4,1,0,3,0,0,0,0,0,1,0,1,0,3,0,2,0,4,0,0,0,0,0,null,0,1,0,1,0,1,0,4,0,8,0,0,1,0,0,1,14,2,0,0,1,0,1,0,4,1,0,0,0,0,7,0,0,0,6,"n",7,0,0]
[{"$nulls":3},1915,7,0,0,1,0,6,"RG","n",997,"RG.0997kW.00106",1915,2,3169,"DN100",null,1,6,0,0,2,0,0,0,0,0,0,0,1,0,0,1,3,0,0,3,0,0,0,0,1,0,1,0,3,0,2,0,4,0,0,0,0,0,null,0,1,0,1,0,1,0,4,0,7,0,1,1,0,0,1,14,2,0,0,1,0,1,0,4,1,0,0,0,0,1,0,0,0,0,"n",6,0,1]
[{"$nulls":3},1923,7,0,1,1,0,5,"RG","n",906,"RG.0906kW.01105",1923,3,3169,"DN100",null,1,5,0,0,2,0,0,0,0,0,0,0,1,0,0,1,3,0,1,2,0,0,0,0,1,0,1,0,3,0,2,0,4,0,0,0,0,0,null,0,1,0,1,0,1,0,4,0,7,0,1,1,0,0,1,14,2,0,0,1,0,1,0,4,1,0,0,0,0,2,0,0,0,1,"n",6,0,1]
[{"$nulls":3},1945,7,1,2,0,0,4,"RG","n",772,"RG.0772kW.12004",1945,3,3169,"DN100",null,0,4,0,0,2,0,0,0,0,0,0,0,1,0,0,2,2,0,1,2,0,0,0,0,1,0,1,0,3,0,2,0,4,0,0,0,0,0,null,0,1,0,1,0,1,0,4,0,7,0,1,1,0,0,1,14,2,0,0,1,0,1,0,4,1,0,0,0,0,3,0,0,0,3,"n",6,0,1]
[{"$nulls":3},1960,7,1,0,2,1,3,"RG","n",773,"RG.0773kW.10213",1960,4,3169,"DN100",null,3,3,0,0,2,0,0,0,0,0,0,0,1,0,0,2,2,0,2,1,0,0,0,0,1,0,1,0,3,0,2,0,4,0,0,0,0,0,null,0,1,0,1,0,1,0,4,0,7,0,1,1,0,0,1,14,2,0,0,1,0,1,0,4,1,0,0,0,0,4,0,0,0,1,"n",6,0,1]
[{"$nulls":3},1961,7,0,2,1,1,3,"RG","n",771,"RG.0771kW.02113",1961,4,3169,"DN100",null,2,3,0,0,2,0,0,0,0,0,0,0,1,0,0,2,2,0,2,1,0,0,0,0,1,0,1,0,3,0,2,0,4,0,0,0,0,0,null,0,1,0,1,0,1,0,4,0,7,0,1,1,0,0,1,14,2,0,0,1,0,1,0,4,1,0,0,0,0,4,0,0,0,2,"n",6,0,1]
[{"$nulls":3},1976,7,2,1,1,0,3,"RG","n",684,"RG.0684kW.21103",1976,4,3169,"DN100",null,1,3,0,0,2,0,0,0,0,0,0,0,1,0,0,2,2,0,2,1,0,0,0,0,1,0,1,0,3,0,2,0,4,0,0,0,0,0,null,0,1,0,1,0,1,0,4,0,7,0,1,1,0,0,1,14,2,0,0,1,0,1,0,4,1,0,0,0,0,4,0,0,0,3,"n",6,0,1]
[{"$nulls":3},1991,7,1,1,0,3,2,"RG","n",728,"RG.0728kW.11032",1991,4,3169,"DN100",null,3,2,0,0,2,0,0,0,0,0,0,0,1,0,0,3,1,0,2,1,0,0,0,0,1,0,1,0,3,0,2,0,4,0,0,0,0,0,null,0,1,0,1,0,1,0,4,0,7,0,1,1,0,0,1,14,2,0,0,1,0,1,0,4,1,0,0,0,0,5,0,0,0,2,"n",6,0,1]
[{"$nulls":3},2006,7,0,2,2,1,2,"RG","n",703,"RG.0703kW.02212",2006,4,3169,"DN100",null,3,2,0,0,2,0,0,0,0,0,0,0,1,0,0,3,1,0,2,1,0,0,0,0,1,0,1,0,3,0,2,0,4,0,0,0,0,0,null,0,1,0,1,0,1,0,4,0,7,0,1,1,0,0,1,14,2,0,0,1,0,1,0,4,1,0,0,0,0,5,0,0,0,2,"n",6,0,1]
[{"$nulls":3},2021,7,0,2,3,0,2,"RG","n",680,"RG.0680kW.02302",2021,3,3169,"DN100",null,3,2,0,0,2,0,0,0,0,0,0,0,1,0,0,3,1,0,2,1,0,0,0,0,1,0,1,0,3,0,2,0,4,0,0,0,0,0,null,0,1,0,1,0,1,0,4,0,7,0,1,1,0,0,1,14,2,0,0,1,0,1,0,4,1,0,0,0,0,5,0,0,0,2,"n",6,0,1]
[{"$nulls":3},2037,7,4,1,0,0,2,"RG","n",529,"RG.0529kW.41002",2037,3,3169,"DN100",null,0,2,0,0,2,0,0,0,0,0,0,0,1,0,0,3,1,0,2,1,0,0,0,0,1,0,1,0,3,0,2,0,4,0,0,0,0,0,null,0,1,0,1,0,1,0,4,0,7,0,1,1,0,0,1,14,2,0,0,1,0,1,0,4,1,0,0,0,0,5,0,0,0,5,"n",6,0,1]
[{"$nulls":3},2063,7,1,1,2,2,1,"RG","n",637,"RG.0637kW.11221",2063,5,3169,"DN100",null,4,1,0,0,2,0,0,0,0,0,0,0,1,0,0,3,1,0,3,0,0,0,0,0,1,0,1,0,3,0,2,0,4,0,0,0,0,0,null,0,1,0,1,0,1,0,4,0,7,0,1,1,0,0,1,14,2,0,0,1,0,1,0,4,1,0,0,0,0,6,0,0,0,2,"n",6,0,1]
[{"$nulls":3},2066,7,1,2,1,2,1,"RG","n",614,"RG.0614kW.12121",2066,5,3169,"DN100",null,3,1,0,0,2,0,0,0,0,0,0,0,1,0,0,3,1,0,3,0,0,0,0,0,1,0,1,0,3,0,2,0,4,0,0,0,0,0,null,0,1,0,1,0,1,0,4,0,7,0,1,1,0,0,1,14,2,0,0,1,0,1,0,4,1,0,0,0,0,6,0,0,0,3,"n",6,0,1]
[{"$nulls":3},2082,7,2,1,2,1,1,"RG","n",571,"RG.0571kW.21211",2082,5,3169,"DN100",null,3,1,0,0,2,0,0,0,0,0,0,0,1,0,0,3,1,0,3,0,0,0,0,0,1,0,1,0,3,0,2,0,4,0,0,0,0,0,null,0,1,0,1,0,1,0,4,0,7,0,1,1,0,0,1,14,2,0,0,1,0,1,0,4,1,0,0,0,0,6,0,0,0,3,"n",6,0,1]
[{"$nulls":3},2097,7,1,0,5,0,1,"RG","n",614,"RG.0614kW.10501",2097,3,3169,"DN100",null,5,1,0,0,2,0,0,0,0,0,0,0,1,0,0,3,1,0,3,0,0,0,0,0,1,0,1,0,3,0,2,0,4,0,0,0,0,0,null,0,1,0,1,0,1,0,4,0,7,0,1,1,0,0,1,14,2,0,0,1,0,1,0,4,1,0,0,0,0,6,0,0,0,1,"n",6,0,1]
[{"$nulls":3},2113,7,3,2,1,0,1,"RG","n",482,"RG.0482kW.32101",2113,4,3169,"DN100",null,1,1,0,0,2,0,0,0,0,0,0,0,1,0,0,3,1,0,3,0,0,0,0,0,1,0,1,0,3,0,2,0,4,0,0,0,0,0,null,0,1,0,1,0,1,0,4,0,7,0,1,1,0,0,1,14,2,0,0,1,0,1,0,4,1,0,0,0,0,6,0,0,0,5,"n",6,0,1]
[{"$nulls":3},2136,6,1,1,0,0,4,"RG","n",711,"RG.0711kW.11004",2136,3,2539,"DN100",null,0,4,0,0,0,0,0,1,0,0,0,0,1,0,0,1,2,0,1,2,0,0,0,0,1,0,1,0,2,0,2,0,3,0,0,0,0,0,null,0,1,0,1,0,1,0,3,0,6,0,0,1,0,0,1,10,2,0,0,1,0,1,0,3,1,0,0,0,0,2,0,0,0,2,"n",5,0,0]
[{"$nulls":3},2142,6,0,0,2,1,3,"RG","n",732,"RG.0732kW.00213",2142,3,2539,"DN100",null,3,3,0,0,0,0,0,1,0,0,0,0,1,0,0,2,2,0,1,1,0,0,0,0,1,0,1,0,2,0,2,0,3,0,0,0,0,0,null,0,1,0,1,0,1,0,3,0,6,0,0,1,0,0,1,10,2,0,0,1,0,1,0,3,1,0,0,0,0,3,0,0,0,0,"n",{"$f":"E2147-1","v":5},0,0]
[{"$nulls":3},2158,6,0,0,0,4,2,"RG","n",732,"RG.0732kW.00042",2158,2,2539,"DN100",null,4,2,0,0,0,0,0,1,0,0,0,0,1,0,0,2,1,0,2,1,0,0,0,0,1,0,1,0,2,0,2,0,3,0,0,0,0,0,null,0,1,0,1,0,1,0,3,0,6,0,0,1,0,0,1,10,2,0,0,1,0,1,0,3,1,0,0,0,0,4,0,0,0,0,"n",5,0,0]
[{"$nulls":3},2173,6,2,0,1,1,2,"RG","n",577,"RG.0577kW.20112",2173,4,2539,"DN100",null,2,2,0,0,0,0,0,1,0,0,0,0,1,0,0,2,1,0,2,1,0,0,0,0,1,0,1,0,2,0,2,0,3,0,0,0,0,0,null,0,1,0,1,0,1,0,3,0,6,0,0,1,0,0,1,10,2,0,0,1,0,1,0,3,1,0,0,0,0,4,0,0,0,2,"n",5,0,0]
[{"$nulls":3},2189,6,1,3,0,0,2,"RG","n",530,"RG.0530kW.13002",2189,3,2539,"DN100",null,0,2,0,0,0,0,0,1,0,0,0,0,1,0,0,2,1,0,2,1,0,0,0,0,1,0,1,0,2,0,2,0,3,0,0,0,0,0,null,0,1,0,1,0,1,0,3,0,6,0,0,1,0,0,1,10,2,0,0,1,0,1,0,3,1,0,0,0,0,4,0,0,0,4,"n",5,0,0]
[{"$nulls":3},2209,6,0,3,0,2,1,"RG","n",551,"RG.0551kW.03021",2209,3,2539,"DN100",null,2,1,0,0,0,0,0,1,0,0,0,0,1,0,0,3,1,0,2,0,0,0,0,0,1,0,1,0,2,0,2,0,3,0,0,0,0,0,null,0,1,0,1,0,1,0,3,0,6,0,0,1,0,0,1,10,2,0,0,1,0,1,0,3,1,0,0,0,0,5,0,0,0,3,"n",5,0,0]
[{"$nulls":3},2218,6,2,0,2,1,1,"RG","n",509,"RG.0509kW.20211",2218,4,2539,"DN100",null,3,1,0,0,0,0,0,1,0,0,0,0,1,0,0,3,1,0,2,0,0,0,0,0,1,0,1,0,2,0,2,0,3,0,0,0,0,0,null,0,1,0,1,0,1,0,3,0,6,0,0,1,0,0,1,10,2,0,0,1,0,1,0,3,1,0,0,0,0,5,0,0,0,2,"n",5,0,0]
[{"$nulls":3},2234,6,0,3,2,0,1,"RG","n",505,"RG.0505kW.03201",2234,3,2539,"DN100",null,2,1,0,0,0,0,0,1,0,0,0,0,1,0,0,3,1,0,2,0,0,0,0,0,1,0,1,0,2,0,2,0,3,0,0,0,0,0,null,0,1,0,1,0,1,0,3,0,6,0,0,1,0,0,1,10,2,0,0,1,0,1,0,3,1,0,0,0,0,5,0,0,0,3,"n",5,0,0]
[{"$nulls":3},2249,5,0,0,0,0,5,"RG","n",761,"RG.0761kW.00005",2249,1,2539,"DN100",null,0,5,0,0,0,0,0,1,0,0,0,0,1,0,0,0,3,0,0,2,0,0,0,0,1,0,1,0,2,0,2,0,3,0,0,0,0,0,null,0,1,0,1,0,1,0,3,0,5,0,1,1,0,0,1,10,1,0,0,1,0,1,0,3,1,0,0,0,0,0,0,0,0,0,"n",4,0,1]
[{"$nulls":3},2262,5,1,1,0,0,3,"RG","n",559,"RG.0559kW.11003",2262,3,2539,"DN100",null,0,3,0,0,0,0,0,1,0,0,0,0,1,0,0,1,2,0,1,1,0,0,0,0,1,0,1,0,2,0,2,0,3,0,0,0,0,0,null,0,1,0,1,0,1,0,3,0,5,0,1,1,0,0,1,10,1,0,0,1,0,1,0,3,1,0,0,0,0,2,0,0,0,2,"n",4,0,1]
[{"$nulls":3},2279,5,2,0,1,0,2,"RG","n",470,"RG.0470kW.20102",2279,3,2607,"DN65",null,1,2,0,0,0,0,0,1,0,0,0,1,0,1,0,2,1,0,1,1,0,0,0,0,1,0,1,0,2,0,2,0,3,0,0,0,0,0,null,0,1,1,0,0,1,0,3,0,5,0,1,1,1,0,1,10,1,0,0,0,0,1,0,3,1,0,0,0,0,3,0,1,0,2,"n",4,0,1]
[{"$nulls":3},2294,5,0,0,3,1,1,"RG","n",512,"RG.0512kW.00311",2294,3,2539,"DN100",null,4,1,0,0,0,0,0,1,0,0,0,0,1,0,0,2,1,0,2,0,0,0,0,0,1,0,1,0,2,0,2,0,3,0,0,0,0,0,null,0,1,0,1,0,1,0,3,0,5,0,1,1,0,0,1,10,1,0,0,1,0,1,0,3,1,0,0,0,0,4,0,0,0,0,"n",4,0,1]
[{"$nulls":3},2310,5,0,3,1,0,1,"RG","n",421,"RG.0421kW.03101",2310,3,2607,"DN65",null,1,1,0,0,0,0,0,1,0,0,0,1,0,1,0,2,1,0,2,0,0,0,0,0,1,0,1,0,2,0,2,0,3,0,0,0,0,0,null,0,1,1,0,0,1,0,3,0,5,0,1,1,1,0,1,10,1,0,0,0,0,1,0,3,1,0,0,0,0,4,0,1,0,3,"n",4,0,1]
[{"$nulls":3},2325,4,0,0,1,1,2,"RG","n",495,"RG.0495kW.00112",2325,3,1909,"DN100",null,2,2,0,0,1,0,0,0,0,0,0,0,1,0,0,1,1,0,1,1,0,0,0,0,1,0,1,0,2,0,1,0,2,0,0,0,0,0,null,0,1,0,1,0,1,0,2,0,4,0,0,1,0,0,1,8,1,1,0,1,0,1,0,2,1,0,1,0,0,2,1,0,0,0,"n",3,0,0]
[{"$nulls":3},2335,4,0,0,1,2,1,"RG","n",450,"RG.0450kW.00121",2335,3,1977,"DN65",null,3,1,0,0,1,0,0,0,0,0,0,1,0,1,0,2,1,0,1,0,0,0,0,0,1,0,1,0,2,0,1,0,2,0,0,0,0,0,null,0,1,1,0,0,1,0,2,0,4,0,0,1,1,0,1,8,1,1,0,0,0,1,0,2,1,0,1,0,0,3,1,1,0,0,"n",3,0,0]
[{"$nulls":3},2355,3,0,0,0,1,2,"RG","n",411,"RG.0411kW.00012",2355,2,1977,"DN65",null,1,2,0,0,1,0,0,0,0,0,0,1,0,1,0,1,1,0,0,1,0,0,0,0,1,0,1,0,2,0,1,0,2,0,0,0,0,0,null,0,1,1,0,0,1,0,2,0,3,0,1,1,1,0,1,8,1,1,0,0,0,1,0,2,1,0,1,0,0,1,1,1,0,0,"n",2,0,1]
[{"$nulls":3},7086,7,0,0,1,6,0,"LW","n",{"$f":"ROUND(SUMPRODUCT($F$3:$J$3,F2375:J2375),0)","v":726},{"$f":"IF(M2375>=1000,CONCATENATE(K2375,\".\",M2375,\"kW.\",F2375,G2375,H2375,I2375,J2375),CONCATENATE(K2375,\".0\",M2375,\"kW.\",F2375,G2375,H2375,I2375,J2375))","v":"LW.0726kW.00160"},7086,2,4359,"DN100",null,{"$f":"I2375+H2375","v":7},{"$f":"J2375","v":0},0,0,0,0,1,0,0,1,0,0,1,0,7,0,0,0,0,0,0,0,0,0,1,0,1,0,0,0,0,0,0,0,0,1,0,1,null,0,1,0,1,0,1,7,0,7,0,0,0,1,0,0,1,0,2,0,0,1,0,0,0,0,1,0,0,0,0,7,0,0,0,{"$f":"F2375+G2375","v":0},"n",6,0,{"$f":"IF(K2375<>\"RG\",E2375,IF(OR(E2375=4,E2375=6,E2375=8),0,1))","v":7}]
[{"$nulls":3},7102,7,1,2,0,4,0,"LW","n",592,"LW.0592kW.12040",7102,3,4359,"DN100",null,4,0,0,0,0,0,1,0,0,1,0,0,1,0,7,0,0,0,0,0,0,0,0,0,1,0,1,0,0,0,0,0,0,0,0,1,0,1,null,0,1,0,1,0,1,7,0,7,0,0,0,1,0,0,1,0,2,0,0,1,0,0,0,0,1,0,0,0,0,7,0,0,0,3,"n",6,0,7]
[{"$nulls":3},7117,7,2,2,0,3,0,"LW","n",526,"LW.0526kW.22030",7117,3,4359,"DN100",null,3,0,0,0,0,0,1,0,0,1,0,0,1,0,7,0,0,0,0,0,0,0,0,0,1,0,1,0,0,0,0,0,0,0,0,1,0,1,null,0,1,0,1,0,1,7,0,7,0,0,0,1,0,0,1,0,2,0,0,1,0,0,0,0,1,0,0,0,0,7,0,0,0,4,"n",6,0,7]
[{"$nulls":3},7124,7,1,1,3,2,0,"LW","n",569,"LW.0569kW.11320",7124,4,4359,"DN100",null,5,0,0,0,0,0,1,0,0,1,0,0,1,0,7,0,0,0,0,0,0,0,0,0,1,0,1,0,0,0,0,0,0,0,0,1,0,1,null,0,1,0,1,0,1,7,0,7,0,0,0,1,0,0,1,0,2,0,0,1,0,0,0,0,1,0,0,0,0,7,0,0,0,2,"n",6,0,7]
[{"$nulls":3},7147,7,0,3,3,1,0,"LW","n",544,"LW.0544kW.03310",7147,3,4359,"DN100",null,4,0,0,0,0,0,1,0,0,1,0,0,1,0,7,0,0,0,0,0,0,0,0,0,1,0,1,0,0,0,0,0,0,0,0,1,0,1,null,0,1,0,1,0,1,7,0,7,0,0,0,1,0,0,1,0,2,0,0,1,0,0,0,0,1,0,0,0,0,7,0,0,0,3,"n",6,0,7]
[{"$nulls":3},7162,7,0,6,0,1,0,"LW","n",476,"LW.0476kW.06010",7162,2,4359,"DN100",null,1,0,0,0,0,0,1,0,0,1,0,0,1,0,7,0,0,0,0,0,0,0,0,0,1,0,1,0,0,0,0,0,0,0,0,1,0,1,null,0,1,0,1,0,1,7,0,7,0,0,0,1,0,0,1,0,2,0,0,1,0,0,0,0,1,0,0,0,0,7,0,0,0,6,"n",6,0,7]
[{"$nulls":3},7177,7,2,1,4,0,0,"LW","n",480,"LW.0480kW.21400",7177,3,4359,"DN100",null,4,0,0,0,0,0,1,0,0,1,0,0,1,0,7,0,0,0,0,0,0,0,0,0,1,0,1,0,0,0,0,0,0,0,0,1,0,1,null,0,1,0,1,0,1,7,0,7,0,0,0,1,0,0,1,0,2,0,0,1,0,0,0,0,1,0,0,0,0,7,0,0,0,3,"n",6,0,7]
[{"$nulls":3},7181,7,2,2,3,0,0,"LW","n",457,"LW.0457kW.22300",7181,3,4345,"DN65",null,3,0,0,0,0,1,0,0,1,0,0,1,0,0,7,0,0,0,0,0,0,0,0,1,0,1,0,0,0,0,0,0,0,0,0,1,0,1,null,1,0,1,0,1,0,7,0,7,0,0,0,1,0,0,1,0,2,0,1,0,0,0,0,0,1,0,0,0,0,7,0,0,0,4,"n",6,0,7]
[{"$nulls":3},7207,6,0,1,0,5,0,"LW","n",597,"LW.0597kW.01050",7207,2,3829,"DN100",null,5,0,0,0,0,0,2,0,0,0,0,0,1,0,6,0,0,0,0,0,0,0,0,0,1,0,1,0,0,0,0,0,0,0,0,2,0,0,null,0,1,0,1,0,1,6,0,6,0,0,0,1,0,0,1,0,2,0,0,1,0,0,0,0,1,0,0,0,0,6,0,0,0,1,"n",5,0,6]
[{"$nulls":3},7223,6,2,1,0,3,0,"LW","n",464,"LW.0464kW.21030",7223,3,3829,"DN100",null,3,0,0,0,0,0,2,0,0,0,0,0,1,0,6,0,0,0,0,0,0,0,0,0,1,0,1,0,0,0,0,0,0,0,0,2,0,0,null,0,1,0,1,0,1,6,0,6,0,0,0,1,0,0,1,0,2,0,0,1,0,0,0,0,1,0,0,0,0,6,0,0,0,3,"n",5,0,6]
[{"$nulls":3},7238,6,3,1,0,2,0,"LW","n",398,"LW.0398kW.31020",7238,3,3815,"DN65",null,2,0,0,0,0,2,0,0,0,0,0,1,0,0,6,0,0,0,0,0,0,0,0,1,0,1,0,0,0,0,0,0,0,0,0,2,0,0,null,1,0,1,0,1,0,6,0,6,0,0,0,1,0,0,1,0,2,0,1,0,0,0,0,0,1,0,0,0,0,6,0,0,0,4,"n",5,0,6]
[{"$nulls":3},7253,6,3,1,1,1,0,"LW","n",375,"LW.0375kW.31110",7253,4,3815,"DN65",null,2,0,0,0,0,2,0,0,0,0,0,1,0,0,6,0,0,0,0,0,0,0,0,1,0,1,0,0,0,0,0,0,0,0,0,2,0,0,null,1,0,1,0,1,0,6,0,6,0,0,0,1,0,0,1,0,2,0,1,0,0,0,0,0,1,0,0,0,0,6,0,0,0,4,"n",5,0,6]
[{"$nulls":3},7254,6,4,0,1,1,0,"LW","n",354,"LW.0354kW.40110",7254,3,3815,"DN65",null,2,0,0,0,0,2,0,0,0,0,0,1,0,0,6,0,0,0,0,0,0,0,0,1,0,1,0,0,0,0,0,0,0,0,0,2,0,0,null,1,0,1,0,1,0,6,0,6,0,0,0,1,0,0,1,0,2,0,1,0,0,0,0,0,1,0,0,0,0,6,0,0,0,4,"n",5,0,6]
[{"$nulls":3},7268,6,1,2,3,0,0,"LW","n",416,"LW.0416kW.12300",7268,3,3815,"DN65",null,3,0,0,0,0,2,0,0,0,0,0,1,0,0,6,0,0,0,0,0,0,0,0,1,0,1,0,0,0,0,0,0,0,0,0,2,0,0,null,1,0,1,0,1,0,6,0,6,0,0,0,1,0,0,1,0,2,0,1,0,0,0,0,0,1,0,0,0,0,6,0,0,0,3,"n",5,0,6]
[{"$nulls":3},7283,6,1,5,0,0,0,"LW","n",348,"LW.0348kW.15000",7283,2,3475,"DN65",null,0,0,0,0,0,2,0,0,0,0,1,0,0,0,6,0,0,0,0,0,0,0,0,1,0,1,0,0,0,0,0,0,0,0,0,2,0,0,null,1,0,1,0,1,0,6,0,6,0,0,0,0,0,1,1,0,2,0,1,0,0,0,0,0,0,1,0,0,0,6,0,0,0,6,"n",5,0,6]
[{"$nulls":3},7299,5,0,0,3,2,0,"LW","n",467,"LW.0467kW.00320",7299,2,3299,"DN100",null,5,0,0,1,0,0,1,0,0,0,0,0,1,0,5,0,0,0,0,0,0,0,0,0,1,0,1,0,0,0,0,0,0,1,0,1,0,0,null,0,1,0,1,0,1,5,0,5,0,0,0,1,0,0,1,0,1,0,0,1,0,0,0,0,1,0,0,0,0,5,0,0,0,0,"n",4,0,5]
[{"$nulls":3},7314,5,2,0,2,1,0,"LW","n",357,"LW.0357kW.20210",7314,3,3285,"DN65",null,3,0,1,0,0,1,0,0,0,0,0,1,0,0,5,0,0,0,0,0,0,0,0,1,0,1,0,0,0,0,0,0,0,1,0,1,0,0,null,1,0,1,0,1,0,5,0,5,0,0,0,1,0,0,1,0,1,0,1,0,0,0,0,0,1,0,0,0,0,5,0,0,0,2,"n",4,0,5]
[{"$nulls":3},7341,5,2,3,0,0,0,"LW","n",266,"LW.0266kW.23000",7341,2,2945,"DN65",null,0,0,1,0,0,1,0,0,0,0,1,0,0,0,5,0,0,0,0,0,0,0,0,1,0,1,0,0,0,0,0,0,0,1,0,1,0,0,null,1,0,1,0,1,0,5,0,5,0,0,0,0,0,1,1,0,1,0,1,0,0,0,0,0,0,1,0,0,0,5,0,0,0,5,"n",4,0,5]
[{"$nulls":3},7344,5,5,0,0,0,0,"LW","n",204,"LW.0204kW.50000",7344,1,2945,"DN65",null,0,0,1,0,0,1,0,0,0,0,1,0,0,0,5,0,0,0,0,0,0,0,0,1,0,1,0,0,0,0,0,0,0,1,0,1,0,0,null,1,0,1,0,1,0,5,0,5,0,0,0,0,0,1,1,0,1,0,1,0,0,0,0,0,0,1,0,0,0,5,0,0,0,5,"n",4,0,5]
[{"$nulls":3},7359,4,1,1,1,1,0,"LW","n",294,"LW.0294kW.11110",7359,4,2415,"DN65",null,2,0,0,0,0,0,0,0,1,0,1,0,0,0,4,0,0,0,0,0,0,0,0,1,0,1,0,0,0,0,0,0,0,0,0,0,0,1,null,1,0,1,0,1,0,4,0,4,0,0,0,0,0,1,1,0,1,1,1,0,0,0,0,0,0,1,1,0,0,4,1,0,0,2,"n",3,0,4]
[{"$nulls":3},7375,4,0,4,0,0,0,"LW","n",246,"LW.0246kW.04000",7375,1,2415,"DN65",null,0,0,0,0,0,0,0,0,1,0,1,0,0,0,4,0,0,0,0,0,0,0,0,1,0,1,0,0,0,0,0,0,0,0,0,0,0,1,null,1,0,1,0,1,0,4,0,4,0,0,0,0,0,1,1,0,1,1,1,0,0,0,0,0,0,1,1,0,0,4,1,0,0,4,"n",3,0,4]
[{"$nulls":3},7390,3,0,0,3,0,0,"LW","n",253,"LW.0253kW.00300",7390,1,1885,"DN65",null,3,0,0,0,0,1,0,0,0,0,1,0,0,0,3,0,0,0,0,0,0,0,0,1,0,1,0,0,0,0,0,0,0,0,0,1,0,0,null,1,0,1,0,1,0,3,0,3,0,0,0,0,0,1,1,0,1,1,1,0,0,0,0,0,0,1,1,0,0,3,1,0,0,0,"n",2,0,3]
[{"$nulls":3},7414,7,0,0,2,5,0,"LV","n",703,"LV.0703kW.00250",7414,2,4359,"DN100",null,7,0,0,0,0,0,1,0,0,1,0,0,1,0,7,0,0,0,0,0,0,0,0,0,1,0,1,0,0,8,0,7,0,0,0,0,0,0,null,0,1,0,1,0,1,7,0,7,0,7,0,1,0,0,1,12,2,0,0,1,1,0,4,0,1,0,0,0,0,7,0,0,0,0,"n",6,0,7]
[{"$nulls":3},7420,7,0,0,3,4,0,"LV","n",681,"LV.0681kW.00340",7420,2,4359,"DN100",null,7,0,0,0,0,0,1,0,0,1,0,0,1,0,7,0,0,0,0,0,0,0,0,0,1,0,1,0,0,8,0,7,0,0,0,0,0,0,null,0,1,0,1,0,1,7,0,7,0,7,0,1,0,0,1,12,2,0,0,1,1,0,4,0,1,0,0,0,0,7,0,0,0,0,"n",6,0,7]
[{"$nulls":3},7435,7,2,0,2,3,0,"LV","n",571,"LV.0571kW.20230",7435,3,4359,"DN100",null,5,0,0,0,0,0,1,0,0,1,0,0,1,0,7,0,0,0,0,0,0,0,0,0,1,0,1,0,0,8,0,7,0,0,0,0,0,0,null,0,1,0,1,0,1,7,0,7,0,7,0,1,0,0,1,12,2,0,0,1,1,0,4,0,1,0,0,0,0,7,0,0,0,2,"n",6,0,7]
[{"$nulls":3},7451,7,0,3,2,2,0,"LV","n",567,"LV.0567kW.03220",7451,3,4359,"DN100",null,4,0,0,0,0,0,1,0,0,1,0,0,1,0,7,0,0,0,0,0,0,0,0,0,1,0,1,0,0,8,0,7,0,0,0,0,0,0,null,0,1,0,1,0,1,7,0,7,0,7,0,1,0,0,1,12,2,0,0,1,1,0,4,0,1,0,0,0,0,7,0,0,0,3,"n",6,0,7]
[{"$nulls":3},7467,7,0,1,5,1,0,"LV","n",590,"LV.0590kW.01510",7467,3,4359,"DN100",null,6,0,0,0,0,0,1,0,0,1,0,0,1,0,7,0,0,0,0,0,0,0,0,0,1,0,1,0,0,8,0,7,0,0,0,0,0,0,null,0,1,0,1,0,1,7,0,7,0,7,0,1,0,0,1,12,2,0,0,1,1,0,4,0,1,0,0,0,0,7,0,0,0,1,"n",6,0,7]
[{"$nulls":3},7480,7,4,0,2,1,0,"LV","n",439,"LV.0439kW.40210",7480,3,4345,"DN65",null,3,0,0,0,0,1,0,0,1,0,0,1,0,0,7,0,0,0,0,0,0,0,0,1,0,1,0,0,0,8,0,7,0,0,0,0,0,0,null,1,0,1,0,1,0,7,0,7,0,7,0,1,0,0,1,12,2,0,1,0,1,0,4,0,1,0,0,0,0,7,0,0,0,4,"n",6,0,7]
[{"$nulls":3},7496,7,1,0,6,0,0,"LV","n",546,"LV.0546kW.10600",7496,2,4359,"DN100",null,6,0,0,0,0,0,1,0,0,1,0,0,1,0,7,0,0,0,0,0,0,0,0,0,1,0,1,0,0,8,0,7,0,0,0,0,0,0,null,0,1,0,1,0,1,7,0,7,0,7,0,1,0,0,1,12,2,0,0,1,1,0,4,0,1,0,0,0,0,7,0,0,0,1,"n",6,0,7]
[{"$nulls":3},7511,7,2,3,2,0,0,"LV","n",435,"LV.0435kW.23200",7511,3,4345,"DN65",null,2,0,0,0,0,1,0,0,1,0,0,1,0,0,7,0,0,0,0,0,0,0,0,1,0,1,0,0,0,8,0,7,0,0,0,0,0,0,null,1,0,1,0,1,0,7,0,7,0,7,0,1,0,0,1,12,2,0,1,0,1,0,4,0,1,0,0,0,0,7,0,0,0,5,"n",6,0,7]
[{"$nulls":3},7527,7,5,2,0,0,0,"LV","n",327,"LV.0327kW.52000",7527,2,4005,"DN65",null,0,0,0,0,0,1,0,0,1,0,1,0,0,0,7,0,0,0,0,0,0,0,0,1,0,1,0,0,0,8,0,7,0,0,0,0,0,0,null,1,0,1,0,1,0,7,0,7,0,7,0,0,0,1,1,12,2,0,1,0,1,0,4,0,0,1,0,0,0,7,0,0,0,7,"n",6,0,7]
[{"$nulls":3},7540,6,0,0,3,3,0,"LV","n",574,"LV.0574kW.00330",7540,2,3829,"DN100",null,6,0,0,0,0,0,2,0,0,0,0,0,1,0,6,0,0,0,0,0,0,0,0,0,1,0,1,0,0,7,0,6,0,0,0,0,0,0,null,0,1,0,1,0,1,6,0,6,0,6,0,1,0,0,1,11,2,0,0,1,1,0,3,0,1,0,0,0,0,6,0,0,0,0,"n",5,0,6]
[{"$nulls":3},7556,6,0,3,1,2,0,"LV","n",483,"LV.0483kW.03120",7556,3,3829,"DN100",null,3,0,0,0,0,0,2,0,0,0,0,0,1,0,6,0,0,0,0,0,0,0,0,0,1,0,1,0,0,7,0,6,0,0,0,0,0,0,null,0,1,0,1,0,1,6,0,6,0,6,0,1,0,0,1,11,2,0,0,1,1,0,3,0,1,0,0,0,0,6,0,0,0,3,"n",5,0,6]
[{"$nulls":3},7572,6,1,2,2,1,0,"LV","n",439,"LV.0439kW.12210",7572,4,3815,"DN65",null,3,0,0,0,0,2,0,0,0,0,0,1,0,0,6,0,0,0,0,0,0,0,0,1,0,1,0,0,0,7,0,6,0,0,0,0,0,0,null,1,0,1,0,1,0,6,0,6,0,6,0,1,0,0,1,11,2,0,1,0,1,0,3,0,1,0,0,0,0,6,0,0,0,3,"n",5,0,6]
[{"$nulls":3},7587,6,0,1,5,0,0,"LV","n",483,"LV.0483kW.01500",7587,2,3829,"DN100",null,5,0,0,0,0,0,2,0,0,0,0,0,1,0,6,0,0,0,0,0,0,0,0,0,1,0,1,0,0,7,0,6,0,0,0,0,0,0,null,0,1,0,1,0,1,6,0,6,0,6,0,1,0,0,1,11,2,0,0,1,1,0,3,0,1,0,0,0,0,6,0,0,0,1,"n",5,0,6]
[{"$nulls":3},7602,6,1,4,1,0,0,"LV","n",371,"LV.0371kW.14100",7602,3,3815,"DN65",null,1,0,0,0,0,2,0,0,0,0,0,1,0,0,6,0,0,0,0,0,0,0,0,1,0,1,0,0,0,7,0,6,0,0,0,0,0,0,null,1,0,1,0,1,0,6,0,6,0,6,0,1,0,0,1,11,2,0,1,0,1,0,3,0,1,0,0,0,0,6,0,0,0,5,"n",5,0,6]
[{"$nulls":3},7613,6,6,0,0,0,0,"LV","n",245,"LV.0245kW.60000",7613,1,3475,"DN65",null,0,0,0,0,0,2,0,0,0,0,1,0,0,0,6,0,0,0,0,0,0,0,0,1,0,1,0,0,0,7,0,6,0,0,0,0,0,0,null,1,0,1,0,1,0,6,0,6,0,6,0,0,0,1,1,11,2,0,1,0,1,0,3,0,0,1,0,0,0,6,0,0,0,6,"n",5,0,6]
[{"$nulls":3},7632,5,2,1,0,2,0,"LV","n",357,"LV.0357kW.21020",7632,3,3285,"DN65",null,2,0,1,0,0,1,0,0,0,0,0,1,0,0,5,0,0,0,0,0,0,0,0,1,0,1,0,0,0,6,0,5,0,0,0,0,0,0,null,1,0,1,0,1,0,5,0,5,0,5,0,1,0,0,1,9,1,0,1,0,1,0,3,0,1,0,0,0,0,5,0,0,0,3,"n",4,0,5]
[{"$nulls":3},7648,5,4,0,0,1,0,"LV","n",270,"LV.0270kW.40010",7648,2,2945,"DN65",null,1,0,1,0,0,1,0,0,0,0,1,0,0,0,5,0,0,0,0,0,0,0,0,1,0,1,0,0,0,6,0,5,0,0,0,0,0,0,null,1,0,1,0,1,0,5,0,5,0,5,0,0,0,1,1,9,1,0,1,0,1,0,3,0,0,1,0,0,0,5,0,0,0,4,"n",4,0,5]
[{"$nulls":3},7663,5,4,0,1,0,0,"LV","n",247,"LV.0247kW.40100",7663,2,2945,"DN65",null,1,0,1,0,0,1,0,0,0,0,1,0,0,0,5,0,0,0,0,0,0,0,0,1,0,1,0,0,0,6,0,5,0,0,0,0,0,0,null,1,0,1,0,1,0,5,0,5,0,5,0,0,0,1,1,9,1,0,1,0,1,0,3,0,0,1,0,0,0,5,0,0,0,4,"n",4,0,5]
[{"$nulls":3},7680,4,0,0,3,1,0,"LV","n",360,"LV.0360kW.00310",7680,2,2755,"DN65",null,4,0,0,0,0,0,0,0,1,0,0,1,0,0,4,0,0,0,0,0,0,0,0,1,0,1,0,0,0,5,0,4,0,0,0,0,0,0,null,1,0,1,0,1,0,4,0,4,0,4,0,1,0,0,1,8,1,1,1,0,1,0,2,0,1,0,1,0,0,4,1,0,0,0,"n",3,0,4]
[{"$nulls":3},7693,4,0,2,2,0,0,"LV","n",291,"LV.0291kW.02200",7693,2,2415,"DN65",null,2,0,0,0,0,0,0,0,1,0,1,0,0,0,4,0,0,0,0,0,0,0,0,1,0,1,0,0,0,5,0,4,0,0,0,0,0,0,null,1,0,1,0,1,0,4,0,4,0,4,0,0,0,1,1,8,1,1,1,0,1,0,2,0,0,1,1,0,0,4,1,0,0,2,"n",3,0,4]
[{"$nulls":3},7708,3,1,0,0,2,0,"LV","n",255,"LV.0255kW.10020",7708,2,1885,"DN65",null,2,0,0,0,0,1,0,0,0,0,1,0,0,0,3,0,0,0,0,0,0,0,0,1,0,1,0,0,0,4,0,3,0,0,0,0,0,0,null,1,0,1,0,1,0,3,0,3,0,3,0,0,0,1,1,6,1,1,1,0,1,0,2,0,0,1,1,0,0,3,1,0,0,1,"n",2,0,3]
[{"$nulls":3},7724,3,3,0,0,0,0,"LV","n",122,"LV.0122kW.30000",7724,1,1885,"DN65",null,0,0,0,0,0,1,0,0,0,0,1,0,0,0,3,0,0,0,0,0,0,0,0,1,0,1,0,0,0,4,0,3,0,0,0,0,0,0,null,1,0,1,0,1,0,3,0,3,0,3,0,0,0,1,1,6,1,1,1,0,1,0,2,0,0,1,1,0,0,3,1,0,0,3,"n",2,0,3]
[{"$nulls":3},7739,10,0,0,2,8,0,"RG","n",1024,"RG.1024kW.00280",7739,2,3299,"DN100",null,10,0,0,1,0,0,1,0,0,0,0,0,1,0,5,0,0,5,0,0,0,0,0,0,1,0,1,3,0,3,0,5,0,0,0,0,0,0,null,0,1,0,1,0,1,5,0,10,0,10,0,1,0,0,1,9,2,0,0,1,1,0,5,0,1,0,0,0,0,10,0,0,0,0,"n",9,0,1]
[{"$nulls":3},7753,10,2,1,0,7,0,"RG","n",892,"RG.0892kW.21070",7753,3,3299,"DN100",null,7,0,0,1,0,0,1,0,0,0,0,0,1,0,5,0,0,5,0,0,0,0,0,0,1,0,1,3,0,3,0,5,0,0,0,0,0,0,null,0,1,0,1,0,1,5,0,10,0,10,0,1,0,0,1,9,2,0,0,1,1,0,5,0,1,0,0,0,0,10,0,0,0,3,"n",9,0,1]
[{"$nulls":3},7769,10,4,0,0,6,0,"RG","n",805,"RG.0805kW.40060",7769,2,3299,"DN100",null,6,0,0,1,0,0,1,0,0,0,0,0,1,0,5,0,0,5,0,0,0,0,0,0,1,0,1,3,0,3,0,5,0,0,0,0,0,0,null,0,1,0,1,0,1,5,0,10,0,10,0,1,0,0,1,9,2,0,0,1,1,0,5,0,1,0,0,0,0,10,0,0,0,4,"n",9,0,1]
[{"$nulls":3},7784,10,4,0,1,5,0,"RG","n",782,"RG.0782kW.40150",7784,3,3299,"DN100",null,6,0,0,1,0,0,1,0,0,0,0,0,1,0,5,0,0,5,0,0,0,0,0,0,1,0,1,3,0,3,0,5,0,0,0,0,0,0,null,0,1,0,1,0,1,5,0,10,0,10,0,1,0,0,1,9,2,0,0,1,1,0,5,0,1,0,0,0,0,10,0,0,0,4,"n",9,0,1]
[{"$nulls":3},7799,10,2,1,3,4,0,"RG","n",824,"RG.0824kW.21340",7799,4,3299,"DN100",null,7,0,0,1,0,0,1,0,0,0,0,0,1,0,5,0,0,5,0,0,0,0,0,0,1,0,1,3,0,3,0,5,0,0,0,0,0,0,null,0,1,0,1,0,1,5,0,10,0,10,0,1,0,0,1,9,2,0,0,1,1,0,5,0,1,0,0,0,0,10,0,0,0,3,"n",9,0,1]
[{"$nulls":3},7815,10,3,3,0,4,0,"RG","n",735,"RG.0735kW.33040",7815,3,3299,"DN100",null,4,0,0,1,0,0,1,0,0,0,0,0,1,0,5,0,0,5,0,0,0,0,0,0,1,0,1,3,0,3,0,5,0,0,0,0,0,0,null,0,1,0,1,0,1,5,0,10,0,10,0,1,0,0,1,9,2,0,0,1,1,0,5,0,1,0,0,0,0,10,0,0,0,6,"n",9,0,1]
[{"$nulls":3},7826,10,1,2,4,3,0,"RG","n",822,"RG.0822kW.12430",7826,4,3299,"DN100",null,7,0,0,1,0,0,1,0,0,0,0,0,1,0,5,0,0,5,0,0,0,0,0,0,1,0,1,3,0,3,0,5,0,0,0,0,0,0,null,0,1,0,1,0,1,5,0,10,0,10,0,1,0,0,1,9,2,0,0,1,1,0,5,0,1,0,0,0,0,10,0,0,0,3,"n",9,0,1]
[{"$nulls":3},7830,10,1,3,3,3,0,"RG","n",799,"RG.0799kW.13330",7830,4,3299,"DN100",null,6,0,0,1,0,0,1,0,0,0,0,0,1,0,5,0,0,5,0,0,0,0,0,0,1,0,1,3,0,3,0,5,0,0,0,0,0,0,null,0,1,0,1,0,1,5,0,10,0,10,0,1,0,0,1,9,2,0,0,1,1,0,5,0,1,0,0,0,0,10,0,0,0,4,"n",9,0,1]
[{"$nulls":3},7845,10,5,1,1,3,0,"RG","n",671,"RG.0671kW.51130",7845,4,3299,"DN100",null,4,0,0,1,0,0,1,0,0,0,0,0,1,0,5,0,0,5,0,0,0,0,0,0,1,0,1,3,0,3,0,5,0,0,0,0,0,0,null,0,1,0,1,0,1,5,0,10,0,10,0,1,0,0,1,9,2,0,0,1,1,0,5,0,1,0,0,0,0,10,0,0,0,6,"n",9,0,1]
[{"$nulls":3},7860,10,2,0,6,2,0,"RG","n",801,"RG.0801kW.20620",7860,3,3299,"DN100",null,8,0,0,1,0,0,1,0,0,0,0,0,1,0,5,0,0,5,0,0,0,0,0,0,1,0,1,3,0,3,0,5,0,0,0,0,0,0,null,0,1,0,1,0,1,5,0,10,0,10,0,1,0,0,1,9,2,0,0,1,1,0,5,0,1,0,0,0,0,10,0,0,0,2,"n",9,0,1]
[{"$nulls":3},7876,10,0,6,2,2,0,"RG","n",751,"RG.0751kW.06220",7876,3,3299,"DN100",null,4,0,0,1,0,0,1,0,0,0,0,0,1,0,5,0,0,5,0,0,0,0,0,0,1,0,1,3,0,3,0,5,0,0,0,0,0,0,null,0,1,0,1,0,1,5,0,10,0,10,0,1,0,0,1,9,2,0,0,1,1,0,5,0,1,0,0,0,0,10,0,0,0,6,"n",9,0,1]
[{"$nulls":3},7899,10,8,0,0,2,0,"RG","n",540,"RG.0540kW.80020",7899,2,3299,"DN100",null,2,0,0,1,0,0,1,0,0,0,0,0,1,0,5,0,0,5,0,0,0,0,0,0,1,0,1,3,0,3,0,5,0,0,0,0,0,0,null,0,1,0,1,0,1,5,0,10,0,10,0,1,0,0,1,9,2,0,0,1,1,0,5,0,1,0,0,0,0,10,0,0,0,8,"n",9,0,1]
[{"$nulls":3},7906,10,0,3,6,1,0,"RG","n",797,"RG.0797kW.03610",7906,3,3299,"DN100",null,7,0,0,1,0,0,1,0,0,0,0,0,1,0,5,0,0,5,0,0,0,0,0,0,1,0,1,3,0,3,0,5,0,0,0,0,0,0,null,0,1,0,1,0,1,5,0,10,0,10,0,1,0,0,1,9,2,0,0,1,1,0,5,0,1,0,0,0,0,10,0,0,0,3,"n",9,0,1]
[{"$nulls":3},7921,10,0,6,3,1,0,"RG","n",729,"RG.0729kW.06310",7921,3,3299,"DN100",null,4,0,0,1,0,0,1,0,0,0,0,0,1,0,5,0,0,5,0,0,0,0,0,0,1,0,1,3,0,3,0,5,0,0,0,0,0,0,null,0,1,0,1,0,1,5,0,10,0,10,0,1,0,0,1,9,2,0,0,1,1,0,5,0,1,0,0,0,0,10,0,0,0,6,"n",9,0,1]
[{"$nulls":3},7936,10,0,8,1,1,0,"RG","n",683,"RG.0683kW.08110",7936,3,3299,"DN100",null,2,0,0,1,0,0,1,0,0,0,0,0,1,0,5,0,0,5,0,0,0,0,0,0,1,0,1,3,0,3,0,5,0,0,0,0,0,0,null,0,1,0,1,0,1,5,0,10,0,10,0,1,0,0,1,9,2,0,0,1,1,0,5,0,1,0,0,0,0,10,0,0,0,8,"n",9,0,1]
[{"$nulls":3},7956,10,0,1,9,0,0,"RG","n",819,"RG.0819kW.01900",7956,2,3299,"DN100",null,9,0,0,1,0,0,1,0,0,0,0,0,1,0,5,0,0,5,0,0,0,0,0,0,1,0,1,3,0,3,0,5,0,0,0,0,0,0,null,0,1,0,1,0,1,5,0,10,0,10,0,1,0,0,1,9,2,0,0,1,1,0,5,0,1,0,0,0,0,10,0,0,0,1,"n",9,0,1]
[{"$nulls":3},7966,10,1,3,6,0,0,"RG","n",731,"RG.0731kW.13600",7966,3,3299,"DN100",null,6,0,0,1,0,0,1,0,0,0,0,0,1,0,5,0,0,5,0,0,0,0,0,0,1,0,1,3,0,3,0,5,0,0,0,0,0,0,null,0,1,0,1,0,1,5,0,10,0,10,0,1,0,0,1,9,2,0,0,1,1,0,5,0,1,0,0,0,0,10,0,0,0,4,"n",9,0,1]
[{"$nulls":3},7981,10,5,1,4,0,0,"RG","n",602,"RG.0602kW.51400",7981,3,3299,"DN100",null,4,0,0,1,0,0,1,0,0,0,0,0,1,0,5,0,0,5,0,0,0,0,0,0,1,0,1,3,0,3,0,5,0,0,0,0,0,0,null,0,1,0,1,0,1,5,0,10,0,10,0,1,0,0,1,9,2,0,0,1,1,0,5,0,1,0,0,0,0,10,0,0,0,6,"n",9,0,1]
[{"$nulls":3},7997,10,6,2,2,0,0,"RG","n",536,"RG.0536kW.62200",7997,3,3299,"DN100",null,2,0,0,1,0,0,1,0,0,0,0,0,1,0,5,0,0,5,0,0,0,0,0,0,1,0,1,3,0,3,0,5,0,0,0,0,0,0,null,0,1,0,1,0,1,5,0,10,0,10,0,1,0,0,1,9,2,0,0,1,1,0,5,0,1,0,0,0,0,10,0,0,0,8,"n",9,0,1]
[{"$nulls":3},8012,10,2,8,0,0,0,"RG","n",574,"RG.0574kW.28000",8012,2,3299,"DN100",null,0,0,0,1,0,0,1,0,0,0,0,0,1,0,5,0,0,5,0,0,0,0,0,0,1,0,1,3,0,3,0,5,0,0,0,0,0,0,null,0,1,0,1,0,1,5,0,10,0,10,0,1,0,0,1,9,2,0,0,1,1,0,5,0,1,0,0,0,0,10,0,0,0,10,"n",9,0,1]
[{"$nulls":3},8029,9,1,1,0,7,0,"RG","n",851,"RG.0851kW.11070",8029,3,3299,"DN100",null,7,0,0,1,0,0,1,0,0,0,0,0,1,0,5,0,0,4,0,0,0,0,0,0,1,0,1,3,0,3,0,5,0,0,0,0,0,0,null,0,1,0,1,0,1,5,0,9,0,9,0,1,0,0,1,9,2,0,0,1,1,0,5,0,1,0,0,0,0,9,0,0,0,2,"n",8,0,1]
[{"$nulls":3},8042,9,0,1,3,5,0,"RG","n",849,"RG.0849kW.01350",8042,3,3299,"DN100",null,8,0,0,1,0,0,1,0,0,0,0,0,1,0,5,0,0,4,0,0,0,0,0,0,1,0,1,3,0,3,0,5,0,0,0,0,0,0,null,0,1,0,1,0,1,5,0,9,0,9,0,1,0,0,1,9,2,0,0,1,1,0,5,0,1,0,0,0,0,9,0,0,0,1,"n",8,0,1]
[{"$nulls":3},8057,9,0,1,4,4,0,"RG","n",826,"RG.0826kW.01440",8057,3,3299,"DN100",null,8,0,0,1,0,0,1,0,0,0,0,0,1,0,5,0,0,4,0,0,0,0,0,0,1,0,1,3,0,3,0,5,0,0,0,0,0,0,null,0,1,0,1,0,1,5,0,9,0,9,0,1,0,0,1,9,2,0,0,1,1,0,5,0,1,0,0,0,0,9,0,0,0,1,"n",8,0,1]
[{"$nulls":3},8073,9,2,3,0,4,0,"RG","n",694,"RG.0694kW.23040",8073,3,3299,"DN100",null,4,0,0,1,0,0,1,0,0,0,0,0,1,0,5,0,0,4,0,0,0,0,0,0,1,0,1,3,0,3,0,5,0,0,0,0,0,0,null,0,1,0,1,0,1,5,0,9,0,9,0,1,0,0,1,9,2,0,0,1,1,0,5,0,1,0,0,0,0,9,0,0,0,5,"n",8,0,1]
[{"$nulls":3},8088,9,1,3,2,3,0,"RG","n",715,"RG.0715kW.13230",8088,4,3299,"DN100",null,5,0,0,1,0,0,1,0,0,0,0,0,1,0,5,0,0,4,0,0,0,0,0,0,1,0,1,3,0,3,0,5,0,0,0,0,0,0,null,0,1,0,1,0,1,5,0,9,0,9,0,1,0,0,1,9,2,0,0,1,1,0,5,0,1,0,0,0,0,9,0,0,0,4,"n",8,0,1]
[{"$nulls":3},8098,9,0,6,0,3,0,"RG","n",690,"RG.0690kW.06030",8098,2,3299,"DN100",null,3,0,0,1,0,0,1,0,0,0,0,0,1,0,5,0,0,4,0,0,0,0,0,0,1,0,1,3,0,3,0,5,0,0,0,0,0,0,null,0,1,0,1,0,1,5,0,9,0,9,0,1,0,0,1,9,2,0,0,1,1,0,5,0,1,0,0,0,0,9,0,0,0,6,"n",8,0,1]
[{"$nulls":3},8118,9,3,1,3,2,0,"RG","n",651,"RG.0651kW.31320",8118,4,3299,"DN100",null,5,0,0,1,0,0,1,0,0,0,0,0,1,0,5,0,0,4,0,0,0,0,0,0,1,0,1,3,0,3,0,5,0,0,0,0,0,0,null,0,1,0,1,0,1,5,0,9,0,9,0,1,0,0,1,9,2,0,0,1,1,0,5,0,1,0,0,0,0,9,0,0,0,4,"n",8,0,1]
[{"$nulls":3},8133,9,0,7,0,2,0,"RG","n",645,"RG.0645kW.07020",8133,2,3299,"DN100",null,2,0,0,1,0,0,1,0,0,0,0,0,1,0,5,0,0,4,0,0,0,0,0,0,1,0,1,3,0,3,0,5,0,0,0,0,0,0,null,0,1,0,1,0,1,5,0,9,0,9,0,1,0,0,1,9,2,0,0,1,1,0,5,0,1,0,0,0,0,9,0,0,0,7,"n",8,0,1]
[{"$nulls":3},8149,9,2,1,5,1,0,"RG","n",671,"RG.0671kW.21510",8149,4,3299,"DN100",null,6,0,0,1,0,0,1,0,0,0,0,0,1,0,5,0,0,4,0,0,0,0,0,0,1,0,1,3,0,3,0,5,0,0,0,0,0,0,null,0,1,0,1,0,1,5,0,9,0,9,0,1,0,0,1,9,2,0,0,1,1,0,5,0,1,0,0,0,0,9,0,0,0,3,"n",8,0,1]
[{"$nulls":3},8169,9,0,7,1,1,0,"RG","n",622,"RG.0622kW.07110",8169,3,3299,"DN100",null,2,0,0,1,0,0,1,0,0,0,0,0,1,0,5,0,0,4,0,0,0,0,0,0,1,0,1,3,0,3,0,5,0,0,0,0,0,0,null,0,1,0,1,0,1,5,0,9,0,9,0,1,0,0,1,9,2,0,0,1,1,0,5,0,1,0,0,0,0,9,0,0,0,7,"n",8,0,1]
[{"$nulls":3},8178,9,1,7,0,1,0,"RG","n",578,"RG.0578kW.17010",8178,3,3299,"DN100",null,1,0,0,1,0,0,1,0,0,0,0,0,1,0,5,0,0,4,0,0,0,0,0,0,1,0,1,3,0,3,0,5,0,0,0,0,0,0,null,0,1,0,1,0,1,5,0,9,0,9,0,1,0,0,1,9,2,0,0,1,1,0,5,0,1,0,0,0,0,9,0,0,0,8,"n",8,0,1]
[{"$nulls":3},8194,9,2,1,6,0,0,"RG","n",648,"RG.0648kW.21600",8194,3,3299,"DN100",null,6,0,0,1,0,0,1,0,0,0,0,0,1,0,5,0,0,4,0,0,0,0,0,0,1,0,1,3,0,3,0,5,0,0,0,0,0,0,null,0,1,0,1,0,1,5,0,9,0,9,0,1,0,0,1,9,2,0,0,1,1,0,5,0,1,0,0,0,0,9,0,0,0,3,"n",8,0,1]
[{"$nulls":3},8209,9,2,4,3,0,0,"RG","n",580,"RG.0580kW.24300",8209,3,3299,"DN100",null,3,0,0,1,0,0,1,0,0,0,0,0,1,0,5,0,0,4,0,0,0,0,0,0,1,0,1,3,0,3,0,5,0,0,0,0,0,0,null,0,1,0,1,0,1,5,0,9,0,9,0,1,0,0,1,9,2,0,0,1,1,0,5,0,1,0,0,0,0,9,0,0,0,6,"n",8,0,1]
[{"$nulls":3},8225,9,3,5,1,0,0,"RG","n",514,"RG.0514kW.35100",8225,3,3299,"DN100",null,1,0,0,1,0,0,1,0,0,0,0,0,1,0,5,0,0,4,0,0,0,0,0,0,1,0,1,3,0,3,0,5,0,0,0,0,0,0,null,0,1,0,1,0,1,5,0,9,0,9,0,1,0,0,1,9,2,0,0,1,1,0,5,0,1,0,0,0,0,9,0,0,0,8,"n",8,0,1]
[{"$nulls":3},8242,8,0,0,1,7,0,"RG","n",833,"RG.0833kW.00170",8242,2,2769,"DN100",null,8,0,0,0,0,0,0,0,0,1,0,0,1,0,4,0,0,4,0,0,0,0,0,0,1,0,1,3,0,2,0,4,0,0,0,0,0,0,null,0,1,0,1,0,1,4,0,8,0,8,0,1,0,0,1,8,2,0,0,1,1,0,4,0,1,0,0,0,0,8,0,0,0,0,"n",7,0,0]
[{"$nulls":3},8254,8,0,2,1,5,0,"RG","n",742,"RG.0742kW.02150",8254,3,2769,"DN100",null,6,0,0,0,0,0,0,0,0,1,0,0,1,0,4,0,0,4,0,0,0,0,0,0,1,0,1,3,0,2,0,4,0,0,0,0,0,0,null,0,1,0,1,0,1,4,0,8,0,8,0,1,0,0,1,8,2,0,0,1,1,0,4,0,1,0,0,0,0,8,0,0,0,2,"n",7,0,0]
[{"$nulls":3},8270,8,3,0,1,4,0,"RG","n",635,"RG.0635kW.30140",8270,3,2769,"DN100",null,5,0,0,0,0,0,0,0,0,1,0,0,1,0,4,0,0,4,0,0,0,0,0,0,1,0,1,3,0,2,0,4,0,0,0,0,0,0,null,0,1,0,1,0,1,4,0,8,0,8,0,1,0,0,1,8,2,0,0,1,1,0,4,0,1,0,0,0,0,8,0,0,0,3,"n",7,0,0]
[{"$nulls":3},8285,8,3,0,2,3,0,"RG","n",612,"RG.0612kW.30230",8285,3,2769,"DN100",null,5,0,0,0,0,0,0,0,0,1,0,0,1,0,4,0,0,4,0,0,0,0,0,0,1,0,1,3,0,2,0,4,0,0,0,0,0,0,null,0,1,0,1,0,1,4,0,8,0,8,0,1,0,0,1,8,2,0,0,1,1,0,4,0,1,0,0,0,0,8,0,0,0,3,"n",7,0,0]
[{"$nulls":3},8300,8,0,2,4,2,0,"RG","n",674,"RG.0674kW.02420",8300,3,2769,"DN100",null,6,0,0,0,0,0,0,0,0,1,0,0,1,0,4,0,0,4,0,0,0,0,0,0,1,0,1,3,0,2,0,4,0,0,0,0,0,0,null,0,1,0,1,0,1,4,0,8,0,8,0,1,0,0,1,8,2,0,0,1,1,0,4,0,1,0,0,0,0,8,0,0,0,2,"n",7,0,0]
[{"$nulls":3},8315,8,3,2,1,2,0,"RG","n",544,"RG.0544kW.32120",8315,4,2769,"DN100",null,3,0,0,0,0,0,0,0,0,1,0,0,1,0,4,0,0,4,0,0,0,0,0,0,1,0,1,3,0,2,0,4,0,0,0,0,0,0,null,0,1,0,1,0,1,4,0,8,0,8,0,1,0,0,1,8,2,0,0,1,1,0,4,0,1,0,0,0,0,8,0,0,0,5,"n",7,0,0]
[{"$nulls":3},8330,8,2,0,5,1,0,"RG","n",610,"RG.0610kW.20510",8330,3,2769,"DN100",null,6,0,0,0,0,0,0,0,0,1,0,0,1,0,4,0,0,4,0,0,0,0,0,0,1,0,1,3,0,2,0,4,0,0,0,0,0,0,null,0,1,0,1,0,1,4,0,8,0,8,0,1,0,0,1,8,2,0,0,1,1,0,4,0,1,0,0,0,0,8,0,0,0,2,"n",{"$f":"E3619-1","v":7},0,0]
[{"$nulls":3},8346,8,0,6,1,1,0,"RG","n",560,"RG.0560kW.06110",8346,3,2769,"DN100",null,2,0,0,0,0,0,0,0,0,1,0,0,1,0,4,0,0,4,0,0,0,0,0,0,1,0,1,3,0,2,0,4,0,0,0,0,0,0,null,0,1,0,1,0,1,4,0,8,0,8,0,1,0,0,1,8,2,0,0,1,1,0,4,0,1,0,0,0,0,8,0,0,0,6,"n",7,0,0]
[{"$nulls":3},8361,8,0,0,8,0,0,"RG","n",674,"RG.0674kW.00800",8361,1,2769,"DN100",null,8,0,0,0,0,0,0,0,0,1,0,0,1,0,4,0,0,4,0,0,0,0,0,0,1,0,1,3,0,2,0,4,0,0,0,0,0,0,null,0,1,0,1,0,1,4,0,8,0,8,0,1,0,0,1,8,2,0,0,1,1,0,4,0,1,0,0,0,0,8,0,0,0,0,"n",7,0,0]
[{"$nulls":3},8376,8,0,5,3,0,0,"RG","n",560,"RG.0560kW.05300",8376,2,2769,"DN100",null,3,0,0,0,0,0,0,0,0,1,0,0,1,0,4,0,0,4,0,0,0,0,0,0,1,0,1,3,0,2,0,4,0,0,0,0,0,0,null,0,1,0,1,0,1,4,0,8,0,8,0,1,0,0,1,8,2,0,0,1,1,0,4,0,1,0,0,0,0,8,0,0,0,5,"n",7,0,0]
[{"$nulls":3},8388,8,6,0,2,0,0,"RG","n",413,"RG.0413kW.60200",8388,2,2755,"DN65",null,2,0,0,0,0,0,0,0,1,0,0,1,0,0,4,0,0,4,0,0,0,0,0,1,0,1,0,3,0,2,0,4,0,0,0,0,0,0,null,1,0,1,0,1,0,4,0,8,0,8,0,1,0,0,1,8,2,0,1,0,1,0,4,0,1,0,0,0,0,8,0,0,0,6,"n",7,0,0]
[{"$nulls":3},8406,7,0,0,0,7,0,"RG","n",749,"RG.0749kW.00070",8406,1,2769,"DN100",null,7,0,0,0,0,0,0,0,0,1,0,0,1,0,4,0,0,3,0,0,0,0,0,0,1,0,1,3,0,2,0,4,0,0,0,0,0,0,null,0,1,0,1,0,1,4,0,7,0,7,0,1,0,0,1,8,2,0,0,1,1,0,4,0,1,0,0,0,0,7,0,0,0,0,"n",6,0,1]
[{"$nulls":3},8421,7,2,0,1,4,0,"RG","n",594,"RG.0594kW.20140",8421,3,2769,"DN100",null,5,0,0,0,0,0,0,0,0,1,0,0,1,0,4,0,0,3,0,0,0,0,0,0,1,0,1,3,0,2,0,4,0,0,0,0,0,0,null,0,1,0,1,0,1,4,0,7,0,7,0,1,0,0,1,8,2,0,0,1,1,0,4,0,1,0,0,0,0,7,0,0,0,2,"n",6,0,1]
[{"$nulls":3},8422,7,0,3,0,4,0,"RG","n",613,"RG.0613kW.03040",8422,2,2769,"DN100",null,4,0,0,0,0,0,0,0,0,1,0,0,1,0,4,0,0,3,0,0,0,0,0,0,1,0,1,3,0,2,0,4,0,0,0,0,0,0,null,0,1,0,1,0,1,4,0,7,0,7,0,1,0,0,1,8,2,0,0,1,1,0,4,0,1,0,0,0,0,7,0,0,0,3,"n",6,0,1]
[{"$nulls":3},8441,7,0,0,5,2,0,"RG","n",635,"RG.0635kW.00520",8441,2,2769,"DN100",null,7,0,0,0,0,0,0,0,0,1,0,0,1,0,4,0,0,3,0,0,0,0,0,0,1,0,1,3,0,2,0,4,0,0,0,0,0,0,null,0,1,0,1,0,1,4,0,7,0,7,0,1,0,0,1,8,2,0,0,1,1,0,4,0,1,0,0,0,0,7,0,0,0,0,"n",6,0,1]
[{"$nulls":3},8452,7,1,3,1,2,0,"RG","n",524,"RG.0524kW.13120",8452,4,2769,"DN100",null,3,0,0,0,0,0,0,0,0,1,0,0,1,0,4,0,0,3,0,0,0,0,0,0,1,0,1,3,0,2,0,4,0,0,0,0,0,0,null,0,1,0,1,0,1,4,0,7,0,7,0,1,0,0,1,8,2,0,0,1,1,0,4,0,1,0,0,0,0,7,0,0,0,4,"n",6,0,1]
[{"$nulls":3},8467,7,2,0,4,1,0,"RG","n",525,"RG.0525kW.20410",8467,3,2769,"DN100",null,5,0,0,0,0,0,0,0,0,1,0,0,1,0,4,0,0,3,0,0,0,0,0,0,1,0,1,3,0,2,0,4,0,0,0,0,0,0,null,0,1,0,1,0,1,4,0,7,0,7,0,1,0,0,1,8,2,0,0,1,1,0,4,0,1,0,0,0,0,7,0,0,0,2,"n",6,0,1]
[{"$nulls":3},8482,7,5,0,1,1,0,"RG","n",395,"RG.0395kW.50110",8482,3,2755,"DN65",null,2,0,0,0,0,0,0,0,1,0,0,1,0,0,4,0,0,3,0,0,0,0,0,1,0,1,0,3,0,2,0,4,0,0,0,0,0,0,null,1,0,1,0,1,0,4,0,7,0,7,0,1,0,0,1,8,2,0,1,0,1,0,4,0,1,0,0,0,0,7,0,0,0,5,"n",6,0,1]
[{"$nulls":3},8498,7,2,1,4,0,0,"RG","n",480,"RG.0480kW.21400",8498,3,2769,"DN100",null,4,0,0,0,0,0,0,0,0,1,0,0,1,0,4,0,0,3,0,0,0,0,0,0,1,0,1,3,0,2,0,4,0,0,0,0,0,0,null,0,1,0,1,0,1,4,0,7,0,7,0,1,0,0,1,8,2,0,0,1,1,0,4,0,1,0,0,0,0,7,0,0,0,3,"n",6,0,1]
[{"$nulls":3},8514,7,3,3,1,0,0,"RG","n",391,"RG.0391kW.33100",8514,3,2755,"DN65",null,1,0,0,0,0,0,0,0,1,0,0,1,0,0,4,0,0,3,0,0,0,0,0,1,0,1,0,3,0,2,0,4,0,0,0,0,0,0,null,1,0,1,0,1,0,4,0,7,0,7,0,1,0,0,1,8,2,0,1,0,1,0,4,0,1,0,0,0,0,7,0,0,0,6,"n",6,0,1]
[{"$nulls":3},8528,6,0,1,0,5,0,"RG","n",597,"RG.0597kW.01050",8528,2,2239,"DN100",null,5,0,0,0,0,0,1,0,0,0,0,0,1,0,3,0,0,3,0,0,0,0,0,0,1,0,1,2,0,2,0,3,0,0,0,0,0,0,null,0,1,0,1,0,1,3,0,6,0,6,0,1,0,0,1,6,2,0,0,1,1,0,3,0,1,0,0,0,0,6,0,0,0,1,"n",5,0,0]
[{"$nulls":3},8543,6,1,2,0,3,0,"RG","n",485,"RG.0485kW.12030",8543,3,2239,"DN100",null,3,0,0,0,0,0,1,0,0,0,0,0,1,0,3,0,0,3,0,0,0,0,0,0,1,0,1,2,0,2,0,3,0,0,0,0,0,0,null,0,1,0,1,0,1,3,0,6,0,6,0,1,0,0,1,6,2,0,0,1,1,0,3,0,1,0,0,0,0,6,0,0,0,3,"n",5,0,0]
[{"$nulls":3},8558,6,2,2,0,2,0,"RG","n",{"$f":"ROUND(SUMPRODUCT($F$3:$J$3,F3847:J3847),0)","v":419},{"$f":"IF(M3847>=1000,CONCATENATE(K3847,\".\",M3847,\"kW.\",F3847,G3847,H3847,I3847,J3847),CONCATENATE(K3847,\".0\",M3847,\"kW.\",F3847,G3847,H3847,I3847,J3847))","v":"RG.0419kW.22020"},8558,3,2225,"DN65",null,{"$f":"I3847+H3847","v":2},{"$f":"J3847","v":0},0,0,0,1,0,0,0,0,0,1,0,0,3,0,0,3,0,0,0,0,0,1,0,1,0,2,0,2,0,3,0,0,0,0,0,0,null,1,0,1,0,1,0,3,0,6,0,{"$f":"+BO3847","v":6},0,1,0,0,1,6,2,0,1,0,1,0,3,0,1,0,0,0,0,6,0,0,0,{"$f":"F3847+G3847","v":4},"n",5,0,{"$f":"IF(K3847<>\"RG\",E3847,IF(OR(E3847=4,E3847=6,E3847=8),0,1))","v":0}]
[{"$nulls":3},8574,6,3,1,1,1,0,"RG","n",375,"RG.0375kW.31110",8574,4,2225,"DN65",null,2,0,0,0,0,1,0,0,0,0,0,1,0,0,3,0,0,3,0,0,0,0,0,1,0,1,0,2,0,2,0,3,0,0,0,0,0,0,null,1,0,1,0,1,0,3,0,6,0,6,0,1,0,0,1,6,2,0,1,0,1,0,3,0,1,0,0,0,0,6,0,0,0,4,"n",5,0,0]
[{"$nulls":3},8587,6,2,0,4,0,0,"RG","n",418,"RG.0418kW.20400",8587,2,2225,"DN65",null,4,0,0,0,0,1,0,0,0,0,0,1,0,0,3,0,0,3,0,0,0,0,0,1,0,1,0,2,0,2,0,3,0,0,0,0,0,0,null,1,0,1,0,1,0,3,0,6,0,6,0,1,0,0,1,6,2,0,1,0,1,0,3,0,1,0,0,0,0,6,0,0,0,2,"n",5,0,0]
[{"$nulls":3},8603,6,0,6,0,0,0,"RG","n",369,"RG.0369kW.06000",8603,1,2225,"DN65",null,0,0,0,0,0,1,0,0,0,0,0,1,0,0,3,0,0,3,0,0,0,0,0,1,0,1,0,2,0,2,0,3,0,0,0,0,0,0,null,1,0,1,0,1,0,3,0,6,0,6,0,1,0,0,1,6,2,0,1,0,1,0,3,0,1,0,0,0,0,6,0,0,0,6,"n",5,0,0]
[{"$nulls":3},8619,5,2,0,0,3,0,"RG","n",403,"RG.0403kW.20030",8619,2,2225,"DN65",null,3,0,0,0,0,1,0,0,0,0,0,1,0,0,3,0,0,2,0,0,0,0,0,1,0,1,0,2,0,2,0,3,0,0,0,0,0,0,null,1,0,1,0,1,0,3,0,5,0,5,0,1,0,0,1,6,1,0,1,0,1,0,3,0,1,0,0,0,0,5,0,0,0,2,"n",4,0,1]
[{"$nulls":3},8634,5,1,1,2,1,0,"RG","n",378,"RG.0378kW.11210",8634,4,2225,"DN65",null,3,0,0,0,0,1,0,0,0,0,0,1,0,0,3,0,0,2,0,0,0,0,0,1,0,1,0,2,0,2,0,3,0,0,0,0,0,0,null,1,0,1,0,1,0,3,0,5,0,5,0,1,0,0,1,6,1,0,1,0,1,0,3,0,1,0,0,0,0,5,0,0,0,2,"n",4,0,1]
[{"$nulls":3},8650,5,2,0,3,0,0,"RG","n",334,"RG.0334kW.20300",8650,2,1885,"DN65",null,3,0,0,0,0,1,0,0,0,0,1,0,0,0,3,0,0,2,0,0,0,0,0,1,0,1,0,2,0,2,0,3,0,0,0,0,0,0,null,1,0,1,0,1,0,3,0,5,0,5,0,0,0,1,1,6,1,0,1,0,1,0,3,0,0,1,0,0,0,5,0,0,0,2,"n",{"$f":"E3939-1","v":4},0,1]
[{"$nulls":3},8659,5,4,0,1,0,0,"RG","n",247,"RG.0247kW.40100",8659,2,1885,"DN65",null,1,0,0,0,0,1,0,0,0,0,1,0,0,0,3,0,0,2,0,0,0,0,0,1,0,1,0,2,0,2,0,3,0,0,0,0,0,0,null,1,0,1,0,1,0,3,0,5,0,5,0,0,0,1,1,6,1,0,1,0,1,0,3,0,0,1,0,0,0,5,0,0,0,4,"n",4,0,1]
[{"$nulls":3},8660,5,0,5,0,0,0,"RG","n",308,"RG.0308kW.05000",8660,1,1885,"DN65",null,0,0,0,0,0,1,0,0,0,0,1,0,0,0,3,0,0,2,0,0,0,0,0,1,0,1,0,2,0,2,0,3,0,0,0,0,0,0,null,1,0,1,0,1,0,3,0,5,0,5,0,0,0,1,1,6,1,0,1,0,1,0,3,0,0,1,0,0,0,5,0,0,0,5,"n",4,0,1]
[{"$nulls":3},8661,5,1,4,0,0,0,"RG","n",287,"RG.0287kW.14000",8661,2,1885,"DN65",null,0,0,0,0,0,1,0,0,0,0,1,0,0,0,3,0,0,2,0,0,0,0,0,1,0,1,0,2,0,2,0,3,0,0,0,0,0,0,null,1,0,1,0,1,0,3,0,5,0,5,0,0,0,1,1,6,1,0,1,0,1,0,3,0,0,1,0,0,0,5,0,0,0,5,"n",4,0,1]
[{"$nulls":3},8662,5,2,3,0,0,0,"RG","n",266,"RG.0266kW.23000",8662,2,1885,"DN65",null,0,0,0,0,0,1,0,0,0,0,1,0,0,0,3,0,0,2,0,0,0,0,0,1,0,1,0,2,0,2,0,3,0,0,0,0,0,0,null,1,0,1,0,1,0,3,0,5,0,5,0,0,0,1,1,6,1,0,1,0,1,0,3,0,0,1,0,0,0,5,0,0,0,5,"n",4,0,1]
[{"$nulls":3},8663,5,3,2,0,0,0,"RG","n",245,"RG.0245kW.32000",8663,2,1885,"DN65",null,0,0,0,0,0,1,0,0,0,0,1,0,0,0,3,0,0,2,0,0,0,0,0,1,0,1,0,2,0,2,0,3,0,0,0,0,0,0,null,1,0,1,0,1,0,3,0,5,0,5,0,0,0,1,1,6,1,0,1,0,1,0,3,0,0,1,0,0,0,5,0,0,0,5,"n",4,0,1]
[{"$nulls":3},8664,5,4,1,0,0,0,"RG","n",225,"RG.0225kW.41000",8664,2,1885,"DN65",null,0,0,0,0,0,1,0,0,0,0,1,0,0,0,3,0,0,2,0,0,0,0,0,1,0,1,0,2,0,2,0,3,0,0,0,0,0,0,null,1,0,1,0,1,0,3,0,5,0,5,0,0,0,1,1,6,1,0,1,0,1,0,3,0,0,1,0,0,0,5,0,0,0,5,"n",4,0,1]
[{"$nulls":3},8665,5,5,0,0,0,0,"RG","n",204,"RG.0204kW.50000",8665,1,1885,"DN65",null,0,0,0,0,0,1,0,0,0,0,1,0,0,0,3,0,0,2,0,0,0,0,0,1,0,1,0,2,0,2,0,3,0,0,0,0,0,0,null,1,0,1,0,1,0,3,0,5,0,5,0,0,0,1,1,6,1,0,1,0,1,0,3,0,0,1,0,0,0,5,0,0,0,5,"n",4,0,1]
[{"$nulls":3},8666,4,0,0,0,4,0,"RG","n",428,"RG.0428kW.00040",8666,1,1695,"DN65",null,4,0,1,0,0,0,0,0,0,0,0,1,0,0,2,0,0,2,0,0,0,0,0,1,0,1,0,2,0,1,0,2,0,0,0,0,0,0,null,1,0,1,0,1,0,2,0,4,0,4,0,1,0,0,1,5,1,1,1,0,1,0,2,0,1,0,1,0,0,4,1,0,0,0,"n",3,0,0]
[{"$nulls":3},8667,4,0,0,1,3,0,"RG","n",405,"RG.0405kW.00130",8667,2,1695,"DN65",null,4,0,1,0,0,0,0,0,0,0,0,1,0,0,2,0,0,2,0,0,0,0,0,1,0,1,0,2,0,1,0,2,0,0,0,0,0,0,null,1,0,1,0,1,0,2,0,4,0,4,0,1,0,0,1,5,1,1,1,0,1,0,2,0,1,0,1,0,0,4,1,0,0,0,"n",3,0,0]
[{"$nulls":3},8668,4,0,1,0,3,0,"RG","n",383,"RG.0383kW.01030",8668,2,1695,"DN65",null,3,0,1,0,0,0,0,0,0,0,0,1,0,0,2,0,0,2,0,0,0,0,0,1,0,1,0,2,0,1,0,2,0,0,0,0,0,0,null,1,0,1,0,1,0,2,0,4,0,4,0,1,0,0,1,5,1,1,1,0,1,0,2,0,1,0,1,0,0,4,1,0,0,1,"n",3,0,0]
[{"$nulls":3},8669,4,1,0,0,3,0,"RG","n",362,"RG.0362kW.10030",8669,2,1695,"DN65",null,3,0,1,0,0,0,0,0,0,0,0,1,0,0,2,0,0,2,0,0,0,0,0,1,0,1,0,2,0,1,0,2,0,0,0,0,0,0,null,1,0,1,0,1,0,2,0,4,0,4,0,1,0,0,1,5,1,1,1,0,1,0,2,0,1,0,1,0,0,4,1,0,0,1,"n",3,0,0]
[{"$nulls":3},8670,4,0,0,2,2,0,"RG","n",382,"RG.0382kW.00220",8670,2,1695,"DN65",null,4,0,1,0,0,0,0,0,0,0,0,1,0,0,2,0,0,2,0,0,0,0,0,1,0,1,0,2,0,1,0,2,0,0,0,0,0,0,null,1,0,1,0,1,0,2,0,4,0,4,0,1,0,0,1,5,1,1,1,0,1,0,2,0,1,0,1,0,0,4,1,0,0,0,"n",3,0,0]
[{"$nulls":3},8671,4,0,1,1,2,0,"RG","n",360,"RG.0360kW.01120",8671,3,1695,"DN65",null,3,0,1,0,0,0,0,0,0,0,0,1,0,0,2,0,0,2,0,0,0,0,0,1,0,1,0,2,0,1,0,2,0,0,0,0,0,0,null,1,0,1,0,1,0,2,0,4,0,4,0,1,0,0,1,5,1,1,1,0,1,0,2,0,1,0,1,0,0,4,1,0,0,1,"n",3,0,0]
[{"$nulls":3},8672,4,1,0,1,2,0,"RG","n",339,"RG.0339kW.10120",8672,3,1355,"DN65",null,3,0,1,0,0,0,0,0,0,0,1,0,0,0,2,0,0,2,0,0,0,0,0,1,0,1,0,2,0,1,0,2,0,0,0,0,0,0,null,1,0,1,0,1,0,2,0,4,0,4,0,0,0,1,1,5,1,1,1,0,1,0,2,0,0,1,1,0,0,4,1,0,0,1,"n",3,0,0]
[{"$nulls":3},8673,4,0,2,0,2,0,"RG","n",337,"RG.0337kW.02020",8673,2,1355,"DN65",null,2,0,1,0,0,0,0,0,0,0,1,0,0,0,2,0,0,2,0,0,0,0,0,1,0,1,0,2,0,1,0,2,0,0,0,0,0,0,null,1,0,1,0,1,0,2,0,4,0,4,0,0,0,1,1,5,1,1,1,0,1,0,2,0,0,1,1,0,0,4,1,0,0,2,"n",3,0,0]
[{"$nulls":3},8674,4,1,1,0,2,0,"RG","n",316,"RG.0316kW.11020",8674,3,1355,"DN65",null,2,0,1,0,0,0,0,0,0,0,1,0,0,0,2,0,0,2,0,0,0,0,0,1,0,1,0,2,0,1,0,2,0,0,0,0,0,0,null,1,0,1,0,1,0,2,0,4,0,4,0,0,0,1,1,5,1,1,1,0,1,0,2,0,0,1,1,0,0,4,1,0,0,2,"n",3,0,0]
[{"$nulls":3},8675,4,2,0,0,2,0,"RG","n",296,"RG.0296kW.20020",8675,2,1355,"DN65",null,2,0,1,0,0,0,0,0,0,0,1,0,0,0,2,0,0,2,0,0,0,0,0,1,0,1,0,2,0,1,0,2,0,0,0,0,0,0,null,1,0,1,0,1,0,2,0,4,0,4,0,0,0,1,1,5,1,1,1,0,1,0,2,0,0,1,1,0,0,4,1,0,0,2,"n",3,0,0]
[{"$nulls":3},8676,4,0,0,3,1,0,"RG","n",360,"RG.0360kW.00310",8676,2,1695,"DN65",null,4,0,1,0,0,0,0,0,0,0,0,1,0,0,2,0,0,2,0,0,0,0,0,1,0,1,0,2,0,1,0,2,0,0,0,0,0,0,null,1,0,1,0,1,0,2,0,4,0,4,0,1,0,0,1,5,1,1,1,0,1,0,2,0,1,0,1,0,0,4,1,0,0,0,"n",3,0,0]
[{"$nulls":3},8677,4,0,1,2,1,0,"RG","n",337,"RG.0337kW.01210",8677,3,1355,"DN65",null,3,0,1,0,0,0,0,0,0,0,1,0,0,0,2,0,0,2,0,0,0,0,0,1,0,1,0,2,0,1,0,2,0,0,0,0,0,0,null,1,0,1,0,1,0,2,0,4,0,4,0,0,0,1,1,5,1,1,1,0,1,0,2,0,0,1,1,0,0,4,1,0,0,1,"n",3,0,0]
[{"$nulls":3},8678,4,1,0,2,1,0,"RG","n",316,"RG.0316kW.10210",8678,3,1355,"DN65",null,3,0,1,0,0,0,0,0,0,0,1,0,0,0,2,0,0,2,0,0,0,0,0,1,0,1,0,2,0,1,0,2,0,0,0,0,0,0,null,1,0,1,0,1,0,2,0,4,0,4,0,0,0,1,1,5,1,1,1,0,1,0,2,0,0,1,1,0,0,4,1,0,0,1,"n",3,0,0]
[{"$nulls":3},8679,4,0,2,1,1,0,"RG","n",314,"RG.0314kW.02110",8679,3,1355,"DN65",null,2,0,1,0,0,0,0,0,0,0,1,0,0,0,2,0,0,2,0,0,0,0,0,1,0,1,0,2,0,1,0,2,0,0,0,0,0,0,null,1,0,1,0,1,0,2,0,4,0,4,0,0,0,1,1,5,1,1,1,0,1,0,2,0,0,1,1,0,0,4,1,0,0,2,"n",3,0,0]
[{"$nulls":3},8680,4,1,1,1,1,0,"RG","n",294,"RG.0294kW.11110",8680,4,1355,"DN65",null,2,0,1,0,0,0,0,0,0,0,1,0,0,0,2,0,0,2,0,0,0,0,0,1,0,1,0,2,0,1,0,2,0,0,0,0,0,0,null,1,0,1,0,1,0,2,0,4,0,4,0,0,0,1,1,5,1,1,1,0,1,0,2,0,0,1,1,0,0,4,1,0,0,2,"n",3,0,0]
[{"$nulls":3},8681,4,2,0,1,1,0,"RG","n",273,"RG.0273kW.20110",8681,3,1355,"DN65",null,2,0,1,0,0,0,0,0,0,0,1,0,0,0,2,0,0,2,0,0,0,0,0,1,0,1,0,2,0,1,0,2,0,0,0,0,0,0,null,1,0,1,0,1,0,2,0,4,0,4,0,0,0,1,1,5,1,1,1,0,1,0,2,0,0,1,1,0,0,4,1,0,0,2,"n",3,0,0]
[{"$nulls":3},8682,4,0,3,0,1,0,"RG","n",292,"RG.0292kW.03010",8682,2,1355,"DN65",null,1,0,1,0,0,0,0,0,0,0,1,0,0,0,2,0,0,2,0,0,0,0,0,1,0,1,0,2,0,1,0,2,0,0,0,0,0,0,null,1,0,1,0,1,0,2,0,4,0,4,0,0,0,1,1,5,1,1,1,0,1,0,2,0,0,1,1,0,0,4,1,0,0,3,"n",3,0,0]
[{"$nulls":3},8683,4,1,2,0,1,0,"RG","n",271,"RG.0271kW.12010",8683,3,1355,"DN65",null,1,0,1,0,0,0,0,0,0,0,1,0,0,0,2,0,0,2,0,0,0,0,0,1,0,1,0,2,0,1,0,2,0,0,0,0,0,0,null,1,0,1,0,1,0,2,0,4,0,4,0,0,0,1,1,5,1,1,1,0,1,0,2,0,0,1,1,0,0,4,1,0,0,3,"n",3,0,0]
[{"$nulls":3},8684,4,2,1,0,1,0,"RG","n",250,"RG.0250kW.21010",8684,3,1355,"DN65",null,1,0,1,0,0,0,0,0,0,0,1,0,0,0,2,0,0,2,0,0,0,0,0,1,0,1,0,2,0,1,0,2,0,0,0,0,0,0,null,1,0,1,0,1,0,2,0,4,0,4,0,0,0,1,1,5,1,1,1,0,1,0,2,0,0,1,1,0,0,4,1,0,0,3,"n",3,0,0]
[{"$nulls":3},8685,4,3,0,0,1,0,"RG","n",229,"RG.0229kW.30010",8685,2,1355,"DN65",null,1,0,1,0,0,0,0,0,0,0,1,0,0,0,2,0,0,2,0,0,0,0,0,1,0,1,0,2,0,1,0,2,0,0,0,0,0,0,null,1,0,1,0,1,0,2,0,4,0,4,0,0,0,1,1,5,1,1,1,0,1,0,2,0,0,1,1,0,0,4,1,0,0,3,"n",3,0,0]
[{"$nulls":3},8686,4,0,0,4,0,0,"RG","n",{"$f":"ROUND(SUMPRODUCT($F$3:$J$3,F3975:J3975),0)","v":337},{"$f":"IF(M3975>=1000,CONCATENATE(K3975,\".\",M3975,\"kW.\",F3975,G3975,H3975,I3975,J3975),CONCATENATE(K3975,\".0\",M3975,\"kW.\",F3975,G3975,H3975,I3975,J3975))","v":"RG.0337kW.00400"},8686,1,1355,"DN65",null,{"$f":"I3975+H3975","v":4},{"$f":"J3975","v":0},1,0,0,0,0,0,0,0,1,0,0,0,2,0,0,2,0,0,0,0,0,1,0,1,0,2,0,1,0,2,0,0,0,0,0,0,null,1,0,1,0,1,0,2,0,4,0,{"$f":"+BO3975","v":4},0,0,0,1,1,5,1,1,1,0,1,0,2,0,0,1,1,0,0,4,1,0,0,{"$f":"F3975+G3975","v":0},"n",3,0,{"$f":"IF(K3975<>\"RG\",E3975,IF(OR(E3975=4,E3975=6,E3975=8),0,1))","v":0}]
[{"$nulls":3},8687,4,0,1,3,0,0,"RG","n",314,"RG.0314kW.01300",8687,2,1355,"DN65",null,3,0,1,0,0,0,0,0,0,0,1,0,0,0,2,0,0,2,0,0,0,0,0,1,0,1,0,2,0,1,0,2,0,0,0,0,0,0,null,1,0,1,0,1,0,2,0,4,0,4,0,0,0,1,1,5,1,1,1,0,1,0,2,0,0,1,1,0,0,4,1,0,0,1,"n",3,0,0]
[{"$nulls":3},8688,4,1,0,3,0,0,"RG","n",293,"RG.0293kW.10300",8688,2,1355,"DN65",null,3,0,1,0,0,0,0,0,0,0,1,0,0,0,2,0,0,2,0,0,0,0,0,1,0,1,0,2,0,1,0,2,0,0,0,0,0,0,null,1,0,1,0,1,0,2,0,4,0,4,0,0,0,1,1,5,1,1,1,0,1,0,2,0,0,1,1,0,0,4,1,0,0,1,"n",3,0,0]
[{"$nulls":3},8689,4,0,2,2,0,0,"RG","n",291,"RG.0291kW.02200",8689,2,1355,"DN65",null,2,0,1,0,0,0,0,0,0,0,1,0,0,0,2,0,0,2,0,0,0,0,0,1,0,1,0,2,0,1,0,2,0,0,0,0,0,0,null,1,0,1,0,1,0,2,0,4,0,4,0,0,0,1,1,5,1,1,1,0,1,0,2,0,0,1,1,0,0,4,1,0,0,2,"n",3,0,0]
[{"$nulls":3},8690,4,1,1,2,0,0,"RG","n",271,"RG.0271kW.11200",8690,3,1355,"DN65",null,2,0,1,0,0,0,0,0,0,0,1,0,0,0,2,0,0,2,0,0,0,0,0,1,0,1,0,2,0,1,0,2,0,0,0,0,0,0,null,1,0,1,0,1,0,2,0,4,0,4,0,0,0,1,1,5,1,1,1,0,1,0,2,0,0,1,1,0,0,4,1,0,0,2,"n",3,0,0]
[{"$nulls":3},8691,4,2,0,2,0,0,"RG","n",250,"RG.0250kW.20200",8691,2,1355,"DN65",null,2,0,1,0,0,0,0,0,0,0,1,0,0,0,2,0,0,2,0,0,0,0,0,1,0,1,0,2,0,1,0,2,0,0,0,0,0,0,null,1,0,1,0,1,0,2,0,4,0,4,0,0,0,1,1,5,1,1,1,0,1,0,2,0,0,1,1,0,0,4,1,0,0,2,"n",3,0,0]
[{"$nulls":3},8692,4,0,3,1,0,0,"RG","n",269,"RG.0269kW.03100",8692,2,1355,"DN65",null,1,0,1,0,0,0,0,0,0,0,1,0,0,0,2,0,0,2,0,0,0,0,0,1,0,1,0,2,0,1,0,2,0,0,0,0,0,0,null,1,0,1,0,1,0,2,0,4,0,4,0,0,0,1,1,5,1,1,1,0,1,0,2,0,0,1,1,0,0,4,1,0,0,3,"n",3,0,0]
[{"$nulls":3},8693,4,1,2,1,0,0,"RG","n",248,"RG.0248kW.12100",8693,3,1355,"DN65",null,1,0,1,0,0,0,0,0,0,0,1,0,0,0,2,0,0,2,0,0,0,0,0,1,0,1,0,2,0,1,0,2,0,0,0,0,0,0,null,1,0,1,0,1,0,2,0,4,0,4,0,0,0,1,1,5,1,1,1,0,1,0,2,0,0,1,1,0,0,4,1,0,0,3,"n",3,0,0]
[{"$nulls":3},8694,4,2,1,1,0,0,"RG","n",227,"RG.0227kW.21100",8694,3,1355,"DN65",null,1,0,1,0,0,0,0,0,0,0,1,0,0,0,2,0,0,2,0,0,0,0,0,1,0,1,0,2,0,1,0,2,0,0,0,0,0,0,null,1,0,1,0,1,0,2,0,4,0,4,0,0,0,1,1,5,1,1,1,0,1,0,2,0,0,1,1,0,0,4,1,0,0,3,"n",3,0,0]
[{"$nulls":3},8695,4,3,0,1,0,0,"RG","n",207,"RG.0207kW.30100",8695,2,1355,"DN65",null,1,0,1,0,0,0,0,0,0,0,1,0,0,0,2,0,0,2,0,0,0,0,0,1,0,1,0,2,0,1,0,2,0,0,0,0,0,0,null,1,0,1,0,1,0,2,0,4,0,4,0,0,0,1,1,5,1,1,1,0,1,0,2,0,0,1,1,0,0,4,1,0,0,3,"n",3,0,0]
[{"$nulls":3},8696,4,0,4,0,0,0,"RG","n",246,"RG.0246kW.04000",8696,1,1355,"DN65",null,0,0,1,0,0,0,0,0,0,0,1,0,0,0,2,0,0,2,0,0,0,0,0,1,0,1,0,2,0,1,0,2,0,0,0,0,0,0,null,1,0,1,0,1,0,2,0,4,0,4,0,0,0,1,1,5,1,1,1,0,1,0,2,0,0,1,1,0,0,4,1,0,0,4,"n",3,0,0]
[{"$nulls":3},8697,4,1,3,0,0,0,"RG","n",225,"RG.0225kW.13000",8697,2,1355,"DN65",null,0,0,1,0,0,0,0,0,0,0,1,0,0,0,2,0,0,2,0,0,0,0,0,1,0,1,0,2,0,1,0,2,0,0,0,0,0,0,null,1,0,1,0,1,0,2,0,4,0,4,0,0,0,1,1,5,1,1,1,0,1,0,2,0,0,1,1,0,0,4,1,0,0,4,"n",3,0,0]
[{"$nulls":3},8698,4,2,2,0,0,0,"RG","n",205,"RG.0205kW.22000",8698,2,1355,"DN65",null,0,0,1,0,0,0,0,0,0,0,1,0,0,0,2,0,0,2,0,0,0,0,0,1,0,1,0,2,0,1,0,2,0,0,0,0,0,0,null,1,0,1,0,1,0,2,0,4,0,4,0,0,0,1,1,5,1,1,1,0,1,0,2,0,0,1,1,0,0,4,1,0,0,4,"n",3,0,0]
[{"$nulls":3},8699,4,3,1,0,0,0,"RG","n",184,"RG.0184kW.31000",8699,2,1355,"DN65",null,0,0,1,0,0,0,0,0,0,0,1,0,0,0,2,0,0,2,0,0,0,0,0,1,0,1,0,2,0,1,0,2,0,0,0,0,0,0,null,1,0,1,0,1,0,2,0,4,0,4,0,0,0,1,1,5,1,1,1,0,1,0,2,0,0,1,1,0,0,4,1,0,0,4,"n",3,0,0]
[{"$nulls":3},8700,4,4,0,0,0,0,"RG","n",163,"RG.0163kW.40000",8700,1,1355,"DN65",null,0,0,1,0,0,0,0,0,0,0,1,0,0,0,2,0,0,2,0,0,0,0,0,1,0,1,0,2,0,1,0,2,0,0,0,0,0,0,null,1,0,1,0,1,0,2,0,4,0,4,0,0,0,1,1,5,1,1,1,0,1,0,2,0,0,1,1,0,0,4,1,0,0,4,"n",3,0,0]
[{"$nulls":3},8701,3,0,0,0,3,0,"RG","n",321,"RG.0321kW.00030",8701,1,1355,"DN65",null,3,0,1,0,0,0,0,0,0,0,1,0,0,0,2,0,0,1,0,0,0,0,0,1,0,1,0,2,0,1,0,2,0,0,0,0,0,0,null,1,0,1,0,1,0,2,0,3,0,3,0,0,0,1,1,5,1,1,1,0,1,0,2,0,0,1,1,0,0,3,1,0,0,0,"n",2,0,1]
[{"$nulls":3},8702,3,0,0,1,2,0,"RG","n",298,"RG.0298kW.00120",8702,2,1355,"DN65",null,3,0,1,0,0,0,0,0,0,0,1,0,0,0,2,0,0,1,0,0,0,0,0,1,0,1,0,2,0,1,0,2,0,0,0,0,0,0,null,1,0,1,0,1,0,2,0,3,0,3,0,0,0,1,1,5,1,1,1,0,1,0,2,0,0,1,1,0,0,3,1,0,0,0,"n",2,0,1]
[{"$nulls":3},8703,3,0,1,0,2,0,"RG","n",276,"RG.0276kW.01020",8703,2,1355,"DN65",null,2,0,1,0,0,0,0,0,0,0,1,0,0,0,2,0,0,1,0,0,0,0,0,1,0,1,0,2,0,1,0,2,0,0,0,0,0,0,null,1,0,1,0,1,0,2,0,3,0,3,0,0,0,1,1,5,1,1,1,0,1,0,2,0,0,1,1,0,0,3,1,0,0,1,"n",2,0,1]
[{"$nulls":3},8704,3,1,0,0,2,0,"RG","n",255,"RG.0255kW.10020",8704,2,1355,"DN65",null,2,0,1,0,0,0,0,0,0,0,1,0,0,0,2,0,0,1,0,0,0,0,0,1,0,1,0,2,0,1,0,2,0,0,0,0,0,0,null,1,0,1,0,1,0,2,0,3,0,3,0,0,0,1,1,5,1,1,1,0,1,0,2,0,0,1,1,0,0,3,1,0,0,1,"n",2,0,1]
[{"$nulls":3},8705,3,0,0,2,1,0,"RG","n",275,"RG.0275kW.00210",8705,2,1355,"DN65",null,3,0,1,0,0,0,0,0,0,0,1,0,0,0,2,0,0,1,0,0,0,0,0,1,0,1,0,2,0,1,0,2,0,0,0,0,0,0,null,1,0,1,0,1,0,2,0,3,0,3,0,0,0,1,1,5,1,1,1,0,1,0,2,0,0,1,1,0,0,3,1,0,0,0,"n",2,0,1]
[{"$nulls":3},8706,3,0,1,1,1,0,"RG","n",253,"RG.0253kW.01110",8706,3,1355,"DN65",null,2,0,1,0,0,0,0,0,0,0,1,0,0,0,2,0,0,1,0,0,0,0,0,1,0,1,0,2,0,1,0,2,0,0,0,0,0,0,null,1,0,1,0,1,0,2,0,3,0,3,0,0,0,1,1,5,1,1,1,0,1,0,2,0,0,1,1,0,0,3,1,0,0,1,"n",2,0,1]
[{"$nulls":3},8707,3,1,0,1,1,0,"RG","n",232,"RG.0232kW.10110",8707,3,1355,"DN65",null,2,0,1,0,0,0,0,0,0,0,1,0,0,0,2,0,0,1,0,0,0,0,0,1,0,1,0,2,0,1,0,2,0,0,0,0,0,0,null,1,0,1,0,1,0,2,0,3,0,3,0,0,0,1,1,5,1,1,1,0,1,0,2,0,0,1,1,0,0,3,1,0,0,1,"n",2,0,1]
[{"$nulls":3},8708,3,0,2,0,1,0,"RG","n",230,"RG.0230kW.02010",8708,2,1355,"DN65",null,1,0,1,0,0,0,0,0,0,0,1,0,0,0,2,0,0,1,0,0,0,0,0,1,0,1,0,2,0,1,0,2,0,0,0,0,0,0,null,1,0,1,0,1,0,2,0,3,0,3,0,0,0,1,1,5,1,1,1,0,1,0,2,0,0,1,1,0,0,3,1,0,0,2,"n",2,0,1]
[{"$nulls":3},8709,3,1,1,0,1,0,"RG","n",209,"RG.0209kW.11010",8709,3,1355,"DN65",null,1,0,1,0,0,0,0,0,0,0,1,0,0,0,2,0,0,1,0,0,0,0,0,1,0,1,0,2,0,1,0,2,0,0,0,0,0,0,null,1,0,1,0,1,0,2,0,3,0,3,0,0,0,1,1,5,1,1,1,0,1,0,2,0,0,1,1,0,0,3,1,0,0,2,"n",2,0,1]
[{"$nulls":3},8710,3,2,0,0,1,0,"RG","n",189,"RG.0189kW.20010",8710,2,1355,"DN65",null,1,0,1,0,0,0,0,0,0,0,1,0,0,0,2,0,0,1,0,0,0,0,0,1,0,1,0,2,0,1,0,2,0,0,0,0,0,0,null,1,0,1,0,1,0,2,0,3,0,3,0,0,0,1,1,5,1,1,1,0,1,0,2,0,0,1,1,0,0,3,1,0,0,2,"n",2,0,1]
[{"$nulls":3},8711,3,0,0,3,0,0,"RG","n",253,"RG.0253kW.00300",8711,1,1355,"DN65",null,3,0,1,0,0,0,0,0,0,0,1,0,0,0,2,0,0,1,0,0,0,0,0,1,0,1,0,2,0,1,0,2,0,0,0,0,0,0,null,1,0,1,0,1,0,2,0,3,0,3,0,0,0,1,1,5,1,1,1,0,1,0,2,0,0,1,1,0,0,3,1,0,0,0,"n",2,0,1]
[{"$nulls":3},8712,3,0,1,2,0,0,"RG","n",230,"RG.0230kW.01200",8712,2,1355,"DN65",null,2,0,1,0,0,0,0,0,0,0,1,0,0,0,2,0,0,1,0,0,0,0,0,1,0,1,0,2,0,1,0,2,0,0,0,0,0,0,null,1,0,1,0,1,0,2,0,3,0,3,0,0,0,1,1,5,1,1,1,0,1,0,2,0,0,1,1,0,0,3,1,0,0,1,"n",2,0,1]
[{"$nulls":3},8713,3,1,0,2,0,0,"RG","n",209,"RG.0209kW.10200",8713,2,1355,"DN65",null,2,0,1,0,0,0,0,0,0,0,1,0,0,0,2,0,0,1,0,0,0,0,0,1,0,1,0,2,0,1,0,2,0,0,0,0,0,0,null,1,0,1,0,1,0,2,0,3,0,3,0,0,0,1,1,5,1,1,1,0,1,0,2,0,0,1,1,0,0,3,1,0,0,1,"n",2,0,1]
[{"$nulls":3},8714,3,0,2,1,0,0,"RG","n",207,"RG.0207kW.02100",8714,2,1355,"DN65",null,1,0,1,0,0,0,0,0,0,0,1,0,0,0,2,0,0,1,0,0,0,0,0,1,0,1,0,2,0,1,0,2,0,0,0,0,0,0,null,1,0,1,0,1,0,2,0,3,0,3,0,0,0,1,1,5,1,1,1,0,1,0,2,0,0,1,1,0,0,3,1,0,0,2,"n",{"$f":"E4003-1","v":2},0,1]
[{"$nulls":3},8715,3,1,1,1,0,0,"RG","n",187,"RG.0187kW.11100",8715,3,1355,"DN65",null,1,0,1,0,0,0,0,0,0,0,1,0,0,0,2,0,0,1,0,0,0,0,0,1,0,1,0,2,0,1,0,2,0,0,0,0,0,0,null,1,0,1,0,1,0,2,0,3,0,3,0,0,0,1,1,5,1,1,1,0,1,0,2,0,0,1,1,0,0,3,1,0,0,2,"n",2,0,1]
[{"$nulls":3},8716,3,2,0,1,0,0,"RG","n",166,"RG.0166kW.20100",8716,2,1355,"DN65",null,1,0,1,0,0,0,0,0,0,0,1,0,0,0,2,0,0,1,0,0,0,0,0,1,0,1,0,2,0,1,0,2,0,0,0,0,0,0,null,1,0,1,0,1,0,2,0,3,0,3,0,0,0,1,1,5,1,1,1,0,1,0,2,0,0,1,1,0,0,3,1,0,0,2,"n",2,0,1]
[{"$nulls":3},8717,3,0,3,0,0,0,"RG","n",185,"RG.0185kW.03000",8717,1,1355,"DN65",null,0,0,1,0,0,0,0,0,0,0,1,0,0,0,2,0,0,1,0,0,0,0,0,1,0,1,0,2,0,1,0,2,0,0,0,0,0,0,null,1,0,1,0,1,0,2,0,3,0,3,0,0,0,1,1,5,1,1,1,0,1,0,2,0,0,1,1,0,0,3,1,0,0,3,"n",2,0,1]
[{"$nulls":3},8718,3,1,2,0,0,0,"RG","n",164,"RG.0164kW.12000",8718,2,1355,"DN65",null,0,0,1,0,0,0,0,0,0,0,1,0,0,0,2,0,0,1,0,0,0,0,0,1,0,1,0,2,0,1,0,2,0,0,0,0,0,0,null,1,0,1,0,1,0,2,0,3,0,3,0,0,0,1,1,5,1,1,1,0,1,0,2,0,0,1,1,0,0,3,1,0,0,3,"n",2,0,1]
[{"$nulls":3},8719,3,2,1,0,0,0,"RG","n",143,"RG.0143kW.21000",8719,2,1355,"DN65",null,0,0,1,0,0,0,0,0,0,0,1,0,0,0,2,0,0,1,0,0,0,0,0,1,0,1,0,2,0,1,0,2,0,0,0,0,0,0,null,1,0,1,0,1,0,2,0,3,0,3,0,0,0,1,1,5,1,1,1,0,1,0,2,0,0,1,1,0,0,3,1,0,0,3,"n",2,0,1]
[{"$nulls":3},8720,3,3,0,0,0,0,"RG","n",122,"RG.0122kW.30000",8720,1,1355,"DN65",null,0,0,1,0,0,0,0,0,0,0,1,0,0,0,2,0,0,1,0,0,0,0,0,1,0,1,0,2,0,1,0,2,0,0,0,0,0,0,null,1,0,1,0,1,0,2,0,3,0,3,0,0,0,1,1,5,1,1,1,0,1,0,2,0,0,1,1,0,0,3,1,0,0,3,"n",2,0,1]

{"sheet":"Cascade AMC","index":6,"n_rows":319,"n_cols":86,"rows_kept":319,"hidden":true,"merged":[[28,22,29,29],[28,30,29,31],[50,1,51,82],[53,10,53,13],[59,8,59,81],[66,40,66,44],[140,30,146,30],[144,1,145,1],[144,2,145,6],[166,3,167,21],[166,25,167,36],[168,30,168,31],[169,3,169,14],[169,25,177,25],[170,8,170,9],[171,3,176,3],[177,3,181,3],[183,3,183,14],[184,8,184,9],[184,30,184,31],[185,3,187,3],[185,25,195,25],[189,3,196,3],[198,3,203,3],[203,16,203,17],[208,3,210,3],[212,3,215,3],[219,3,229,3],[231,3,231,14],[232,3,233,3],[235,3,236,3],[241,3,241,14],[249,3,251,17],[254,33,255,33],[255,23,265,23],[256,6,257,11],[257,33,258,33],[260,33,262,33],[264,33,265,33],[267,23,269,23],[267,33,276,33],[271,23,278,23],[282,23,284,23],[286,23,287,23],[289,23,294,23],[296,23,297,23],[298,23,299,23],[301,22,311,22],[301,23,311,23]]}
[]
[null,"Dimensionnement par chaudière"]
[]
[null,"Composition de la cascade "]
[{"$nulls":5},"Montage sélectionné"]
[null,null,"nbchaud",{"$f":"+'Выбор котлов'!E26","v":2},null,{"$f":"'Выбор котлов'!$E$22","v":"настенное \"LW\""}]
[null,null,{"$f":"IF(F6=F12,\"\",2)","v":2}]
[null,null,3,null,null,"Indications Montage"]
[null,null,4]
[null,null,5,null,null,{"$f":"texte!B40","v":"настенное \"LW\""}]
[null,null,6,null,null,{"$f":"texte!B41","v":"напольное \"LV\""}]
[null,null,7,null,null,{"$f":"texte!B42","v":"сдвоенное \"RG\""}]
[null,null,8]
[]
[{"$nulls":21},"Sélection inicontrol "]
[]
[]
[]
[{"$nulls":3},"mc_45",{"$f":"'Выбор котлов'!G22","v":2},null,null,"mc_65",{"$f":"'Выбор котлов'!H22","v":0},null,null,"mc_90",{"$f":"'Выбор котлов'!I22","v":0},null,null,"mc_115",{"$f":"'Выбор котлов'!J22","v":0},null,"mca_160",{"$f":"D6-E19-I19-M19-Q19","v":0},null,null,{"$f":"D19","v":"mc_45"},{"$f":"E19","v":2},{"$f":"H19","v":"mc_65"},{"$f":"I19","v":0},{"$f":"L19","v":"mc_90"},{"$f":"M19","v":0},{"$f":"P19","v":"mc_115"},{"$f":"Q19","v":0},{"$f":"S19","v":"mca_160"},{"$f":"'Выбор котлов'!K22","v":0}]
[{"$nulls":3},{"$f":"D6","v":2},{"$f":"IF(D20<0,\"\",D20)","v":2},null,null,{"$f":"D6-E19","v":0},{"$f":"IF(H20<0,\"\",H20)","v":0},null,null,{"$f":"D6-E19-I19","v":0},{"$f":"IF(L20<0,\"\",L20)","v":0},null,null,{"$f":"D6-E19-I19-M19","v":0},{"$f":"IF(P20<0,\"\",P20)","v":0},{"$nulls":5},{"$f":"X19","v":2},null,{"$f":"Z19","v":0},null,{"$f":"AB19","v":0},null,{"$f":"AD19","v":0},null,{"$f":"IF(AF20<0,\"\",AF20)","v":0},{"$f":"IF(OR($X$19>0,$Z$19>0,$AB$19>0,$AD$19>0),$AF$19,$AF$19)","v":0}]
[{"$nulls":3},{"$f":"D20-1","v":1},{"$f":"IF(D21<0,\"\",D21)","v":1},null,null,{"$f":"H20-1","v":-1},{"$f":"IF(H21<0,\"\",H21)","v":""},null,null,{"$f":"L20-1","v":-1},{"$f":"IF(L21<0,\"\",L21)","v":""},null,null,{"$f":"P20-1","v":-1},{"$f":"IF(P21<0,\"\",P21)","v":""},{"$nulls":5},{"$f":"IFERROR(IF(W20-1<0,\"\",W20-1),\"\")","v":1},null,{"$f":"IFERROR(IF(Y20-1<0,\"\",Y20-1),\"\")","v":""},null,{"$f":"IFERROR(IF(AA20-1<0,\"\",AA20-1),\"\")","v":""},null,{"$f":"IFERROR(IF(AC20-1<0,\"\",AC20-1),\"\")","v":""},null,{"$f":"IF(AF21<0,\"\",AF21)","v":""},{"$f":"IF(OR($X$19>0,$Z$19>0,$AB$19>0,$AD$19>0),\"\",$AF20-1)","v":""}]
[{"$nulls":3},{"$f":"D21-1","v":0},0,null,null,{"$f":"H21-1","v":-2},"",null,null,{"$f":"L21-1","v":-2},"",null,null,{"$f":"P21-1","v":-2},"",{"$nulls":5},{"$f":"IFERROR(IF(W21-1<0,\"\",W21-1),\"\")","v":0},null,{"$f":"IFERROR(IF(Y21-1<0,\"\",Y21-1),\"\")","v":""},null,{"$f":"IFERROR(IF(AA21-1<0,\"\",AA21-1),\"\")","v":""},null,{"$f":"IFERROR(IF(AC21-1<0,\"\",AC21-1),\"\")","v":""},null,"",{"$f":"IF(OR($X$19>0,$Z$19>0,$AB$19>0,$AD$19>0),\"\",$AF21-1)","v":""}]
[{"$nulls":3},-1,"",null,null,-3,"",null,null,-3,"",null,null,-3,"",{"$nulls":5},"",null,"",null,"",null,"",null,"",""]
[{"$nulls":3},-2,"",null,null,-4,"",null,null,-4,"",null,null,-4,"",{"$nulls":5},"",null,"",null,"",null,"",null,"",""]
[{"$nulls":3},-3,"",null,null,-5,"",null,null,-5,"",null,null,-5,"",{"$nulls":5},"",null,"",null,"",null,"",null,"",""]
[{"$nulls":3},-4,"",null,null,-6,"",null,null,-6,"",null,null,-6,"",{"$nulls":5},"",null,"",null,"",null,"",null,"",""]
[{"$nulls":3},-5,"",null,null,-7,"",null,null,-7,"",null,null,-7,"",{"$nulls":5},"",null,"",null,"",null,"",null,"",""]
[{"$nulls":3},-6,"",null,null,-8,"",null,null,-8,"",null,null,-8,"",{"$nulls":5},"",null,"",null,"",null,"",null,"",""]
[{"$nulls":3},-7,"",null,null,-9,"",null,null,-9,"",null,null,-9,"",{"$nulls":5},"Soit inicontrol ; soit Isystem",{"$nulls":7},"Soit inicontrol ; soit Diematic Evolution"]
[{"$nulls":3},-8,"",null,null,-10,"",null,null,-10,"",null,null,-10,""]
[]
[null,"Nom de la cascade"]
[{"$nulls":3},"Nom","Nb","Puissance (kW) (80/60°C)"]
[{"$nulls":3},"MCA 45",{"$f":"+E19","v":2},{"$f":"HLOOKUP(texte!$C$75,Spécificités!$C$4:$V$81,74,FALSE)","v":40.8}]
[{"$nulls":3},"MCA 65",{"$f":"+I19","v":0},{"$f":"HLOOKUP(texte!$C$75,Spécificités!$C$4:$V$81,75,FALSE)","v":61.5},null,"Puissance totale (kW)"]
[{"$nulls":3},"MCA 90",{"$f":"M19","v":0},{"$f":"HLOOKUP(texte!$C$75,Spécificités!$C$4:$V$81,76,FALSE)","v":84.2},null,{"$f":"ROUND(SUMPRODUCT($E$34:$E$38,F34:F38),0)","v":82},{"$f":"IF(H36>=1000,H36,CONCATENATE(\"0\",H36))","v":"082"}]
[{"$nulls":3},"MCA 115",{"$f":"Q19","v":0},{"$f":"HLOOKUP(texte!$C$75,Spécificités!$C$4:$V$81,77,FALSE)","v":{"v":107,"d":"107.0"}},{"$nulls":4},"Nom de la cascade ",null,{"$f":"CONCATENATE(I39,\".\",I36,\"kW.\",E19,I19,M19,Q19,T19)","v":"LW.082kW.20000"}]
[{"$nulls":3},"MCA 160",{"$f":"T19","v":0},{"$f":"HLOOKUP(texte!$C$75,Spécificités!$C$4:$V$81,78,FALSE)","v":152.1},null,"Montage "]
[{"$nulls":7},{"$f":"'Выбор котлов'!E22","v":"настенное \"LW\""},{"$f":"IF(H39=F10,\"LW\",IF(H39=F11,\"LV\",IF(H39=F12,\"RG\",\"\")))","v":"LW"}]
[]
[null,"Calcul  Prix des chaudières"]
[{"$nulls":8},"Surcoût pour Diematic Evolution"]
[null,"Nom","Nb","Référence","Prix chaudière inicontrol",{"$nulls":3},"Nom","Nb diematic Evolution","Référence inicontrol ","Prixinicontrol ","Référence Diematic","Prix Diematic","Différence"]
[null,"AMC 45",{"$f":"'Выбор котлов'!G22","v":2},{"$f":"IF($N$66=texte!$B$84,Language!$B139,IF($N$66=texte!$B$81,Language!$C139,IF($N$66=texte!$B$82,Language!$D139,IF($N$66=texte!$B$83,Language!$E139,IF($N$66=texte!$B$85,Language!$F139,IF($N$66=texte!$B$86,Language!$G139,IF($N$66=texte!$B$87,Language!$H139,IF($N$66=texte!$B$88,Language!$I139,Language!$J139))))))))","v":7684462},{"$f":"IFERROR(VLOOKUP($D44,'Price List'!$A:$D,4,FALSE),0)","v":{"v":3400,"d":"3400.00"}},{"$nulls":3},"MCA 45",{"$f":"IF(C44-'Выбор котлов'!G24<0,0,C44-'Выбор котлов'!G24)","v":2},{"$f":"IF($N$66=texte!$B$84,Language!$B139,IF($N$66=texte!$B$81,Language!$C139,IF($N$66=texte!$B$82,Language!$D139,IF($N$66=texte!$B$83,Language!$E139,IF($N$66=texte!$B$85,Language!$F139,IF($N$66=texte!$B$86,Language!$G139,IF($N$66=texte!$B$87,Language!$H139,IF($N$66=texte!$B$88,Language!$I139,Language!$J139))))))))","v":7684462},{"$f":"E44","v":{"v":3400,"d":"3400.00"}},{"$f":"IF($N$66=texte!$B$84,Language!$B144,IF($N$66=texte!$B$81,Language!$C144,IF($N$66=texte!$B$82,Language!$D144,IF($N$66=texte!$B$83,Language!$E144,IF($N$66=texte!$B$85,Language!$F144,IF($N$66=texte!$B$86,Language!$G144,IF($N$66=texte!$B$87,Language!$H144,IF($N$66=texte!$B$88,Language!$I144,Language!$J144))))))))","v":7699475},{"$f":"VLOOKUP($M44,'Price List'!$A:$D,4,FALSE)","v":3835},{"$f":"N44-L44","v":{"v":435,"d":"435.00"}}]
[null,"AMC 65",{"$f":"'Выбор котлов'!H22","v":0},{"$f":"IF($N$66=texte!$B$84,Language!$B140,IF($N$66=texte!$B$81,Language!$C140,IF($N$66=texte!$B$82,Language!$D140,IF($N$66=texte!$B$83,Language!$E140,IF($N$66=texte!$B$85,Language!$F140,IF($N$66=texte!$B$86,Language!$G140,IF($N$66=texte!$B$87,Language!$H140,IF($N$66=texte!$B$88,Language!$I140,Language!$J140))))))))","v":7684586},{"$f":"IFERROR(VLOOKUP($D45,'Price List'!$A:$D,4,FALSE),0)","v":{"v":3910,"d":"3910.00"}},{"$nulls":3},"MCA 65",{"$f":"IF(C45-'Выбор котлов'!H24<0,0,C45-'Выбор котлов'!H24)","v":0},{"$f":"IF($N$66=texte!$B$84,Language!$B140,IF($N$66=texte!$B$81,Language!$C140,IF($N$66=texte!$B$82,Language!$D140,IF($N$66=texte!$B$83,Language!$E140,IF($N$66=texte!$B$85,Language!$F140,IF($N$66=texte!$B$86,Language!$G140,IF($N$66=texte!$B$87,Language!$H140,IF($N$66=texte!$B$88,Language!$I140,Language!$J140))))))))","v":7684586},{"$f":"E45","v":{"v":3910,"d":"3910.00"}},{"$f":"IF($N$66=texte!$B$84,Language!$B145,IF($N$66=texte!$B$81,Language!$C145,IF($N$66=texte!$B$82,Language!$D145,IF($N$66=texte!$B$83,Language!$E145,IF($N$66=texte!$B$85,Language!$F145,IF($N$66=texte!$B$86,Language!$G145,IF($N$66=texte!$B$87,Language!$H145,IF($N$66=texte!$B$88,Language!$I145,Language!$J145))))))))","v":7699476},{"$f":"VLOOKUP($M45,'Price List'!$A:$D,4,FALSE)","v":4383},{"$f":"N45-L45","v":{"v":473,"d":"473.00"}}]
[null,"AMC 90",{"$f":"'Выбор котлов'!I22","v":0},{"$f":"IF($N$66=texte!$B$84,Language!$B141,IF($N$66=texte!$B$81,Language!$C141,IF($N$66=texte!$B$82,Language!$D141,IF($N$66=texte!$B$83,Language!$E141,IF($N$66=texte!$B$85,Language!$F141,IF($N$66=texte!$B$86,Language!$G141,IF($N$66=texte!$B$87,Language!$H141,IF($N$66=texte!$B$88,Language!$I141,Language!$J141))))))))","v":7684587},{"$f":"IFERROR(VLOOKUP($D46,'Price List'!$A:$D,4,FALSE),0)","v":{"v":5161,"d":"5161.00"}},{"$nulls":3},"MCA 90",{"$f":"IF(C46-'Выбор котлов'!I24<0,0,C46-'Выбор котлов'!I24)","v":0},{"$f":"IF($N$66=texte!$B$84,Language!$B141,IF($N$66=texte!$B$81,Language!$C141,IF($N$66=texte!$B$82,Language!$D141,IF($N$66=texte!$B$83,Language!$E141,IF($N$66=texte!$B$85,Language!$F141,IF($N$66=texte!$B$86,Language!$G141,IF($N$66=texte!$B$87,Language!$H141,IF($N$66=texte!$B$88,Language!$I141,Language!$J141))))))))","v":7684587},{"$f":"E46","v":{"v":5161,"d":"5161.00"}},{"$f":"IF($N$66=texte!$B$84,Language!$B146,IF($N$66=texte!$B$81,Language!$C146,IF($N$66=texte!$B$82,Language!$D146,IF($N$66=texte!$B$83,Language!$E146,IF($N$66=texte!$B$85,Language!$F146,IF($N$66=texte!$B$86,Language!$G146,IF($N$66=texte!$B$87,Language!$H146,IF($N$66=texte!$B$88,Language!$I146,Language!$J146))))))))","v":7699477},{"$f":"VLOOKUP($M46,'Price List'!$A:$D,4,FALSE)","v":5726},{"$f":"N46-L46","v":{"v":565,"d":"565.00"}}]
[null,"AMC 115",{"$f":"'Выбор котлов'!J22","v":0},{"$f":"IF($N$66=texte!$B$84,Language!$B142,IF($N$66=texte!$B$81,Language!$C142,IF($N$66=texte!$B$82,Language!$D142,IF($N$66=texte!$B$83,Language!$E142,IF($N$66=texte!$B$85,Language!$F142,IF($N$66=texte!$B$86,Language!$G142,IF($N$66=texte!$B$87,Language!$H142,IF($N$66=texte!$B$88,Language!$I142,Language!$J142))))))))","v":7684588},{"$f":"IFERROR(VLOOKUP($D47,'Price List'!$A:$D,4,FALSE),0)","v":{"v":5617,"d":"5617.00"}},{"$nulls":3},"MCA 115",{"$f":"IF(C47-'Выбор котлов'!J24<0,0,C47-'Выбор котлов'!J24)","v":0},{"$f":"IF($N$66=texte!$B$84,Language!$B142,IF($N$66=texte!$B$81,Language!$C142,IF($N$66=texte!$B$82,Language!$D142,IF($N$66=texte!$B$83,Language!$E142,IF($N$66=texte!$B$85,Language!$F142,IF($N$66=texte!$B$86,Language!$G142,IF($N$66=texte!$B$87,Language!$H142,IF($N$66=texte!$B$88,Language!$I142,Language!$J142))))))))","v":7684588},{"$f":"E47","v":{"v":5617,"d":"5617.00"}},{"$f":"IF($N$66=texte!$B$84,Language!$B147,IF($N$66=texte!$B$81,Language!$C147,IF($N$66=texte!$B$82,Language!$D147,IF($N$66=texte!$B$83,Language!$E147,IF($N$66=texte!$B$85,Language!$F147,IF($N$66=texte!$B$86,Language!$G147,IF($N$66=texte!$B$87,Language!$H147,IF($N$66=texte!$B$88,Language!$I147,Language!$J147))))))))","v":7699478},{"$f":"VLOOKUP($M47,'Price List'!$A:$D,4,FALSE)","v":6216},{"$f":"N47-L47","v":{"v":599,"d":"599.00"}}]
[null,"AMC 160",{"$f":"'Выбор котлов'!K22","v":0},{"$f":"IF($N$66=texte!$B$84,Language!$B143,IF($N$66=texte!$B$81,Language!$C143,IF($N$66=texte!$B$82,Language!$D143,IF($N$66=texte!$B$83,Language!$E143,IF($N$66=texte!$B$85,Language!$F143,IF($N$66=texte!$B$86,Language!$G143,IF($N$66=texte!$B$87,Language!$H143,IF($N$66=texte!$B$88,Language!$I143,Language!$J143))))))))","v":7674140},{"$f":"IFERROR(VLOOKUP($D48,'Price List'!$A:$D,4,FALSE),0)","v":{"v":8690,"d":"8690.00"}},"Total :",null,null,"MCA 160",{"$f":"IF(C48-'Выбор котлов'!K24<0,0,C48-'Выбор котлов'!K24)","v":0},{"$f":"IF($N$66=texte!$B$84,Language!$B143,IF($N$66=texte!$B$81,Language!$C143,IF($N$66=texte!$B$82,Language!$D143,IF($N$66=texte!$B$83,Language!$E143,IF($N$66=texte!$B$85,Language!$F143,IF($N$66=texte!$B$86,Language!$G143,IF($N$66=texte!$B$87,Language!$H143,IF($N$66=texte!$B$88,Language!$I143,Language!$J143))))))))","v":7674140},{"$f":"E48","v":{"v":8690,"d":"8690.00"}},{"$f":"IF($N$66=texte!$B$84,Language!$B148,IF($N$66=texte!$B$81,Language!$C148,IF($N$66=texte!$B$82,Language!$D148,IF($N$66=texte!$B$83,Language!$E148,IF($N$66=texte!$B$85,Language!$F148,IF($N$66=texte!$B$86,Language!$G148,IF($N$66=texte!$B$87,Language!$H148,IF($N$66=texte!$B$88,Language!$I148,Language!$J148))))))))","v":7674142},{"$f":"VLOOKUP($M48,'Price List'!$A:$D,4,FALSE)","v":9290},{"$f":"N48-L48","v":{"v":600,"d":"600.00"}},"Surcoût total"]
[{"$nulls":5},{"$f":"SUMPRODUCT(C44:C48,E44:E48)+P49","v":{"v":7670,"d":"7670.00"}},{"$nulls":9},{"$f":"SUMPRODUCT($J$44:$J$48,$O$44:$O$48)","v":870}]
[]
[null,"Références et accessoires cascade de tout type (référence d'après la BdD des Néerlandais)"]
[]
[]
[{"$nulls":10},"Raccordement ballons à la cascade (non disponible chez DD export) => 0 => Suppression des NON \"n\" pour alléger le fichier"]
[null,null,"Appels BdD Neerlandais",{"$nulls":8},"Possibilité en bP",0,{"$f":"IFERROR(IF(VLOOKUP($E$57,'gamme DD chaud'!#REF!,81,FALSE)=\"bP\",1,0),0)","v":0},"1 = existe"]
[{"$nulls":11},"Possibilité en bA",0,{"$f":"IFERROR(IF(VLOOKUP($E$57,'gamme DD chaud'!#REF!,81,FALSE)=\"bA\",1,0),0)","v":0},"0 = absent"]
[null,null,"Rappel cascade",null,{"$f":"M37","v":"LW.082kW.20000"},{"$nulls":6},"Possibilité en b",0,{"$f":"IFERROR(IF(VLOOKUP($E$57,'gamme DD chaud'!#REF!,81,FALSE)=\"b\",1,0),0)","v":0}]
[{"$nulls":3},"ligne N°",{"$f":"VLOOKUP($E$57,'gamme DD chaud'!$N$6:$O$4009,2,FALSE)","v":7409}]
[{"$nulls":3},"Appelation",{"$f":"VLOOKUP($E$57,'gamme DD chaud'!$N$6:$CP$4009,81,FALSE)","v":"n"}]
[{"$nulls":8},"Tableau",{"$nulls":74},"AD308 ","AD134","HC195"]
[{"$nulls":3},1,2,3,4,5,6,7,8,9,10,11,12,13,14,15,16,17,18,19,20,21,22,23,24,25,26,27,28,29,30,31,32,33,34,35,36,37,38,39,40,41,42,43,44,45,46,47,48,49,50,51,52,53,54,55,56,57,58,59,60,61,62,63,64,65,66,67,68,69,70,71,72,73,74,75,76,77,78,79,80,81,82,83]
[null,null,{"$f":"E57","v":"LW.082kW.20000"},{"$f":"E58","v":7409},{"$f":"VLOOKUP($D$62,'gamme DD chaud'!$O$6:$CP$4009,'Cascade AMC'!E$61,FALSE)","v":1},{"$f":"VLOOKUP($D$62,'gamme DD chaud'!$O$6:$CP$4009,'Cascade AMC'!F$61,FALSE)","v":1355},{"$f":"VLOOKUP($D$62,'gamme DD chaud'!$O$6:$CP$4009,'Cascade AMC'!G$61,FALSE)","v":"DN65"},{"$f":"VLOOKUP($D$62,'gamme DD chaud'!$O$6:$CP$4009,'Cascade AMC'!H$61,FALSE)","v":0},{"$f":"VLOOKUP($D$62,'gamme DD chaud'!$O$6:$CP$4009,'Cascade AMC'!I$61,FALSE)","v":0},{"$f":"VLOOKUP($D$62,'gamme DD chaud'!$O$6:$CP$4009,'Cascade AMC'!J$61,FALSE)","v":0},{"$f":"VLOOKUP($D$62,'gamme DD chaud'!$O$6:$CP$4009,'Cascade AMC'!K$61,FALSE)","v":1},{"$f":"VLOOKUP($D$62,'gamme DD chaud'!$O$6:$CP$4009,'Cascade AMC'!L$61,FALSE)","v":0},{"$f":"VLOOKUP($D$62,'gamme DD chaud'!$O$6:$CP$4009,'Cascade AMC'!M$61,FALSE)","v":0},{"$f":"VLOOKUP($D$62,'gamme DD chaud'!$O$6:$CP$4009,'Cascade AMC'!N$61,FALSE)","v":0},{"$f":"VLOOKUP($D$62,'gamme DD chaud'!$O$6:$CP$4009,'Cascade AMC'!O$61,FALSE)","v":0},{"$f":"VLOOKUP($D$62,'gamme DD chaud'!$O$6:$CP$4009,'Cascade AMC'!P$61,FALSE)","v":0},{"$f":"VLOOKUP($D$62,'gamme DD chaud'!$O$6:$CP$4009,'Cascade AMC'!Q$61,FALSE)","v":0},{"$f":"VLOOKUP($D$62,'gamme DD chaud'!$O$6:$CP$4009,'Cascade AMC'!R$61,FALSE)","v":0},{"$f":"VLOOKUP($D$62,'gamme DD chaud'!$O$6:$CP$4009,'Cascade AMC'!S$61,FALSE)","v":1},{"$f":"VLOOKUP($D$62,'gamme DD chaud'!$O$6:$CP$4009,'Cascade AMC'!T$61,FALSE)","v":0},{"$f":"VLOOKUP($D$62,'gamme DD chaud'!$O$6:$CP$4009,'Cascade AMC'!U$61,FALSE)","v":0},{"$f":"VLOOKUP($D$62,'gamme DD chaud'!$O$6:$CP$4009,'Cascade AMC'!V$61,FALSE)","v":0},{"$f":"VLOOKUP($D$62,'gamme DD chaud'!$O$6:$CP$4009,'Cascade AMC'!W$61,FALSE)","v":2},{"$f":"VLOOKUP($D$62,'gamme DD chaud'!$O$6:$CP$4009,'Cascade AMC'!X$61,FALSE)","v":0},{"$f":"VLOOKUP($D$62,'gamme DD chaud'!$O$6:$CP$4009,'Cascade AMC'!Y$61,FALSE)","v":0},{"$f":"VLOOKUP($D$62,'gamme DD chaud'!$O$6:$CP$4009,'Cascade AMC'!Z$61,FALSE)","v":0},{"$f":"VLOOKUP($D$62,'gamme DD chaud'!$O$6:$CP$4009,'Cascade AMC'!AA$61,FALSE)","v":0},{"$f":"VLOOKUP($D$62,'gamme DD chaud'!$O$6:$CP$4009,'Cascade AMC'!AB$61,FALSE)","v":0},{"$f":"VLOOKUP($D$62,'gamme DD chaud'!$O$6:$CP$4009,'Cascade AMC'!AC$61,FALSE)","v":0},{"$f":"VLOOKUP($D$62,'gamme DD chaud'!$O$6:$CP$4009,'Cascade AMC'!AD$61,FALSE)","v":0},{"$f":"VLOOKUP($D$62,'gamme DD chaud'!$O$6:$CP$4009,'Cascade AMC'!AE$61,FALSE)","v":0},{"$f":"VLOOKUP($D$62,'gamme DD chaud'!$O$6:$CP$4009,'Cascade AMC'!AF$61,FALSE)","v":1},{"$f":"VLOOKUP($D$62,'gamme DD chaud'!$O$6:$CP$4009,'Cascade AMC'!AG$61,FALSE)","v":0},{"$f":"VLOOKUP($D$62,'gamme DD chaud'!$O$6:$CP$4009,'Cascade AMC'!AH$61,FALSE)","v":1},{"$f":"VLOOKUP($D$62,'gamme DD chaud'!$O$6:$CP$4009,'Cascade AMC'!AI$61,FALSE)","v":0},{"$f":"VLOOKUP($D$62,'gamme DD chaud'!$O$6:$CP$4009,'Cascade AMC'!AJ$61,FALSE)","v":0},{"$f":"VLOOKUP($D$62,'gamme DD chaud'!$O$6:$CP$4009,'Cascade AMC'!AK$61,FALSE)","v":0},{"$f":"VLOOKUP($D$62,'gamme DD chaud'!$O$6:$CP$4009,'Cascade AMC'!AL$61,FALSE)","v":0},{"$f":"VLOOKUP($D$62,'gamme DD chaud'!$O$6:$CP$4009,'Cascade AMC'!AM$61,FALSE)","v":0},{"$f":"VLOOKUP($D$62,'gamme DD chaud'!$O$6:$CP$4009,'Cascade AMC'!AN$61,FALSE)","v":0},{"$f":"VLOOKUP($D$62,'gamme DD chaud'!$O$6:$CP$4009,'Cascade AMC'!AO$61,FALSE)","v":0},{"$f":"VLOOKUP($D$62,'gamme DD chaud'!$O$6:$CP$4009,'Cascade AMC'!AP$61,FALSE)","v":1},{"$f":"VLOOKUP($D$62,'gamme DD chaud'!$O$6:$CP$4009,'Cascade AMC'!AQ$61,FALSE)","v":0},{"$f":"VLOOKUP($D$62,'gamme DD chaud'!$O$6:$CP$4009,'Cascade AMC'!AR$61,FALSE)","v":0},{"$f":"VLOOKUP($D$62,'gamme DD chaud'!$O$6:$CP$4009,'Cascade AMC'!AS$61,FALSE)","v":0},{"$f":"VLOOKUP($D$62,'gamme DD chaud'!$O$6:$CP$4009,'Cascade AMC'!AT$61,FALSE)","v":0},{"$f":"VLOOKUP($D$62,'gamme DD chaud'!$O$6:$CP$4009,'Cascade AMC'!AU$61,FALSE)","v":0},{"$f":"VLOOKUP($D$62,'gamme DD chaud'!$O$6:$CP$4009,'Cascade AMC'!AV$61,FALSE)","v":1},{"$f":"VLOOKUP($D$62,'gamme DD chaud'!$O$6:$CP$4009,'Cascade AMC'!AW$61,FALSE)","v":0},{"$f":"VLOOKUP($D$62,'gamme DD chaud'!$O$6:$CP$4009,'Cascade AMC'!AX$61,FALSE)","v":1},{"$f":"VLOOKUP($D$62,'gamme DD chaud'!$O$6:$CP$4009,'Cascade AMC'!AY$61,FALSE)","v":0},{"$f":"VLOOKUP($D$62,'gamme DD chaud'!$O$6:$CP$4009,'Cascade AMC'!AZ$61,FALSE)","v":1},{"$f":"VLOOKUP($D$62,'gamme DD chaud'!$O$6:$CP$4009,'Cascade AMC'!BA$61,FALSE)","v":0},{"$f":"VLOOKUP($D$62,'gamme DD chaud'!$O$6:$CP$4009,'Cascade AMC'!BB$61,FALSE)","v":2},{"$f":"VLOOKUP($D$62,'gamme DD chaud'!$O$6:$CP$4009,'Cascade AMC'!BC$61,FALSE)","v":0},{"$f":"VLOOKUP($D$62,'gamme DD chaud'!$O$6:$CP$4009,'Cascade AMC'!BD$61,FALSE)","v":2},{"$f":"VLOOKUP($D$62,'gamme DD chaud'!$O$6:$CP$4009,'Cascade AMC'!BE$61,FALSE)","v":0},{"$f":"VLOOKUP($D$62,'gamme DD chaud'!$O$6:$CP$4009,'Cascade AMC'!BF$61,FALSE)","v":0},{"$f":"VLOOKUP($D$62,'gamme DD chaud'!$O$6:$CP$4009,'Cascade AMC'!BG$61,FALSE)","v":0},{"$f":"VLOOKUP($D$62,'gamme DD chaud'!$O$6:$CP$4009,'Cascade AMC'!BH$61,FALSE)","v":0},{"$f":"VLOOKUP($D$62,'gamme DD chaud'!$O$6:$CP$4009,'Cascade AMC'!BI$61,FALSE)","v":0},{"$f":"VLOOKUP($D$62,'gamme DD chaud'!$O$6:$CP$4009,'Cascade AMC'!BJ$61,FALSE)","v":1},{"$f":"VLOOKUP($D$62,'gamme DD chaud'!$O$6:$CP$4009,'Cascade AMC'!BK$61,FALSE)","v":1},{"$f":"VLOOKUP($D$62,'gamme DD chaud'!$O$6:$CP$4009,'Cascade AMC'!BL$61,FALSE)","v":0},{"$f":"VLOOKUP($D$62,'gamme DD chaud'!$O$6:$CP$4009,'Cascade AMC'!BM$61,FALSE)","v":1},{"$f":"VLOOKUP($D$62,'gamme DD chaud'!$O$6:$CP$4009,'Cascade AMC'!BN$61,FALSE)","v":1},{"$f":"VLOOKUP($D$62,'gamme DD chaud'!$O$6:$CP$4009,'Cascade AMC'!BO$61,FALSE)","v":1},{"$f":"VLOOKUP($D$62,'gamme DD chaud'!$O$6:$CP$4009,'Cascade AMC'!BP$61,FALSE)","v":0},{"$f":"VLOOKUP($D$62,'gamme DD chaud'!$O$6:$CP$4009,'Cascade AMC'!BQ$61,FALSE)","v":0},{"$f":"VLOOKUP($D$62,'gamme DD chaud'!$O$6:$CP$4009,'Cascade AMC'!BR$61,FALSE)","v":0},{"$f":"VLOOKUP($D$62,'gamme DD chaud'!$O$6:$CP$4009,'Cascade AMC'!BS$61,FALSE)","v":0},{"$f":"VLOOKUP($D$62,'gamme DD chaud'!$O$6:$CP$4009,'Cascade AMC'!BT$61,FALSE)","v":0},{"$f":"VLOOKUP($D$62,'gamme DD chaud'!$O$6:$CP$4009,'Cascade AMC'!BU$61,FALSE)","v":0},{"$f":"VLOOKUP($D$62,'gamme DD chaud'!$O$6:$CP$4009,'Cascade AMC'!BV$61,FALSE)","v":1},{"$f":"VLOOKUP($D$62,'gamme DD chaud'!$O$6:$CP$4009,'Cascade AMC'!BW$61,FALSE)","v":1},{"$f":"VLOOKUP($D$62,'gamme DD chaud'!$O$6:$CP$4009,'Cascade AMC'!BX$61,FALSE)","v":0},{"$f":"VLOOKUP($D$62,'gamme DD chaud'!$O$6:$CP$4009,'Cascade AMC'!BY$61,FALSE)","v":0},{"$f":"VLOOKUP($D$62,'gamme DD chaud'!$O$6:$CP$4009,'Cascade AMC'!BZ$61,FALSE)","v":2},{"$f":"VLOOKUP($D$62,'gamme DD chaud'!$O$6:$CP$4009,'Cascade AMC'!CA$61,FALSE)","v":1},{"$f":"VLOOKUP($D$62,'gamme DD chaud'!$O$6:$CP$4009,'Cascade AMC'!CB$61,FALSE)","v":0},{"$f":"VLOOKUP($D$62,'gamme DD chaud'!$O$6:$CP$4009,'Cascade AMC'!CC$61,FALSE)","v":0},{"$f":"VLOOKUP($D$62,'gamme DD chaud'!$O$6:$CP$4009,'Cascade AMC'!CD$61,FALSE)","v":2},{"$f":"VLOOKUP($D$62,'gamme DD chaud'!$O$6:$CQ$4009,'Cascade AMC'!CE$61,FALSE)","v":"n"},{"$f":"VLOOKUP($D$62,'gamme DD chaud'!$O$6:$CQ$4009,'Cascade AMC'!CF$61,FALSE)","v":1},{"$f":"VLOOKUP($D$62,'gamme DD chaud'!$O$6:$CR$4009,'Cascade AMC'!CG$61,FALSE)","v":0},{"$f":"VLOOKUP($D$62,'gamme DD chaud'!$O$6:$CX$4009,'Cascade AMC'!CH$61,FALSE)","v":2}]
[{"$nulls":7},"Correction des quantités en fonction des possibilités",{"$f":"I$62","v":0},{"$f":"J$62","v":0},1,0,0,0,0,0,0,{"$f":"R$62","v":0},1,0,0,0,2,0,0,0,0,0,{"$f":"IF($M$57=1,AC$62+1,AC$62)","v":0},{"$f":"IF(M55=1,AD$62+1,AD$62)","v":0},{"$f":"IF(M56=1,AE$62+1,AE$62)","v":0},1,0,1,0,0,0,0,0,0,0,1,0,0,0,0,0,1,0,1,0,1,0,2,0,2,0,0,0,0,0,1,1,0,1,1,1,0,0,0,0,0,0,{"$f":"BV$62","v":1},1,{"$f":"IF(OR(M57=1,M55=1),BX$62+1,BX$62)","v":0},{"$f":"IF(M$57=1,BY$62+1,BY$62)","v":0},2,1,0,{"$f":"IF(M55=1,CC$62+1,CC$62)","v":0},2,null,"Câble S bus","Cable Bus diematic","Jeu de bouchons "]
[{"$nulls":7},"(Ne pas modifier mais non utilisé)"]
[{"$nulls":13},"Langue sélectionnée"]
[{"$nulls":13},{"$f":"texte!C75","v":"Русский"}]
[null,"Colonne","Nom néeralandais",{"$nulls":4},"Nom français",{"$nulls":4},"Colis équivalent","Référence","Qté","Désignation catalogue",{"$nulls":3},"Prix","Référence trouvée dans tarif",{"$nulls":19},"Liste des désignation disponibles pour options"]
[null,6,"Pomp t.b.v. Quinta Pro 90/115",{"$nulls":4},"Pompe pour AMC 90/115",{"$nulls":4},{"$f":"IFERROR(VLOOKUP($N68,'Price List'!$A:$D,3,FALSE),\"\")","v":0},7608398,{"$f":"$I$63","v":0},{"$f":"IF($O68>0,VLOOKUP($N68,'Price List'!$A:$D,2,FALSE),\"\")","v":""},{"$nulls":3},{"$f":"IF($O68>0,VLOOKUP($N68,'Price List'!$A:$D,4,FALSE),\"\")","v":""},{"$f":"IFERROR(VLOOKUP($N68,'Price List'!$A:$D,1,FALSE),\"NON\")","v":7608398},{"$f":"IF(U68<>\"NON\",\"OUI\",U68)","v":"OUI"},{"$nulls":18},{"$f":"$N$68","v":7608398},{"$f":"IFERROR(VLOOKUP($AO68,'Price List'!$A:$B,2,FALSE),\"\")","v":"Электронный насос для AMC 90-115 (класс А)"},{"$f":"AO68","v":7608398},{"$f":"IFERROR(VLOOKUP($AQ68,'Price List'!$A:$D,3,FALSE),\"\")","v":0},{"$f":"IFERROR(VLOOKUP($AQ68,'Price List'!$A:$D,4,FALSE),\"\")","v":523}]
[null,7,"Pomp t.b.v. Quinta Ace 160",{"$nulls":4},"Pompe pour AMC 160",{"$nulls":4},{"$f":"IFERROR(VLOOKUP($N69,'Price List'!$A:$D,3,FALSE),\"\")","v":"EH651"},7637223,{"$f":"J$63","v":0},{"$f":"IF($O69>0,VLOOKUP($N69,'Price List'!$A:$D,2,FALSE),\"\")","v":""},{"$nulls":3},{"$f":"IF($O69>0,VLOOKUP($N69,'Price List'!$A:$D,4,FALSE),\"\")","v":""},{"$f":"IFERROR(VLOOKUP($N69,'Price List'!$A:$D,1,FALSE),\"NON\")","v":7637223},{"$f":"IF(U69<>\"NON\",\"OUI\",U69)","v":"OUI"},{"$nulls":18},{"$f":"$N$69","v":7637223},{"$f":"IFERROR(VLOOKUP($AO69,'Price List'!$A:$B,2,FALSE),\"\")","v":"Электронный насос первичного контура каскада (MCA 160)"},{"$f":"AO69","v":7637223},{"$f":"IFERROR(VLOOKUP($AQ69,'Price List'!$A:$D,3,FALSE),\"\")","v":"EH651"},{"$f":"IFERROR(VLOOKUP($AQ69,'Price List'!$A:$D,4,FALSE),\"\")","v":695}]
[null,8,"Verzamelleiding DN65 Pro 2 ketels incl. afdopsets",{"$nulls":4},"Collecteur 2 chaudières DN 65 pour MCA 45/115",{"$nulls":4},{"$f":"IFERROR(VLOOKUP($N70,'Price List'!$A:$D,3,FALSE),\"\")","v":"HC188"},{"$f":"IF(texte!$C$75=texte!$B$84,Language!B64,IF(texte!$C$75=texte!$B$81,Language!C64,IF(texte!$C$75=texte!$B$82,Language!D64,IF(texte!$C$75=texte!$B$83,Language!E64,IF(texte!$C$75=texte!$B$85,Language!F64,IF(texte!$C$75=texte!$B$86,Language!G64,IF(texte!$C$75=texte!$B$87,Language!H64,IF(texte!$C$75=texte!$B$88,Language!I64,Language!J64))))))))","v":110968},{"$f":"K$63","v":1},{"$f":"IF($O70>0,VLOOKUP($N70,'Price List'!$A:$D,2,FALSE),\"\")","v":"Коллектор на 2 котла DN 65"},{"$nulls":3},{"$f":"IF($O70>0,VLOOKUP($N70,'Price List'!$A:$D,4,FALSE),\"\")","v":1256},{"$f":"IFERROR(VLOOKUP($N70,'Price List'!$A:$D,1,FALSE),\"NON\")","v":110968},"OUI"]
[null,9,"Verzamelleiding DN100 Pro 2 ketels incl. afdopsets",{"$nulls":4},"Collecteur 2 chaudières DN 100 pour MCA 45/115",{"$nulls":4},{"$f":"IFERROR(VLOOKUP($N71,'Price List'!$A:$D,3,FALSE),\"\")","v":"HC190"},{"$f":"IF(texte!$C$75=texte!$B$84,Language!B65,IF(texte!$C$75=texte!$B$81,Language!C65,IF(texte!$C$75=texte!$B$82,Language!D65,IF(texte!$C$75=texte!$B$83,Language!E65,IF(texte!$C$75=texte!$B$85,Language!F65,IF(texte!$C$75=texte!$B$86,Language!G65,IF(texte!$C$75=texte!$B$87,Language!H65,IF(texte!$C$75=texte!$B$88,Language!I65,Language!J65))))))))","v":110961},{"$f":"L$63","v":0},{"$f":"IF($O71>0,VLOOKUP($N71,'Price List'!$A:$D,2,FALSE),\"\")","v":""},{"$nulls":3},{"$f":"IF($O71>0,VLOOKUP($N71,'Price List'!$A:$D,4,FALSE),\"\")","v":""},{"$f":"IFERROR(VLOOKUP($N71,'Price List'!$A:$D,1,FALSE),\"NON\")","v":110961},"OUI",{"$nulls":18},{"$f":"$N$70","v":110968},{"$f":"IFERROR(VLOOKUP($AO71,'Price List'!$A:$B,2,FALSE),\"\")","v":"Коллектор на 2 котла DN 65"},110968,{"$f":"IFERROR(VLOOKUP($AQ71,'Price List'!$A:$D,3,FALSE),\"\")","v":"HC188"},{"$f":"IFERROR(VLOOKUP($AQ71,'Price List'!$A:$D,4,FALSE),\"\")","v":1256}]
[null,10,"Verzamelleiding DN100 Ace 2 ketels incl. afdopsets",{"$nulls":4},"Collecteur 2 chaudières DN 100 pour MCA 160",{"$nulls":4},{"$f":"IFERROR(VLOOKUP($N72,'Price List'!$A:$D,3,FALSE),\"\")","v":"EH676"},{"$f":"IF(texte!$C$75=texte!$B$84,Language!B66,IF(texte!$C$75=texte!$B$81,Language!C66,IF(texte!$C$75=texte!$B$82,Language!D66,IF(texte!$C$75=texte!$B$83,Language!E66,IF(texte!$C$75=texte!$B$85,Language!F66,IF(texte!$C$75=texte!$B$86,Language!G66,IF(texte!$C$75=texte!$B$87,Language!H66,IF(texte!$C$75=texte!$B$88,Language!I66,Language!J66))))))))","v":7614795},{"$f":"M$63","v":0},{"$f":"IF($O72>0,VLOOKUP($N72,'Price List'!$A:$D,2,FALSE),\"\")","v":""},{"$nulls":3},{"$f":"IF($O72>0,VLOOKUP($N72,'Price List'!$A:$D,4,FALSE),\"\")","v":""},{"$f":"IFERROR(VLOOKUP($N72,'Price List'!$A:$D,1,FALSE),\"NON\")","v":7614795},"OUI",{"$nulls":18},{"$f":"$N$71","v":110961},{"$f":"IFERROR(VLOOKUP($AO72,'Price List'!$A:$B,2,FALSE),\"\")","v":"Коллектор на 2 котла DN 100"},110961,{"$f":"IFERROR(VLOOKUP($AQ72,'Price List'!$A:$D,3,FALSE),\"\")","v":"HC190"},{"$f":"IFERROR(VLOOKUP($AQ72,'Price List'!$A:$D,4,FALSE),\"\")","v":1595}]
[null,11,"Verzamelleiding DN65 Pro 3 ketels incl. afdopsets",{"$nulls":4},"Collecteur 3 chaudières DN 65 pour MCA 45/115",{"$nulls":4},{"$f":"IFERROR(VLOOKUP($N73,'Price List'!$A:$D,3,FALSE),\"\")","v":"HC187"},{"$f":"IF(texte!$C$75=texte!$B$84,Language!B67,IF(texte!$C$75=texte!$B$81,Language!C67,IF(texte!$C$75=texte!$B$82,Language!D67,IF(texte!$C$75=texte!$B$83,Language!E67,IF(texte!$C$75=texte!$B$85,Language!F67,IF(texte!$C$75=texte!$B$86,Language!G67,IF(texte!$C$75=texte!$B$87,Language!H67,IF(texte!$C$75=texte!$B$88,Language!I67,Language!J67))))))))","v":110967},{"$f":"N$63","v":0},{"$f":"IF($O73>0,VLOOKUP($N73,'Price List'!$A:$D,2,FALSE),\"\")","v":""},{"$nulls":3},{"$f":"IF($O73>0,VLOOKUP($N73,'Price List'!$A:$D,4,FALSE),\"\")","v":""},{"$f":"IFERROR(VLOOKUP($N73,'Price List'!$A:$D,1,FALSE),\"NON\")","v":110967},"OUI",{"$nulls":18},{"$f":"$N$72","v":7614795},{"$f":"IFERROR(VLOOKUP($AO73,'Price List'!$A:$B,2,FALSE),\"\")","v":"Коллектор на 2 котла MCA 160"},7614795,{"$f":"IFERROR(VLOOKUP($AQ73,'Price List'!$A:$D,3,FALSE),\"\")","v":"EH676"},{"$f":"IFERROR(VLOOKUP($AQ73,'Price List'!$A:$D,4,FALSE),\"\")","v":2252}]
[null,12,"Verzamelleiding DN100 Pro 3 ketels incl. afdopsets",{"$nulls":4},"Collecteur 3 chaudières DN 100 pour MCA 45/115",{"$nulls":4},{"$f":"IFERROR(VLOOKUP($N74,'Price List'!$A:$D,3,FALSE),\"\")","v":"HC189"},{"$f":"IF(texte!$C$75=texte!$B$84,Language!B68,IF(texte!$C$75=texte!$B$81,Language!C68,IF(texte!$C$75=texte!$B$82,Language!D68,IF(texte!$C$75=texte!$B$83,Language!E68,IF(texte!$C$75=texte!$B$85,Language!F68,IF(texte!$C$75=texte!$B$86,Language!G68,IF(texte!$C$75=texte!$B$87,Language!H68,IF(texte!$C$75=texte!$B$88,Language!I68,Language!J68))))))))","v":110960},{"$f":"O$63","v":0},{"$f":"IF($O74>0,VLOOKUP($N74,'Price List'!$A:$D,2,FALSE),\"\")","v":""},{"$nulls":3},{"$f":"IF($O74>0,VLOOKUP($N74,'Price List'!$A:$D,4,FALSE),\"\")","v":""},{"$f":"IFERROR(VLOOKUP($N74,'Price List'!$A:$D,1,FALSE),\"NON\")","v":110960},"OUI",{"$nulls":18},{"$f":"$N$73","v":110967},{"$f":"IFERROR(VLOOKUP($AO74,'Price List'!$A:$B,2,FALSE),\"\")","v":"Коллектор на 3 котла DN 65"},110967,{"$f":"IFERROR(VLOOKUP($AQ74,'Price List'!$A:$D,3,FALSE),\"\")","v":"HC187"},{"$f":"IFERROR(VLOOKUP($AQ74,'Price List'!$A:$D,4,FALSE),\"\")","v":1431}]
[null,13,"Verzamelleiding DN100 Ace 3 ketels incl. afdopsets",{"$nulls":4},"Collecteur 3 chaudières DN 100 pour MCA 160",{"$nulls":4},{"$f":"IFERROR(VLOOKUP($N75,'Price List'!$A:$D,3,FALSE),\"\")","v":"EH677"},{"$f":"IF(texte!$C$75=texte!$B$84,Language!B69,IF(texte!$C$75=texte!$B$81,Language!C69,IF(texte!$C$75=texte!$B$82,Language!D69,IF(texte!$C$75=texte!$B$83,Language!E69,IF(texte!$C$75=texte!$B$85,Language!F69,IF(texte!$C$75=texte!$B$86,Language!G69,IF(texte!$C$75=texte!$B$87,Language!H69,IF(texte!$C$75=texte!$B$88,Language!I69,Language!J69))))))))","v":7611306},{"$f":"P$63","v":0},{"$f":"IF($O75>0,VLOOKUP($N75,'Price List'!$A:$D,2,FALSE),\"\")","v":""},{"$nulls":3},{"$f":"IF($O75>0,VLOOKUP($N75,'Price List'!$A:$D,4,FALSE),\"\")","v":""},{"$f":"IFERROR(VLOOKUP($N75,'Price List'!$A:$D,1,FALSE),\"NON\")","v":7611306},"OUI",{"$nulls":18},{"$f":"$N$74","v":110960},{"$f":"IFERROR(VLOOKUP($AO75,'Price List'!$A:$B,2,FALSE),\"\")","v":"Коллектор на 3 котла DN 100"},110960,{"$f":"IFERROR(VLOOKUP($AQ75,'Price List'!$A:$D,3,FALSE),\"\")","v":"HC189"},{"$f":"IFERROR(VLOOKUP($AQ75,'Price List'!$A:$D,4,FALSE),\"\")","v":1794}]
[null,14,"Verzamelleiding DN65 Pro 4 ketels incl. afdopsets",{"$nulls":4},"Collecteur 4 chaudières DN 65 pour MCA 45/115",{"$nulls":4},{"$f":"IFERROR(VLOOKUP($N76,'Price List'!$A:$D,3,FALSE),\"\")","v":"HC186"},{"$f":"IF(texte!$C$75=texte!$B$84,Language!B70,IF(texte!$C$75=texte!$B$81,Language!C70,IF(texte!$C$75=texte!$B$82,Language!D70,IF(texte!$C$75=texte!$B$83,Language!E70,IF(texte!$C$75=texte!$B$85,Language!F70,IF(texte!$C$75=texte!$B$86,Language!G70,IF(texte!$C$75=texte!$B$87,Language!H70,IF(texte!$C$75=texte!$B$88,Language!I70,Language!J70))))))))","v":110966},{"$f":"IF($N$66=texte!$B$84,Q$63*2,Q$63)","v":0},{"$f":"IF($O76>0,VLOOKUP($N76,'Price List'!$A:$D,2,FALSE),\"\")","v":""},{"$nulls":3},{"$f":"IF($O76>0,VLOOKUP($N76,'Price List'!$A:$D,4,FALSE),\"\")","v":""},{"$f":"IFERROR(VLOOKUP($N76,'Price List'!$A:$D,1,FALSE),\"NON\")","v":110966},"OUI",{"$nulls":18},{"$f":"$N$75","v":7611306},{"$f":"IFERROR(VLOOKUP($AO76,'Price List'!$A:$B,2,FALSE),\"\")","v":"Коллектор на 3 котла MCA 160"},7611306,{"$f":"IFERROR(VLOOKUP($AQ76,'Price List'!$A:$D,3,FALSE),\"\")","v":"EH677"},{"$f":"IFERROR(VLOOKUP($AQ76,'Price List'!$A:$D,4,FALSE),\"\")","v":2504}]
[null,15,"Verzamelleiding DN100 Pro 4 ketels incl. afdopsets",{"$nulls":4},"Collecteur 4 chaudières DN 100 pour MCA 45/115",{"$nulls":4},{"$f":"IFERROR(VLOOKUP($N77,'Price List'!$A:$D,3,FALSE),\"\")","v":"HC191"},{"$f":"IF(texte!$C$75=texte!$B$84,Language!B71,IF(texte!$C$75=texte!$B$81,Language!C71,IF(texte!$C$75=texte!$B$82,Language!D71,IF(texte!$C$75=texte!$B$83,Language!E71,IF(texte!$C$75=texte!$B$85,Language!F71,IF(texte!$C$75=texte!$B$86,Language!G71,IF(texte!$C$75=texte!$B$87,Language!H71,IF(texte!$C$75=texte!$B$88,Language!I71,Language!J71))))))))","v":110954},{"$f":"IF($N$66=texte!$B$84,R$63*2,R$63)","v":0},{"$f":"IF($O77>0,VLOOKUP($N77,'Price List'!$A:$D,2,FALSE),\"\")","v":""},{"$nulls":3},{"$f":"IF($O77>0,VLOOKUP($N77,'Price List'!$A:$D,4,FALSE),\"\")","v":""},{"$f":"IFERROR(VLOOKUP($N77,'Price List'!$A:$D,1,FALSE),\"NON\")","v":110954},"OUI",{"$nulls":18},{"$f":"$N$76","v":110966},{"$f":"IFERROR(VLOOKUP($AO77,'Price List'!$A:$B,2,FALSE),\"\")","v":"Коллектор на 4 котла DN 65"},110966,{"$f":"IFERROR(VLOOKUP($AQ77,'Price List'!$A:$D,3,FALSE),\"\")","v":"HC186"},{"$f":"IFERROR(VLOOKUP($AQ77,'Price List'!$A:$D,4,FALSE),\"\")","v":1895}]
[null,16,"Open verdeler DN65 (tot 350 kW)",{"$nulls":4},"Bouteille de découplage DN65 (jusqu'à 350 kW)",{"$nulls":4},{"$f":"IFERROR(VLOOKUP($N78,'Price List'!$A:$D,3,FALSE),\"\")","v":"HC222"},{"$f":"IF(texte!$C$75=texte!$B$84,Language!B72,IF(texte!$C$75=texte!$B$81,Language!C72,IF(texte!$C$75=texte!$B$82,Language!D72,IF(texte!$C$75=texte!$B$83,Language!E72,IF(texte!$C$75=texte!$B$85,Language!F72,IF(texte!$C$75=texte!$B$86,Language!G72,IF(texte!$C$75=texte!$B$87,Language!H72,IF(texte!$C$75=texte!$B$88,Language!I72,Language!J72))))))))","v":114311},{"$f":"IF(AND($N$66=texte!$B$85,'Cascade AMC'!$E$38<>0),0,S$63)","v":1},{"$f":"IF($O78>0,VLOOKUP($N78,'Price List'!$A:$D,2,FALSE),\"\")","v":"Гидравлическая стрелка DN 65 (< 350 кВт)"},{"$nulls":3},{"$f":"IF($O78>0,VLOOKUP($N78,'Price List'!$A:$D,4,FALSE),\"\")","v":817},{"$f":"IFERROR(VLOOKUP($N78,'Price List'!$A:$D,1,FALSE),\"NON\")","v":114311},"OUI",{"$nulls":18},{"$f":"$N$77","v":110954},{"$f":"IFERROR(VLOOKUP($AO78,'Price List'!$A:$B,2,FALSE),\"\")","v":"Коллектор на 4 котла DN 100"},110954,{"$f":"IFERROR(VLOOKUP($AQ78,'Price List'!$A:$D,3,FALSE),\"\")","v":"HC191"},{"$f":"IFERROR(VLOOKUP($AQ78,'Price List'!$A:$D,4,FALSE),\"\")","v":2366}]
[null,17,"Open verdeler DN65 (350-460 kW)",{"$nulls":4},"Bouteille de découplage DN65 (de 350 à 460 kW)",{"$nulls":4},{"$f":"IFERROR(VLOOKUP($N79,'Price List'!$A:$D,3,FALSE),\"\")","v":"HC200"},{"$f":"IF(texte!$C$75=texte!$B$84,Language!B73,IF(texte!$C$75=texte!$B$81,Language!C73,IF(texte!$C$75=texte!$B$82,Language!D73,IF(texte!$C$75=texte!$B$83,Language!E73,IF(texte!$C$75=texte!$B$85,Language!F73,IF(texte!$C$75=texte!$B$86,Language!G73,IF(texte!$C$75=texte!$B$87,Language!H73,IF(texte!$C$75=texte!$B$88,Language!I73,Language!J73))))))))","v":111712},{"$f":"IF(AND($N$66=texte!$B$85,'Cascade AMC'!$E$38<>0),0,T$63)","v":0},{"$f":"IF($O79>0,VLOOKUP($N79,'Price List'!$A:$D,2,FALSE),\"\")","v":""},{"$nulls":3},{"$f":"IF($O79>0,VLOOKUP($N79,'Price List'!$A:$D,4,FALSE),\"\")","v":""},{"$f":"IFERROR(VLOOKUP($N79,'Price List'!$A:$D,1,FALSE),\"NON\")","v":111712},"OUI"]
[null,18,"Open verdeler DN100",{"$nulls":4},"Bouteille de découplage DN100 (supérieur à 460 kW)",{"$nulls":4},{"$f":"IFERROR(VLOOKUP($N80,'Price List'!$A:$D,3,FALSE),\"\")","v":"HC201"},{"$f":"IF(texte!$C$75=texte!$B$84,Language!B74,IF(texte!$C$75=texte!$B$81,Language!C74,IF(texte!$C$75=texte!$B$82,Language!D74,IF(texte!$C$75=texte!$B$83,Language!E74,IF(texte!$C$75=texte!$B$85,Language!F74,IF(texte!$C$75=texte!$B$86,Language!G74,IF(texte!$C$75=texte!$B$87,Language!H74,IF(texte!$C$75=texte!$B$88,Language!I74,Language!J74))))))))","v":111714},{"$f":"IF(AND($N$66=texte!$B$85,'Cascade AMC'!$E$38<>0),1,U$63)","v":0},{"$f":"IF($O80>0,VLOOKUP($N80,'Price List'!$A:$D,2,FALSE),\"\")","v":""},{"$nulls":3},{"$f":"IF($O80>0,VLOOKUP($N80,'Price List'!$A:$D,4,FALSE),\"\")","v":""},{"$f":"IFERROR(VLOOKUP($N80,'Price List'!$A:$D,1,FALSE),\"NON\")","v":111714},"OUI",{"$nulls":18},{"$f":"$N$78","v":114311},{"$f":"IFERROR(VLOOKUP($AO80,'Price List'!$A:$B,2,FALSE),\"\")","v":"Гидравлическая стрелка DN 65 (< 350 кВт)"},114311,{"$f":"IFERROR(VLOOKUP($AQ80,'Price List'!$A:$D,3,FALSE),\"\")","v":"HC222"},{"$f":"IFERROR(VLOOKUP($AQ80,'Price List'!$A:$D,4,FALSE),\"\")","v":817}]
[null,19,"Verloopstuk DN100 naar DN65 voor Open verdeler DN65",{"$nulls":4},"Adapateur DN65/DN100  pour collecteur DN65",{"$nulls":4},{"$f":"IFERROR(VLOOKUP($N81,'Price List'!$A:$D,3,FALSE),\"\")","v":"EH654"},{"$f":"IF(texte!$C$75=texte!$B$84,Language!B75,IF(texte!$C$75=texte!$B$81,Language!C75,IF(texte!$C$75=texte!$B$82,Language!D75,IF(texte!$C$75=texte!$B$83,Language!E75,IF(texte!$C$75=texte!$B$85,Language!F75,IF(texte!$C$75=texte!$B$86,Language!G75,IF(texte!$C$75=texte!$B$87,Language!H75,IF(texte!$C$75=texte!$B$88,Language!I75,Language!J75))))))))","v":7633244},{"$f":"IF(AND($N$66=texte!$B$85,'Cascade AMC'!$E$38<>0),0,V$63)","v":0},{"$f":"IF($O81>0,VLOOKUP($N81,'Price List'!$A:$D,2,FALSE),\"\")","v":""},{"$nulls":3},{"$f":"IF($O81>0,VLOOKUP($N81,'Price List'!$A:$D,4,FALSE),\"\")","v":""},{"$f":"IFERROR(VLOOKUP($N81,'Price List'!$A:$D,1,FALSE),\"NON\")","v":7633244},"OUI",{"$nulls":18},{"$f":"$N$79","v":111712},{"$f":"IFERROR(VLOOKUP($AO81,'Price List'!$A:$B,2,FALSE),\"\")","v":"Гидравлическая стрелка DN 65 (> 350 кВт и < 460 кВт)"},111712,{"$f":"IFERROR(VLOOKUP($AQ81,'Price List'!$A:$D,3,FALSE),\"\")","v":"HC200"},{"$f":"IFERROR(VLOOKUP($AQ81,'Price List'!$A:$D,4,FALSE),\"\")","v":1361}]
[null,20,"Aansluitset ketel-verzamelleiding recht Pro",{"$nulls":4},"Kit de raccordement avant ",{"$nulls":4},{"$f":"IFERROR(VLOOKUP($N82,'Price List'!$A:$D,3,FALSE),\"\")","v":"HC202"},{"$f":"IF(texte!$C$75=texte!$B$84,Language!B76,IF(texte!$C$75=texte!$B$81,Language!C76,IF(texte!$C$75=texte!$B$82,Language!D76,IF(texte!$C$75=texte!$B$83,Language!E76,IF(texte!$C$75=texte!$B$85,Language!F76,IF(texte!$C$75=texte!$B$86,Language!G76,IF(texte!$C$75=texte!$B$87,Language!H76,IF(texte!$C$75=texte!$B$88,Language!I76,Language!J76))))))))","v":111022},{"$f":"W$63","v":2},{"$f":"IF($O82>0,VLOOKUP($N82,'Price List'!$A:$D,2,FALSE),\"\")","v":"Набор подключения котла"},{"$nulls":3},{"$f":"IF($O82>0,VLOOKUP($N82,'Price List'!$A:$D,4,FALSE),\"\")","v":803},{"$f":"IFERROR(VLOOKUP($N82,'Price List'!$A:$D,1,FALSE),\"NON\")","v":111022},"OUI",{"$nulls":18},{"$f":"$N$80","v":111714},{"$f":"IFERROR(VLOOKUP($AO82,'Price List'!$A:$B,2,FALSE),\"\")","v":"Гидравлическая стрелка DN 100"},111714,{"$f":"IFERROR(VLOOKUP($AQ82,'Price List'!$A:$D,3,FALSE),\"\")","v":"HC201"},{"$f":"IFERROR(VLOOKUP($AQ82,'Price List'!$A:$D,4,FALSE),\"\")","v":1683}]
[null,21,"Aansluitset ketel-verzamelleiding recht Pro voor Ace frame",{"$nulls":4},"Raccordement collecteur MCA 45/115",{"$nulls":4},{"$f":"IFERROR(VLOOKUP($N83,'Price List'!$A:$D,3,FALSE),\"\")","v":"EH655"},{"$f":"IF(texte!$C$75=texte!$B$84,Language!B77,IF(texte!$C$75=texte!$B$81,Language!C77,IF(texte!$C$75=texte!$B$82,Language!D77,IF(texte!$C$75=texte!$B$83,Language!E77,IF(texte!$C$75=texte!$B$85,Language!F77,IF(texte!$C$75=texte!$B$86,Language!G77,IF(texte!$C$75=texte!$B$87,Language!H77,IF(texte!$C$75=texte!$B$88,Language!I77,Language!J77))))))))","v":7622699},{"$f":"X$63","v":0},{"$f":"IF($O83>0,VLOOKUP($N83,'Price List'!$A:$D,2,FALSE),\"\")","v":""},{"$nulls":3},{"$f":"IF($O83>0,VLOOKUP($N83,'Price List'!$A:$D,4,FALSE),\"\")","v":""},{"$f":"IFERROR(VLOOKUP($N83,'Price List'!$A:$D,1,FALSE),\"NON\")","v":7622699},"OUI",{"$nulls":18},{"$f":"$N$81","v":7633244},{"$f":"IFERROR(VLOOKUP($AO83,'Price List'!$A:$B,2,FALSE),\"\")","v":"Переходник DN 65-DN 100"},7633244,{"$f":"IFERROR(VLOOKUP($AQ83,'Price List'!$A:$D,3,FALSE),\"\")","v":"EH654"},{"$f":"IFERROR(VLOOKUP($AQ83,'Price List'!$A:$D,4,FALSE),\"\")","v":450}]
[null,22,"Aansluitset ketel-verzamelleiding recht Ace",{"$nulls":4},"Raccordement collecteur MCA 160",{"$nulls":4},{"$f":"IFERROR(VLOOKUP($N84,'Price List'!$A:$D,3,FALSE),\"\")","v":"EH656"},{"$f":"IF(texte!$C$75=texte!$B$84,Language!B78,IF(texte!$C$75=texte!$B$81,Language!C78,IF(texte!$C$75=texte!$B$82,Language!D78,IF(texte!$C$75=texte!$B$83,Language!E78,IF(texte!$C$75=texte!$B$85,Language!F78,IF(texte!$C$75=texte!$B$86,Language!G78,IF(texte!$C$75=texte!$B$87,Language!H78,IF(texte!$C$75=texte!$B$88,Language!I78,Language!J78))))))))","v":7622701},{"$f":"Y$63","v":0},{"$f":"IF($O84>0,VLOOKUP($N84,'Price List'!$A:$D,2,FALSE),\"\")","v":""},{"$nulls":3},{"$f":"IF($O84>0,VLOOKUP($N84,'Price List'!$A:$D,4,FALSE),\"\")","v":""},{"$f":"IFERROR(VLOOKUP($N84,'Price List'!$A:$D,1,FALSE),\"NON\")","v":7622701},"OUI",{"$nulls":18},{"$f":"$N$82","v":111022},{"$f":"IFERROR(VLOOKUP($AO84,'Price List'!$A:$B,2,FALSE),\"\")","v":"Набор подключения котла"},111022,{"$f":"IFERROR(VLOOKUP($AQ84,'Price List'!$A:$D,3,FALSE),\"\")","v":"HC202"},{"$f":"IFERROR(VLOOKUP($AQ84,'Price List'!$A:$D,4,FALSE),\"\")","v":803}]
[null,23,"Aansluitset ketel-verzamelleiding rug Pro",{"$nulls":4},"Kit de raccordement collecteur chaudière RG MCA 45/115",{"$nulls":4},{"$f":"IFERROR(VLOOKUP($N85,'Price List'!$A:$D,3,FALSE),\"\")","v":"HC203"},{"$f":"IF(texte!$C$75=texte!$B$84,Language!B79,IF(texte!$C$75=texte!$B$81,Language!C79,IF(texte!$C$75=texte!$B$82,Language!D79,IF(texte!$C$75=texte!$B$83,Language!E79,IF(texte!$C$75=texte!$B$85,Language!F79,IF(texte!$C$75=texte!$B$86,Language!G79,IF(texte!$C$75=texte!$B$87,Language!H79,IF(texte!$C$75=texte!$B$88,Language!I79,Language!J79))))))))","v":111037},{"$f":"IF($N$66=texte!$B$84,0,Z$63)","v":0},{"$f":"IF($O85>0,VLOOKUP($N85,'Price List'!$A:$D,2,FALSE),\"\")","v":""},{"$nulls":3},{"$f":"IF($O85>0,VLOOKUP($N85,'Price List'!$A:$D,4,FALSE),\"\")","v":""},{"$f":"IFERROR(VLOOKUP($N85,'Price List'!$A:$D,1,FALSE),\"NON\")","v":111037},"OUI",{"$nulls":18},{"$f":"$N$83","v":7622699},{"$f":"IFERROR(VLOOKUP($AO85,'Price List'!$A:$B,2,FALSE),\"\")","v":"Набор для подключения котла AMC 45-115, для каскадной системы LV/LW"},7622699,{"$f":"IFERROR(VLOOKUP($AQ85,'Price List'!$A:$D,3,FALSE),\"\")","v":"EH655"},{"$f":"IFERROR(VLOOKUP($AQ85,'Price List'!$A:$D,4,FALSE),\"\")","v":990}]
[null,24,"Aansluitset ketel-verzamelleiding rug Pro voor Ace frame",{"$nulls":4},"Kit de raccordement collecteur chaudière RG MCA MIXTE 45/115 + 160",{"$nulls":4},{"$f":"IFERROR(VLOOKUP($N86,'Price List'!$A:$D,3,FALSE),\"\")","v":""},{"$f":"IF(texte!$C$75=texte!$B$84,Language!B80,IF(texte!$C$75=texte!$B$81,Language!C80,IF(texte!$C$75=texte!$B$82,Language!D80,IF(texte!$C$75=texte!$B$83,Language!E80,IF(texte!$C$75=texte!$B$85,Language!F80,IF(texte!$C$75=texte!$B$86,Language!G80,IF(texte!$C$75=texte!$B$87,Language!H80,IF(texte!$C$75=texte!$B$88,Language!I80,Language!J80))))))))","v":7622700},{"$f":"AA$63","v":0},{"$f":"IF($O86>0,VLOOKUP($N86,'Price List'!$A:$D,2,FALSE),\"\")","v":""},{"$nulls":3},{"$f":"IF($O86>0,VLOOKUP($N86,'Price List'!$A:$D,4,FALSE),\"\")","v":""},{"$f":"IFERROR(VLOOKUP($N86,'Price List'!$A:$D,1,FALSE),\"NON\")","v":"NON"},"NON",{"$nulls":18},{"$f":"$N$84","v":7622701},{"$f":"IFERROR(VLOOKUP($AO86,'Price List'!$A:$B,2,FALSE),\"\")","v":"Набор для подключения котла MCA 160, для каскадной системы LV/LW"},7622701,{"$f":"IFERROR(VLOOKUP($AQ86,'Price List'!$A:$D,3,FALSE),\"\")","v":"EH656"},{"$f":"IFERROR(VLOOKUP($AQ86,'Price List'!$A:$D,4,FALSE),\"\")","v":990}]
[null,25,"Aansluitset ketel-verzamelleiding rug Ace",{"$nulls":4},"Kit de raccordement collecteur chaudière RG MCA 160",{"$nulls":4},{"$f":"IFERROR(VLOOKUP($N87,'Price List'!$A:$D,3,FALSE),\"\")","v":""},{"$f":"IF(texte!$C$75=texte!$B$84,Language!B81,IF(texte!$C$75=texte!$B$81,Language!C81,IF(texte!$C$75=texte!$B$82,Language!D81,IF(texte!$C$75=texte!$B$83,Language!E81,IF(texte!$C$75=texte!$B$85,Language!F81,IF(texte!$C$75=texte!$B$86,Language!G81,IF(texte!$C$75=texte!$B$87,Language!H81,IF(texte!$C$75=texte!$B$88,Language!I81,Language!J81))))))))","v":7622702},{"$f":"AB$63","v":0},{"$f":"IF($O87>0,VLOOKUP($N87,'Price List'!$A:$D,2,FALSE),\"\")","v":""},{"$nulls":3},{"$f":"IF($O87>0,VLOOKUP($N87,'Price List'!$A:$D,4,FALSE),\"\")","v":""},{"$f":"IFERROR(VLOOKUP($N87,'Price List'!$A:$D,1,FALSE),\"NON\")","v":"NON"},"NON",{"$nulls":18},{"$f":"$N$85","v":111037},{"$f":"IFERROR(VLOOKUP($AO87,'Price List'!$A:$B,2,FALSE),\"\")","v":"Набор подключения котла (спиной к спине)"},111037,{"$f":"IFERROR(VLOOKUP($AQ87,'Price List'!$A:$D,3,FALSE),\"\")","v":"HC203"},{"$f":"IFERROR(VLOOKUP($AQ87,'Price List'!$A:$D,4,FALSE),\"\")","v":803}]
[null,26,"Boileraansluitset Pro",{"$nulls":4},"Raccordement  chaudière RG MCA 45/115",{"$nulls":4},{"$f":"IFERROR(VLOOKUP($N88,'Price List'!$A:$D,3,FALSE),\"\")","v":""},{"$f":"IF(texte!$C$75=texte!$B$84,Language!B82,IF(texte!$C$75=texte!$B$81,Language!C82,IF(texte!$C$75=texte!$B$82,Language!D82,IF(texte!$C$75=texte!$B$83,Language!E82,IF(texte!$C$75=texte!$B$85,Language!F82,IF(texte!$C$75=texte!$B$86,Language!G82,IF(texte!$C$75=texte!$B$87,Language!H82,IF(texte!$C$75=texte!$B$88,Language!I82,Language!#REF!))))))))","v":"S101538"},null,{"$f":"IF($O88>0,VLOOKUP($N88,'Price List'!$A:$D,2,FALSE),\"\")","v":""},{"$nulls":3},{"$f":"IF($O88>0,VLOOKUP($N88,'Price List'!$A:$D,4,FALSE),\"\")","v":""},{"$f":"IFERROR(VLOOKUP($N88,'Price List'!$A:$D,1,FALSE),\"NON\")","v":"NON"},"NON",{"$nulls":18},{"$f":"$N$86","v":7622700},{"$f":"IFERROR(VLOOKUP($AO88,'Price List'!$A:$B,2,FALSE),\"\")","v":""},7622700,{"$f":"IFERROR(VLOOKUP($AQ88,'Price List'!$A:$D,3,FALSE),\"\")","v":""},{"$f":"IFERROR(VLOOKUP($AQ88,'Price List'!$A:$D,4,FALSE),\"\")","v":""}]
[null,27,"Boileraansluitset Pro voor Ace Frame (uitsluitend links)",{"$nulls":9},{"$f":"IFERROR(VLOOKUP($N89,'Price List'!$A:$D,3,FALSE),\"\")","v":""},{"$f":"IF(texte!$C$75=texte!$B$84,Language!B83,IF(texte!$C$75=texte!$B$81,Language!C83,IF(texte!$C$75=texte!$B$82,Language!D83,IF(texte!$C$75=texte!$B$83,Language!E83,IF(texte!$C$75=texte!$B$85,Language!F83,IF(texte!$C$75=texte!$B$86,Language!G83,IF(texte!$C$75=texte!$B$87,Language!H83,IF(texte!$C$75=texte!$B$88,Language!I83,Language!#REF!))))))))","v":7622704},null,{"$f":"IF($O89>0,VLOOKUP($N89,'Price List'!$A:$D,2,FALSE),\"\")","v":""},{"$nulls":3},{"$f":"IF($O89>0,VLOOKUP($N89,'Price List'!$A:$D,4,FALSE),\"\")","v":""},{"$f":"IFERROR(VLOOKUP($N89,'Price List'!$A:$D,1,FALSE),\"NON\")","v":"NON"},"NON",{"$nulls":18},{"$f":"$N$87","v":7622702},{"$f":"IFERROR(VLOOKUP($AO89,'Price List'!$A:$B,2,FALSE),\"\")","v":""},7622702,{"$f":"IFERROR(VLOOKUP($AQ89,'Price List'!$A:$D,3,FALSE),\"\")","v":""},{"$f":"IFERROR(VLOOKUP($AQ89,'Price List'!$A:$D,4,FALSE),\"\")","v":""}]
[null,28,"Boileraansluitset Ace",{"$nulls":4},"Raccordement  chaudière RG MCA 160",{"$nulls":4},{"$f":"IFERROR(VLOOKUP($N90,'Price List'!$A:$D,3,FALSE),\"\")","v":""},{"$f":"IF(texte!$C$75=texte!$B$84,Language!B84,IF(texte!$C$75=texte!$B$81,Language!C84,IF(texte!$C$75=texte!$B$82,Language!D84,IF(texte!$C$75=texte!$B$83,Language!E84,IF(texte!$C$75=texte!$B$85,Language!F84,IF(texte!$C$75=texte!$B$86,Language!G84,IF(texte!$C$75=texte!$B$87,Language!H84,IF(texte!$C$75=texte!$B$88,Language!I84,Language!#REF!))))))))","v":7622705},null,{"$f":"IF($O90>0,VLOOKUP($N90,'Price List'!$A:$D,2,FALSE),\"\")","v":""},{"$nulls":3},{"$f":"IF($O90>0,VLOOKUP($N90,'Price List'!$A:$D,4,FALSE),\"\")","v":""},{"$f":"IFERROR(VLOOKUP($N90,'Price List'!$A:$D,1,FALSE),\"NON\")","v":"NON"},"NON",{"$nulls":18},{"$f":"$N$91","v":111698},{"$f":"IFERROR(VLOOKUP($AO90,'Price List'!$A:$B,2,FALSE),\"\")","v":"1 Глухой фланец на газ DN 50 "},111698,{"$f":"IFERROR(VLOOKUP($AQ90,'Price List'!$A:$D,3,FALSE),\"\")","v":"HC196"},{"$f":"IFERROR(VLOOKUP($AQ90,'Price List'!$A:$D,4,FALSE),\"\")","v":139}]
[null,29,"Blindflens gas DN50",{"$nulls":4},"Brides Pleines Gaz DN50",{"$nulls":4},{"$f":"IFERROR(VLOOKUP($N91,'Price List'!$A:$D,3,FALSE),\"\")","v":"HC196"},{"$f":"IF(texte!$C$75=texte!$B$84,Language!B85,IF(texte!$C$75=texte!$B$81,Language!C85,IF(texte!$C$75=texte!$B$82,Language!D85,IF(texte!$C$75=texte!$B$83,Language!E85,IF(texte!$C$75=texte!$B$85,Language!F85,IF(texte!$C$75=texte!$B$86,Language!G85,IF(texte!$C$75=texte!$B$87,Language!H85,IF(texte!$C$75=texte!$B$88,Language!I85,Language!J85))))))))","v":111698},{"$f":"IF($N$66=texte!$B$84,0,AF$63)","v":1},{"$f":"IF($O91>0,VLOOKUP($N91,'Price List'!$A:$D,2,FALSE),\"\")","v":"1 Глухой фланец на газ DN 50 "},{"$nulls":3},{"$f":"IF($O91>0,VLOOKUP($N91,'Price List'!$A:$D,4,FALSE),\"\")","v":139},{"$f":"IFERROR(VLOOKUP($N91,'Price List'!$A:$D,1,FALSE),\"NON\")","v":111698},"OUI",{"$nulls":18},{"$f":"$N$92","v":111699},{"$f":"IFERROR(VLOOKUP($AO91,'Price List'!$A:$B,2,FALSE),\"\")","v":"1 Глухой фланец на газ DN 65"},111699,{"$f":"IFERROR(VLOOKUP($AQ91,'Price List'!$A:$D,3,FALSE),\"\")","v":"HC197"},{"$f":"IFERROR(VLOOKUP($AQ91,'Price List'!$A:$D,4,FALSE),\"\")","v":171}]
[null,30,"Blindflens gas DN65",{"$nulls":4},"Brides Pleines Gaz DN65",{"$nulls":4},{"$f":"IFERROR(VLOOKUP($N92,'Price List'!$A:$D,3,FALSE),\"\")","v":"HC197"},{"$f":"IF(texte!$C$75=texte!$B$84,Language!B86,IF(texte!$C$75=texte!$B$81,Language!C86,IF(texte!$C$75=texte!$B$82,Language!D86,IF(texte!$C$75=texte!$B$83,Language!E86,IF(texte!$C$75=texte!$B$85,Language!F86,IF(texte!$C$75=texte!$B$86,Language!G86,IF(texte!$C$75=texte!$B$87,Language!H86,IF(texte!$C$75=texte!$B$88,Language!I86,Language!J86))))))))","v":111699},{"$f":"IF($N$66=texte!$B$84,0,AG$63)","v":0},{"$f":"IF($O92>0,VLOOKUP($N92,'Price List'!$A:$D,2,FALSE),\"\")","v":""},{"$nulls":3},{"$f":"IF($O92>0,VLOOKUP($N92,'Price List'!$A:$D,4,FALSE),\"\")","v":""},{"$f":"IFERROR(VLOOKUP($N92,'Price List'!$A:$D,1,FALSE),\"NON\")","v":111699},"OUI",{"$nulls":18},{"$f":"$N$93","v":111701},{"$f":"IFERROR(VLOOKUP($AO92,'Price List'!$A:$B,2,FALSE),\"\")","v":"2  Глухих фланца на воду DN 65"},111701,{"$f":"IFERROR(VLOOKUP($AQ92,'Price List'!$A:$D,3,FALSE),\"\")","v":"HC198"},{"$f":"IFERROR(VLOOKUP($AQ92,'Price List'!$A:$D,4,FALSE),\"\")","v":196}]
[null,31,"Blindflenzen water DN65",{"$nulls":4},"Brides Pleines Eau DN65",{"$nulls":4},{"$f":"IFERROR(VLOOKUP($N93,'Price List'!$A:$D,3,FALSE),\"\")","v":"HC198"},{"$f":"IF(texte!$C$75=texte!$B$84,Language!B87,IF(texte!$C$75=texte!$B$81,Language!C87,IF(texte!$C$75=texte!$B$82,Language!D87,IF(texte!$C$75=texte!$B$83,Language!E87,IF(texte!$C$75=texte!$B$85,Language!F87,IF(texte!$C$75=texte!$B$86,Language!G87,IF(texte!$C$75=texte!$B$87,Language!H87,IF(texte!$C$75=texte!$B$88,Language!I87,Language!J87))))))))","v":111701},{"$f":"AH$63","v":1},{"$f":"IF($O93>0,VLOOKUP($N93,'Price List'!$A:$D,2,FALSE),\"\")","v":"2  Глухих фланца на воду DN 65"},{"$nulls":3},{"$f":"IF($O93>0,VLOOKUP($N93,'Price List'!$A:$D,4,FALSE),\"\")","v":196},{"$f":"IFERROR(VLOOKUP($N93,'Price List'!$A:$D,1,FALSE),\"NON\")","v":111701},"OUI",{"$nulls":18},{"$f":"$N$94","v":111703},{"$f":"IFERROR(VLOOKUP($AO93,'Price List'!$A:$B,2,FALSE),\"\")","v":"2 Глухих фланца на воду DN 100"},111703,{"$f":"IFERROR(VLOOKUP($AQ93,'Price List'!$A:$D,3,FALSE),\"\")","v":"HC199"},{"$f":"IFERROR(VLOOKUP($AQ93,'Price List'!$A:$D,4,FALSE),\"\")","v":258}]
[null,32,"Blindflenzen water DN100",{"$nulls":4},"Brides Pleines Eau DN100",{"$nulls":4},{"$f":"IFERROR(VLOOKUP($N94,'Price List'!$A:$D,3,FALSE),\"\")","v":"HC199"},{"$f":"IF(texte!$C$75=texte!$B$84,Language!B88,IF(texte!$C$75=texte!$B$81,Language!C88,IF(texte!$C$75=texte!$B$82,Language!D88,IF(texte!$C$75=texte!$B$83,Language!E88,IF(texte!$C$75=texte!$B$85,Language!F88,IF(texte!$C$75=texte!$B$86,Language!G88,IF(texte!$C$75=texte!$B$87,Language!H88,IF(texte!$C$75=texte!$B$88,Language!I88,Language!J88))))))))","v":111703},{"$f":"AI$63","v":0},{"$f":"IF($O94>0,VLOOKUP($N94,'Price List'!$A:$D,2,FALSE),\"\")","v":""},{"$nulls":3},{"$f":"IF($O94>0,VLOOKUP($N94,'Price List'!$A:$D,4,FALSE),\"\")","v":""},{"$f":"IFERROR(VLOOKUP($N94,'Price List'!$A:$D,1,FALSE),\"NON\")","v":111703},"OUI"]
[null,33,"L-staander Pro",{"$nulls":4},"Montant support L pour MCA 45/115",{"$nulls":4},{"$f":"IFERROR(VLOOKUP($N95,'Price List'!$A:$D,3,FALSE),\"\")","v":"HC249"},{"$f":"IF(texte!$C$75=texte!$B$84,Language!B89,IF(texte!$C$75=texte!$B$81,Language!C89,IF(texte!$C$75=texte!$B$82,Language!D89,IF(texte!$C$75=texte!$B$83,Language!E89,IF(texte!$C$75=texte!$B$85,Language!F89,IF(texte!$C$75=texte!$B$86,Language!G89,IF(texte!$C$75=texte!$B$87,Language!H89,IF(texte!$C$75=texte!$B$88,Language!I89,Language!J89))))))))","v":120842},{"$f":"AJ$63","v":0},{"$f":"IF($O95>0,VLOOKUP($N95,'Price List'!$A:$D,2,FALSE),\"\")","v":""},{"$nulls":3},{"$f":"IF($O95>0,VLOOKUP($N95,'Price List'!$A:$D,4,FALSE),\"\")","v":""},{"$f":"IFERROR(VLOOKUP($N95,'Price List'!$A:$D,1,FALSE),\"NON\")","v":120842},"OUI",{"$nulls":18},{"$f":"$N$95","v":120842},{"$f":"IFERROR(VLOOKUP($AO95,'Price List'!$A:$B,2,FALSE),\"\")","v":"L-образная монтажная опора AMC"},120842,{"$f":"IFERROR(VLOOKUP($AQ95,'Price List'!$A:$D,3,FALSE),\"\")","v":"HC249"},{"$f":"IFERROR(VLOOKUP($AQ95,'Price List'!$A:$D,4,FALSE),\"\")","v":187}]
[null,34,"L-staander Ace",{"$nulls":4},"Montant support L pour MCA 160",{"$nulls":4},{"$f":"IFERROR(VLOOKUP($N96,'Price List'!$A:$D,3,FALSE),\"\")","v":"EH662"},{"$f":"IF(texte!$C$75=texte!$B$84,Language!B90,IF(texte!$C$75=texte!$B$81,Language!C90,IF(texte!$C$75=texte!$B$82,Language!D90,IF(texte!$C$75=texte!$B$83,Language!E90,IF(texte!$C$75=texte!$B$85,Language!F90,IF(texte!$C$75=texte!$B$86,Language!G90,IF(texte!$C$75=texte!$B$87,Language!H90,IF(texte!$C$75=texte!$B$88,Language!I90,Language!J90))))))))","v":7612942},{"$f":"AK$63","v":0},{"$f":"IF($O96>0,VLOOKUP($N96,'Price List'!$A:$D,2,FALSE),\"\")","v":""},{"$nulls":3},{"$f":"IF($O96>0,VLOOKUP($N96,'Price List'!$A:$D,4,FALSE),\"\")","v":""},{"$f":"IFERROR(VLOOKUP($N96,'Price List'!$A:$D,1,FALSE),\"NON\")","v":7612942},"OUI",{"$nulls":18},{"$f":"$N$96","v":7612942},{"$f":"IFERROR(VLOOKUP($AO96,'Price List'!$A:$B,2,FALSE),\"\")","v":"L-образная монтажная опора МСА 160"},7612942,{"$f":"IFERROR(VLOOKUP($AQ96,'Price List'!$A:$D,3,FALSE),\"\")","v":"EH662"},{"$f":"IFERROR(VLOOKUP($AQ96,'Price List'!$A:$D,4,FALSE),\"\")","v":309}]
[null,35,"I-staander Pro",{"$nulls":4},"Montant support I pour MCA 45/115",{"$nulls":4},{"$f":"IFERROR(VLOOKUP($N97,'Price List'!$A:$D,3,FALSE),\"\")","v":"HC250"},{"$f":"IF(texte!$C$75=texte!$B$84,Language!B91,IF(texte!$C$75=texte!$B$81,Language!C91,IF(texte!$C$75=texte!$B$82,Language!D91,IF(texte!$C$75=texte!$B$83,Language!E91,IF(texte!$C$75=texte!$B$85,Language!F91,IF(texte!$C$75=texte!$B$86,Language!G91,IF(texte!$C$75=texte!$B$87,Language!H91,IF(texte!$C$75=texte!$B$88,Language!I91,Language!J91))))))))","v":120900},{"$f":"AL$63","v":0},{"$f":"IF($O97>0,VLOOKUP($N97,'Price List'!$A:$D,2,FALSE),\"\")","v":""},{"$nulls":3},{"$f":"IF($O97>0,VLOOKUP($N97,'Price List'!$A:$D,4,FALSE),\"\")","v":""},{"$f":"IFERROR(VLOOKUP($N97,'Price List'!$A:$D,1,FALSE),\"NON\")","v":120900},"OUI",{"$nulls":18},{"$f":"$N$97","v":120900},{"$f":"IFERROR(VLOOKUP($AO97,'Price List'!$A:$B,2,FALSE),\"\")","v":"I-образная монтажная опора AMC"},120900,{"$f":"IFERROR(VLOOKUP($AQ97,'Price List'!$A:$D,3,FALSE),\"\")","v":"HC250"},{"$f":"IFERROR(VLOOKUP($AQ97,'Price List'!$A:$D,4,FALSE),\"\")","v":118}]
[null,36,"I-staander Ace",{"$nulls":4},"Montant support I pour MCA 160",{"$nulls":4},{"$f":"IFERROR(VLOOKUP($N98,'Price List'!$A:$D,3,FALSE),\"\")","v":"EH663"},{"$f":"IF(texte!$C$75=texte!$B$84,Language!B92,IF(texte!$C$75=texte!$B$81,Language!C92,IF(texte!$C$75=texte!$B$82,Language!D92,IF(texte!$C$75=texte!$B$83,Language!E92,IF(texte!$C$75=texte!$B$85,Language!F92,IF(texte!$C$75=texte!$B$86,Language!G92,IF(texte!$C$75=texte!$B$87,Language!H92,IF(texte!$C$75=texte!$B$88,Language!I92,Language!J92))))))))","v":7612941},{"$f":"AM$63","v":0},{"$f":"IF($O98>0,VLOOKUP($N98,'Price List'!$A:$D,2,FALSE),\"\")","v":""},{"$nulls":3},{"$f":"IF($O98>0,VLOOKUP($N98,'Price List'!$A:$D,4,FALSE),\"\")","v":""},{"$f":"IFERROR(VLOOKUP($N98,'Price List'!$A:$D,1,FALSE),\"NON\")","v":7612941},"OUI",{"$nulls":18},{"$f":"$N$98","v":7612941},{"$f":"IFERROR(VLOOKUP($AO98,'Price List'!$A:$B,2,FALSE),\"\")","v":"I-образная монтажная опора МСА 160"},7612941,{"$f":"IFERROR(VLOOKUP($AQ98,'Price List'!$A:$D,3,FALSE),\"\")","v":"EH663"},{"$f":"IFERROR(VLOOKUP($AQ98,'Price List'!$A:$D,4,FALSE),\"\")","v":188}]
[null,37,"Tussenframe Pro",{"$nulls":4},"Chassis de montage MCA 45/115","L",{"$nulls":3},{"$f":"IFERROR(VLOOKUP($N99,'Price List'!$A:$D,3,FALSE),\"\")","v":"HC248"},{"$f":"IF(texte!$C$75=texte!$B$84,Language!B93,IF(texte!$C$75=texte!$B$81,Language!C93,IF(texte!$C$75=texte!$B$82,Language!D93,IF(texte!$C$75=texte!$B$83,Language!E93,IF(texte!$C$75=texte!$B$85,Language!F93,IF(texte!$C$75=texte!$B$86,Language!G93,IF(texte!$C$75=texte!$B$87,Language!H93,IF(texte!$C$75=texte!$B$88,Language!I93,Language!J93))))))))","v":120918},{"$f":"AN$63","v":0},{"$f":"IF($O99>0,VLOOKUP($N99,'Price List'!$A:$D,2,FALSE),\"\")","v":""},{"$nulls":3},{"$f":"IF($O99>0,VLOOKUP($N99,'Price List'!$A:$D,4,FALSE),\"\")","v":""},{"$f":"IFERROR(VLOOKUP($N99,'Price List'!$A:$D,1,FALSE),\"NON\")","v":120918},"OUI",{"$nulls":18},{"$f":"$N$99","v":120918},{"$f":"IFERROR(VLOOKUP($AO99,'Price List'!$A:$B,2,FALSE),\"\")","v":"Монтажная рама AMC"},120918,{"$f":"IFERROR(VLOOKUP($AQ99,'Price List'!$A:$D,3,FALSE),\"\")","v":"HC248"},{"$f":"IFERROR(VLOOKUP($AQ99,'Price List'!$A:$D,4,FALSE),\"\")","v":126}]
[null,38,"Tussenframe Ace",{"$nulls":4},"Chassis de montage  MCA 160 combinée",{"$nulls":4},{"$f":"IFERROR(VLOOKUP($N100,'Price List'!$A:$D,3,FALSE),\"\")","v":"EH664"},{"$f":"IF(texte!$C$75=texte!$B$84,Language!B94,IF(texte!$C$75=texte!$B$81,Language!C94,IF(texte!$C$75=texte!$B$82,Language!D94,IF(texte!$C$75=texte!$B$83,Language!E94,IF(texte!$C$75=texte!$B$85,Language!F94,IF(texte!$C$75=texte!$B$86,Language!G94,IF(texte!$C$75=texte!$B$87,Language!H94,IF(texte!$C$75=texte!$B$88,Language!I94,Language!J94))))))))","v":7621566},{"$f":"AO$63","v":0},{"$f":"IF($O100>0,VLOOKUP($N100,'Price List'!$A:$D,2,FALSE),\"\")","v":""},{"$nulls":3},{"$f":"IF($O100>0,VLOOKUP($N100,'Price List'!$A:$D,4,FALSE),\"\")","v":""},{"$f":"IFERROR(VLOOKUP($N100,'Price List'!$A:$D,1,FALSE),\"NON\")","v":7621566},"OUI",{"$nulls":18},{"$f":"$N$100","v":7621566},{"$f":"IFERROR(VLOOKUP($AO100,'Price List'!$A:$B,2,FALSE),\"\")","v":"Монтажная рама (МСА 160)"},7621566,{"$f":"IFERROR(VLOOKUP($AQ100,'Price List'!$A:$D,3,FALSE),\"\")","v":"EH664"},{"$f":"IFERROR(VLOOKUP($AQ100,'Price List'!$A:$D,4,FALSE),\"\")","v":256}]
[null,39,"Ophangstrip 2 ketels Pro",{"$nulls":4},"Rail de montage mural 2 chaudières MCA 45/115",{"$nulls":4},{"$f":"IFERROR(VLOOKUP($N101,'Price List'!$A:$D,3,FALSE),\"\")","v":"HC192"},{"$f":"IF(texte!$C$75=texte!$B$84,Language!B95,IF(texte!$C$75=texte!$B$81,Language!C95,IF(texte!$C$75=texte!$B$82,Language!D95,IF(texte!$C$75=texte!$B$83,Language!E95,IF(texte!$C$75=texte!$B$85,Language!F95,IF(texte!$C$75=texte!$B$86,Language!G95,IF(texte!$C$75=texte!$B$87,Language!H95,IF(texte!$C$75=texte!$B$88,Language!I95,Language!J95))))))))","v":111688},{"$f":"AP$63","v":1},{"$f":"IF($O101>0,VLOOKUP($N101,'Price List'!$A:$D,2,FALSE),\"\")","v":"Кронштейн для монтажа на стене 2 котлов"},{"$nulls":3},{"$f":"IF($O101>0,VLOOKUP($N101,'Price List'!$A:$D,4,FALSE),\"\")","v":57},{"$f":"IFERROR(VLOOKUP($N101,'Price List'!$A:$D,1,FALSE),\"NON\")","v":111688},"OUI",{"$nulls":18},{"$f":"$N$101","v":111688},{"$f":"IFERROR(VLOOKUP($AO101,'Price List'!$A:$B,2,FALSE),\"\")","v":"Кронштейн для монтажа на стене 2 котлов"},111688,{"$f":"IFERROR(VLOOKUP($AQ101,'Price List'!$A:$D,3,FALSE),\"\")","v":"HC192"},{"$f":"IFERROR(VLOOKUP($AQ101,'Price List'!$A:$D,4,FALSE),\"\")","v":57}]
[null,40,"Ophangstrip 2 ketels Ace",{"$nulls":4},"Rail de montage mural 2 chaudières MCA 160",{"$nulls":4},{"$f":"IFERROR(VLOOKUP($N102,'Price List'!$A:$D,3,FALSE),\"\")","v":"EH670"},{"$f":"IF(texte!$C$75=texte!$B$84,Language!B96,IF(texte!$C$75=texte!$B$81,Language!C96,IF(texte!$C$75=texte!$B$82,Language!D96,IF(texte!$C$75=texte!$B$83,Language!E96,IF(texte!$C$75=texte!$B$85,Language!F96,IF(texte!$C$75=texte!$B$86,Language!G96,IF(texte!$C$75=texte!$B$87,Language!H96,IF(texte!$C$75=texte!$B$88,Language!I96,Language!J96))))))))","v":7637077},{"$f":"AQ$63","v":0},{"$f":"IF($O102>0,VLOOKUP($N102,'Price List'!$A:$D,2,FALSE),\"\")","v":""},{"$nulls":3},{"$f":"IF($O102>0,VLOOKUP($N102,'Price List'!$A:$D,4,FALSE),\"\")","v":""},{"$f":"IFERROR(VLOOKUP($N102,'Price List'!$A:$D,1,FALSE),\"NON\")","v":7637077},"OUI",{"$nulls":18},{"$f":"$N$102","v":7637077},{"$f":"IFERROR(VLOOKUP($AO102,'Price List'!$A:$B,2,FALSE),\"\")","v":"Кронштейн для монтажа на стене 2 котлов MCA 160"},7637077,{"$f":"IFERROR(VLOOKUP($AQ102,'Price List'!$A:$D,3,FALSE),\"\")","v":"EH670"},{"$f":"IFERROR(VLOOKUP($AQ102,'Price List'!$A:$D,4,FALSE),\"\")","v":58}]
[null,41,"Ophangstrip 3 ketels Pro",{"$nulls":4},"Rail de montage mural 3 chaudières MCA 45/115",{"$nulls":4},{"$f":"IFERROR(VLOOKUP($N103,'Price List'!$A:$D,3,FALSE),\"\")","v":"HC193"},{"$f":"IF(texte!$C$75=texte!$B$84,Language!B97,IF(texte!$C$75=texte!$B$81,Language!C97,IF(texte!$C$75=texte!$B$82,Language!D97,IF(texte!$C$75=texte!$B$83,Language!E97,IF(texte!$C$75=texte!$B$85,Language!F97,IF(texte!$C$75=texte!$B$86,Language!G97,IF(texte!$C$75=texte!$B$87,Language!H97,IF(texte!$C$75=texte!$B$88,Language!I97,Language!J97))))))))","v":111689},{"$f":"AR$63","v":0},{"$f":"IF($O103>0,VLOOKUP($N103,'Price List'!$A:$D,2,FALSE),\"\")","v":""},{"$nulls":3},{"$f":"IF($O103>0,VLOOKUP($N103,'Price List'!$A:$D,4,FALSE),\"\")","v":""},{"$f":"IFERROR(VLOOKUP($N103,'Price List'!$A:$D,1,FALSE),\"NON\")","v":111689},"OUI",{"$nulls":18},{"$f":"$N$103","v":111689},{"$f":"IFERROR(VLOOKUP($AO103,'Price List'!$A:$B,2,FALSE),\"\")","v":"Кронштейн для монтажа на стене 3 котлов"},111689,{"$f":"IFERROR(VLOOKUP($AQ103,'Price List'!$A:$D,3,FALSE),\"\")","v":"HC193"},{"$f":"IFERROR(VLOOKUP($AQ103,'Price List'!$A:$D,4,FALSE),\"\")","v":69}]
[null,42,"Ophangstrip 3 ketels Ace",{"$nulls":4},"Rail de montage mural 3 chaudières MCA 160",{"$nulls":4},{"$f":"IFERROR(VLOOKUP($N104,'Price List'!$A:$D,3,FALSE),\"\")","v":"EH671"},{"$f":"IF(texte!$C$75=texte!$B$84,Language!B98,IF(texte!$C$75=texte!$B$81,Language!C98,IF(texte!$C$75=texte!$B$82,Language!D98,IF(texte!$C$75=texte!$B$83,Language!E98,IF(texte!$C$75=texte!$B$85,Language!F98,IF(texte!$C$75=texte!$B$86,Language!G98,IF(texte!$C$75=texte!$B$87,Language!H98,IF(texte!$C$75=texte!$B$88,Language!I98,Language!J98))))))))","v":7637088},{"$f":"AS$63","v":0},{"$f":"IF($O104>0,VLOOKUP($N104,'Price List'!$A:$D,2,FALSE),\"\")","v":""},{"$nulls":3},{"$f":"IF($O104>0,VLOOKUP($N104,'Price List'!$A:$D,4,FALSE),\"\")","v":""},{"$f":"IFERROR(VLOOKUP($N104,'Price List'!$A:$D,1,FALSE),\"NON\")","v":7637088},"OUI",{"$nulls":18},{"$f":"$N$104","v":7637088},{"$f":"IFERROR(VLOOKUP($AO104,'Price List'!$A:$B,2,FALSE),\"\")","v":"Кронштейн для монтажа на стене 3 котлов MCA 160"},7637088,{"$f":"IFERROR(VLOOKUP($AQ104,'Price List'!$A:$D,3,FALSE),\"\")","v":"EH671"},{"$f":"IFERROR(VLOOKUP($AQ104,'Price List'!$A:$D,4,FALSE),\"\")","v":77}]
[null,43,"Ophangstrip 4 ketels Pro",{"$nulls":4},"Rail de montage mural 4 chaudières MCA 45/115",{"$nulls":4},{"$f":"IFERROR(VLOOKUP($N105,'Price List'!$A:$D,3,FALSE),\"\")","v":"HC194"},{"$f":"IF(texte!$C$75=texte!$B$84,Language!B99,IF(texte!$C$75=texte!$B$81,Language!C99,IF(texte!$C$75=texte!$B$82,Language!D99,IF(texte!$C$75=texte!$B$83,Language!E99,IF(texte!$C$75=texte!$B$85,Language!F99,IF(texte!$C$75=texte!$B$86,Language!G99,IF(texte!$C$75=texte!$B$87,Language!H99,IF(texte!$C$75=texte!$B$88,Language!I99,Language!J99))))))))","v":111690},{"$f":"AT$63","v":0},{"$f":"IF($O105>0,VLOOKUP($N105,'Price List'!$A:$D,2,FALSE),\"\")","v":""},{"$nulls":3},{"$f":"IF($O105>0,VLOOKUP($N105,'Price List'!$A:$D,4,FALSE),\"\")","v":""},{"$f":"IFERROR(VLOOKUP($N105,'Price List'!$A:$D,1,FALSE),\"NON\")","v":111690},"OUI",{"$nulls":18},{"$f":"$N$105","v":111690},{"$f":"IFERROR(VLOOKUP($AO105,'Price List'!$A:$B,2,FALSE),\"\")","v":"Кронштейн для монтажа на стене 4 котлов"},111690,{"$f":"IFERROR(VLOOKUP($AQ105,'Price List'!$A:$D,3,FALSE),\"\")","v":"HC194"},{"$f":"IFERROR(VLOOKUP($AQ105,'Price List'!$A:$D,4,FALSE),\"\")","v":84}]
[{"$nulls":12},{"$f":"IFERROR(VLOOKUP($N106,'Price List'!$A:$D,3,FALSE),\"\")","v":""},null,null,{"$f":"IF($O106>0,VLOOKUP($N106,'Price List'!$A:$D,2,FALSE),\"\")","v":""},{"$nulls":3},{"$f":"IF($O106>0,VLOOKUP($N106,'Price List'!$A:$D,4,FALSE),\"\")","v":""},{"$f":"IFERROR(VLOOKUP($N106,'Price List'!$A:$D,1,FALSE),\"NON\")","v":"NON"},"NON"]
[null,45,"Gasfilter DN50",{"$nulls":4},"Filtre Gaz DN50",{"$nulls":4},{"$f":"IFERROR(VLOOKUP($N107,'Price List'!$A:$D,3,FALSE),\"\")","v":"HC255"},{"$f":"IF(texte!$C$75=texte!$B$84,Language!B101,IF(texte!$C$75=texte!$B$81,Language!C101,IF(texte!$C$75=texte!$B$82,Language!D101,IF(texte!$C$75=texte!$B$83,Language!E101,IF(texte!$C$75=texte!$B$85,Language!F101,IF(texte!$C$75=texte!$B$86,Language!G101,IF(texte!$C$75=texte!$B$87,Language!H101,IF(texte!$C$75=texte!$B$88,Language!I101,Language!J101))))))))","v":"S101655"},{"$f":"AV$63","v":1},{"$f":"IF($O107>0,VLOOKUP($N107,'Price List'!$A:$D,2,FALSE),\"\")","v":"Газовый фильтр DN 50"},{"$nulls":3},{"$f":"IF($O107>0,VLOOKUP($N107,'Price List'!$A:$D,4,FALSE),\"\")","v":321},{"$f":"IFERROR(VLOOKUP($N107,'Price List'!$A:$D,1,FALSE),\"NON\")","v":"S101655"},"OUI",{"$nulls":18},{"$f":"$N$107","v":"S101655"},{"$f":"IFERROR(VLOOKUP($AO107,'Price List'!$A:$B,2,FALSE),\"\")","v":"Газовый фильтр DN 50"},"S101655",{"$f":"IFERROR(VLOOKUP($AQ107,'Price List'!$A:$D,3,FALSE),\"\")","v":"HC255"},{"$f":"IFERROR(VLOOKUP($AQ107,'Price List'!$A:$D,4,FALSE),\"\")","v":321}]
[null,46,"Gasfilter DN65",{"$nulls":4},"Filtre Gaz DN65",{"$nulls":4},{"$f":"IFERROR(VLOOKUP($N108,'Price List'!$A:$D,3,FALSE),\"\")","v":"HC256"},{"$f":"IF(texte!$C$75=texte!$B$84,Language!B102,IF(texte!$C$75=texte!$B$81,Language!C102,IF(texte!$C$75=texte!$B$82,Language!D102,IF(texte!$C$75=texte!$B$83,Language!E102,IF(texte!$C$75=texte!$B$85,Language!F102,IF(texte!$C$75=texte!$B$86,Language!G102,IF(texte!$C$75=texte!$B$87,Language!H102,IF(texte!$C$75=texte!$B$88,Language!I102,Language!J102))))))))","v":"S101656"},{"$f":"AW$63","v":0},{"$f":"IF($O108>0,VLOOKUP($N108,'Price List'!$A:$D,2,FALSE),\"\")","v":""},{"$nulls":3},{"$f":"IF($O108>0,VLOOKUP($N108,'Price List'!$A:$D,4,FALSE),\"\")","v":""},{"$f":"IFERROR(VLOOKUP($N108,'Price List'!$A:$D,1,FALSE),\"NON\")","v":"S101656"},"OUI",{"$nulls":18},{"$f":"$N$108","v":"S101656"},{"$f":"IFERROR(VLOOKUP($AO108,'Price List'!$A:$B,2,FALSE),\"\")","v":"Газовый фильтр DN 65"},"S101656",{"$f":"IFERROR(VLOOKUP($AQ108,'Price List'!$A:$D,3,FALSE),\"\")","v":"HC256"},{"$f":"IFERROR(VLOOKUP($AQ108,'Price List'!$A:$D,4,FALSE),\"\")","v":441}]
[null,47,"Bochten DN65",{"$nulls":4},"Coudes DN65",{"$nulls":4},{"$f":"IFERROR(VLOOKUP($N109,'Price List'!$A:$D,3,FALSE),\"\")","v":"HC209"},{"$f":"IF(texte!$C$75=texte!$B$84,Language!B103,IF(texte!$C$75=texte!$B$81,Language!C103,IF(texte!$C$75=texte!$B$82,Language!D103,IF(texte!$C$75=texte!$B$83,Language!E103,IF(texte!$C$75=texte!$B$85,Language!F103,IF(texte!$C$75=texte!$B$86,Language!G103,IF(texte!$C$75=texte!$B$87,Language!H103,IF(texte!$C$75=texte!$B$88,Language!I103,Language!J103))))))))","v":111788},{"$f":"AX$63","v":1},{"$f":"IF($O109>0,VLOOKUP($N109,'Price List'!$A:$D,2,FALSE),\"\")","v":"Набор колен DN 65"},{"$nulls":3},{"$f":"IF($O109>0,VLOOKUP($N109,'Price List'!$A:$D,4,FALSE),\"\")","v":856},{"$f":"IFERROR(VLOOKUP($N109,'Price List'!$A:$D,1,FALSE),\"NON\")","v":111788},"OUI"]
[null,48,"Bochten DN100",{"$nulls":4},"Coudes DN100",{"$nulls":4},{"$f":"IFERROR(VLOOKUP($N110,'Price List'!$A:$D,3,FALSE),\"\")","v":"HC210"},{"$f":"IF(texte!$C$75=texte!$B$84,Language!B104,IF(texte!$C$75=texte!$B$81,Language!C104,IF(texte!$C$75=texte!$B$82,Language!D104,IF(texte!$C$75=texte!$B$83,Language!E104,IF(texte!$C$75=texte!$B$85,Language!F104,IF(texte!$C$75=texte!$B$86,Language!G104,IF(texte!$C$75=texte!$B$87,Language!H104,IF(texte!$C$75=texte!$B$88,Language!I104,Language!J104))))))))","v":111790},{"$f":"AY$63","v":0},{"$f":"IF($O110>0,VLOOKUP($N110,'Price List'!$A:$D,2,FALSE),\"\")","v":""},{"$nulls":3},{"$f":"IF($O110>0,VLOOKUP($N110,'Price List'!$A:$D,4,FALSE),\"\")","v":""},{"$f":"IFERROR(VLOOKUP($N110,'Price List'!$A:$D,1,FALSE),\"NON\")","v":111790},"OUI",{"$nulls":18},{"$f":"$N$109","v":111788},{"$f":"IFERROR(VLOOKUP($AO110,'Price List'!$A:$B,2,FALSE),\"\")","v":"Набор колен DN 65"},111788,{"$f":"IFERROR(VLOOKUP($AQ110,'Price List'!$A:$D,3,FALSE),\"\")","v":"HC209"},{"$f":"IFERROR(VLOOKUP($AQ110,'Price List'!$A:$D,4,FALSE),\"\")","v":856}]
[null,49,"Gasfilter verlengpijp DN50",{"$nulls":4},"Rallonge pour filtre gaz DN50",{"$nulls":4},{"$f":"IFERROR(VLOOKUP($N111,'Price List'!$A:$D,3,FALSE),\"\")","v":"HC211"},{"$f":"IF(texte!$C$75=texte!$B$84,Language!B105,IF(texte!$C$75=texte!$B$81,Language!C105,IF(texte!$C$75=texte!$B$82,Language!D105,IF(texte!$C$75=texte!$B$83,Language!E105,IF(texte!$C$75=texte!$B$85,Language!F105,IF(texte!$C$75=texte!$B$86,Language!G105,IF(texte!$C$75=texte!$B$87,Language!H105,IF(texte!$C$75=texte!$B$88,Language!I105,IF(texte!$C$75=texte!$B$89,Language!J105,Language!K105)))))))))","v":111805},{"$f":"IF($N$66=texte!$B$84,0,AZ$63)","v":1},{"$f":"IF($O111>0,VLOOKUP($N111,'Price List'!$A:$D,2,FALSE),\"\")","v":"Труба для газового фильтра DN 50"},{"$nulls":3},{"$f":"IF($O111>0,VLOOKUP($N111,'Price List'!$A:$D,4,FALSE),\"\")","v":343},{"$f":"IFERROR(VLOOKUP($N111,'Price List'!$A:$D,1,FALSE),\"NON\")","v":111805},"OUI",{"$nulls":18},{"$f":"$N$110","v":111790},{"$f":"IFERROR(VLOOKUP($AO111,'Price List'!$A:$B,2,FALSE),\"\")","v":"Набор колен DN 100"},111790,{"$f":"IFERROR(VLOOKUP($AQ111,'Price List'!$A:$D,3,FALSE),\"\")","v":"HC210"},{"$f":"IFERROR(VLOOKUP($AQ111,'Price List'!$A:$D,4,FALSE),\"\")","v":1214}]
[null,50,"Gasfilter verlengpijp DN65",{"$nulls":4},"Rallonge pour filtre gaz DN65",{"$nulls":4},{"$f":"IFERROR(VLOOKUP($N112,'Price List'!$A:$D,3,FALSE),\"\")","v":"HC212"},{"$f":"IF(texte!$C$75=texte!$B$84,Language!B106,IF(texte!$C$75=texte!$B$81,Language!C106,IF(texte!$C$75=texte!$B$82,Language!D106,IF(texte!$C$75=texte!$B$83,Language!E106,IF(texte!$C$75=texte!$B$85,Language!F106,IF(texte!$C$75=texte!$B$86,Language!G106,IF(texte!$C$75=texte!$B$87,Language!H106,IF(texte!$C$75=texte!$B$88,Language!I106,IF(texte!$C$75=texte!$B$89,Language!J106,Language!K106)))))))))","v":111806},{"$f":"IF($N$66=texte!$B$84,0,BA$63)","v":0},{"$f":"IF($O112>0,VLOOKUP($N112,'Price List'!$A:$D,2,FALSE),\"\")","v":""},{"$nulls":3},{"$f":"IF($O112>0,VLOOKUP($N112,'Price List'!$A:$D,4,FALSE),\"\")","v":""},{"$f":"IFERROR(VLOOKUP($N112,'Price List'!$A:$D,1,FALSE),\"NON\")","v":111806},"OUI",{"$nulls":18},{"$f":"$N$111","v":111805},{"$f":"IFERROR(VLOOKUP($AO112,'Price List'!$A:$B,2,FALSE),\"\")","v":"Труба для газового фильтра DN 50"},111805,{"$f":"IFERROR(VLOOKUP($AQ112,'Price List'!$A:$D,3,FALSE),\"\")","v":"HC211"},{"$f":"IFERROR(VLOOKUP($AQ112,'Price List'!$A:$D,4,FALSE),\"\")","v":343}]
[null,51,"Isolatiedelen verzamelleiding Pro",{"$nulls":4},"Isolation collecteur MCA 45/115",{"$nulls":4},{"$f":"IFERROR(VLOOKUP($N113,'Price List'!$A:$D,3,FALSE),\"\")","v":"HC213"},{"$f":"IF(texte!$C$75=texte!$B$84,Language!B107,IF(texte!$C$75=texte!$B$81,Language!C107,IF(texte!$C$75=texte!$B$82,Language!D107,IF(texte!$C$75=texte!$B$83,Language!E107,IF(texte!$C$75=texte!$B$85,Language!F107,IF(texte!$C$75=texte!$B$86,Language!G107,IF(texte!$C$75=texte!$B$87,Language!H107,IF(texte!$C$75=texte!$B$88,Language!I107,Language!J107))))))))","v":111069},{"$f":"BB$63","v":2},{"$f":"IF($O113>0,VLOOKUP($N113,'Price List'!$A:$D,2,FALSE),\"\")","v":"Изоляция для коллектора"},{"$nulls":3},{"$f":"IF($O113>0,VLOOKUP($N113,'Price List'!$A:$D,4,FALSE),\"\")","v":114},{"$f":"IFERROR(VLOOKUP($N113,'Price List'!$A:$D,1,FALSE),\"NON\")","v":111069},"OUI",{"$nulls":18},{"$f":"$N$112","v":111806},{"$f":"IFERROR(VLOOKUP($AO113,'Price List'!$A:$B,2,FALSE),\"\")","v":"Труба для газового фильтра DN 65"},111806,{"$f":"IFERROR(VLOOKUP($AQ113,'Price List'!$A:$D,3,FALSE),\"\")","v":"HC212"},{"$f":"IFERROR(VLOOKUP($AQ113,'Price List'!$A:$D,4,FALSE),\"\")","v":371}]
[null,52,"Isolatiedelen verzamelleiding Ace",{"$nulls":4},"Isolation collecteur MCA 160",{"$nulls":4},{"$f":"IFERROR(VLOOKUP($N114,'Price List'!$A:$D,3,FALSE),\"\")","v":"EH647"},{"$f":"IF(texte!$C$75=texte!$B$84,Language!B108,IF(texte!$C$75=texte!$B$81,Language!C108,IF(texte!$C$75=texte!$B$82,Language!D108,IF(texte!$C$75=texte!$B$83,Language!E108,IF(texte!$C$75=texte!$B$85,Language!F108,IF(texte!$C$75=texte!$B$86,Language!G108,IF(texte!$C$75=texte!$B$87,Language!H108,IF(texte!$C$75=texte!$B$88,Language!I108,Language!J108))))))))","v":7613401},{"$f":"BC$63","v":0},{"$f":"IF($O114>0,VLOOKUP($N114,'Price List'!$A:$D,2,FALSE),\"\")","v":""},{"$nulls":3},{"$f":"IF($O114>0,VLOOKUP($N114,'Price List'!$A:$D,4,FALSE),\"\")","v":""},{"$f":"IFERROR(VLOOKUP($N114,'Price List'!$A:$D,1,FALSE),\"NON\")","v":7613401},"OUI"]
[null,53,"Isolatiedelen ketelaansluitsets Pro",{"$nulls":4},"Isolation raccordement chaudière MCA 45/115",{"$nulls":4},{"$f":"IFERROR(VLOOKUP($N115,'Price List'!$A:$D,3,FALSE),\"\")","v":"HC252"},{"$f":"IF(texte!$C$75=texte!$B$84,Language!B109,IF(texte!$C$75=texte!$B$81,Language!C109,IF(texte!$C$75=texte!$B$82,Language!D109,IF(texte!$C$75=texte!$B$83,Language!E109,IF(texte!$C$75=texte!$B$85,Language!F109,IF(texte!$C$75=texte!$B$86,Language!G109,IF(texte!$C$75=texte!$B$87,Language!H109,IF(texte!$C$75=texte!$B$88,Language!I109,Language!J109))))))))","v":122441},{"$f":"BD$63","v":2},{"$f":"IF($O115>0,VLOOKUP($N115,'Price List'!$A:$D,2,FALSE),\"\")","v":"Теплоизоляция набора для подключения котла"},{"$nulls":3},{"$f":"IF($O115>0,VLOOKUP($N115,'Price List'!$A:$D,4,FALSE),\"\")","v":84},{"$f":"IFERROR(VLOOKUP($N115,'Price List'!$A:$D,1,FALSE),\"NON\")","v":122441},"OUI",{"$nulls":18},{"$f":"$N$113","v":111069},{"$f":"IFERROR(VLOOKUP($AO115,'Price List'!$A:$B,2,FALSE),\"\")","v":"Изоляция для коллектора"},111069,{"$f":"IFERROR(VLOOKUP($AQ115,'Price List'!$A:$D,3,FALSE),\"\")","v":"HC213"},{"$f":"IFERROR(VLOOKUP($AQ115,'Price List'!$A:$D,4,FALSE),\"\")","v":114}]
[null,54,"Isolatiedelen ketelaansluitsets Ace",{"$nulls":4},"Isolation raccordement chaudière MCA 160",{"$nulls":4},{"$f":"IFERROR(VLOOKUP($N116,'Price List'!$A:$D,3,FALSE),\"\")","v":"EH648"},{"$f":"IF(texte!$C$75=texte!$B$84,Language!B110,IF(texte!$C$75=texte!$B$81,Language!C110,IF(texte!$C$75=texte!$B$82,Language!D110,IF(texte!$C$75=texte!$B$83,Language!E110,IF(texte!$C$75=texte!$B$85,Language!F110,IF(texte!$C$75=texte!$B$86,Language!G110,IF(texte!$C$75=texte!$B$87,Language!H110,IF(texte!$C$75=texte!$B$88,Language!I110,Language!J110))))))))","v":7611804},{"$f":"BE$63","v":0},{"$f":"IF($O116>0,VLOOKUP($N116,'Price List'!$A:$D,2,FALSE),\"\")","v":""},{"$nulls":3},{"$f":"IF($O116>0,VLOOKUP($N116,'Price List'!$A:$D,4,FALSE),\"\")","v":""},{"$f":"IFERROR(VLOOKUP($N116,'Price List'!$A:$D,1,FALSE),\"NON\")","v":7611804},"OUI",{"$nulls":18},{"$f":"$N$114","v":7613401},{"$f":"IFERROR(VLOOKUP($AO116,'Price List'!$A:$B,2,FALSE),\"\")","v":"Теплоизоляция для коллектора (для МСА 160)"},7613401,{"$f":"IFERROR(VLOOKUP($AQ116,'Price List'!$A:$D,3,FALSE),\"\")","v":"EH647"},{"$f":"IFERROR(VLOOKUP($AQ116,'Price List'!$A:$D,4,FALSE),\"\")","v":97}]
[null,55,"Isolatie achterzijde vrijstaande opstelling Pro",{"$nulls":4},"Isolation Arrière pour MCA 45-115",{"$nulls":4},{"$f":"IFERROR(VLOOKUP($N117,'Price List'!$A:$D,3,FALSE),\"\")","v":"HC243"},{"$f":"IF(texte!$C$75=texte!$B$84,Language!B111,IF(texte!$C$75=texte!$B$81,Language!C111,IF(texte!$C$75=texte!$B$82,Language!D111,IF(texte!$C$75=texte!$B$83,Language!E111,IF(texte!$C$75=texte!$B$85,Language!F111,IF(texte!$C$75=texte!$B$86,Language!G111,IF(texte!$C$75=texte!$B$87,Language!H111,IF(texte!$C$75=texte!$B$88,Language!I111,Language!J111))))))))","v":123182},{"$f":"IF($N$66=texte!$B$84,0,BF$63)","v":0},{"$f":"IF($O117>0,VLOOKUP($N117,'Price List'!$A:$D,2,FALSE),\"\")","v":""},{"$nulls":3},{"$f":"IF($O117>0,VLOOKUP($N117,'Price List'!$A:$D,4,FALSE),\"\")","v":""},{"$f":"IFERROR(VLOOKUP($N117,'Price List'!$A:$D,1,FALSE),\"NON\")","v":123182},"OUI",{"$nulls":18},{"$f":"$N$115","v":122441},{"$f":"IFERROR(VLOOKUP($AO117,'Price List'!$A:$B,2,FALSE),\"\")","v":"Теплоизоляция набора для подключения котла"},122441,{"$f":"IFERROR(VLOOKUP($AQ117,'Price List'!$A:$D,3,FALSE),\"\")","v":"HC252"},{"$f":"IFERROR(VLOOKUP($AQ117,'Price List'!$A:$D,4,FALSE),\"\")","v":84}]
[null,56,"Isolatie achterzijde vrijstaande opstelling Ace",{"$nulls":4},"Plaque d'isolation arrière MCA 160",{"$nulls":4},{"$f":"IFERROR(VLOOKUP($N118,'Price List'!$A:$D,3,FALSE),\"\")","v":"EH649"},{"$f":"IF(texte!$C$75=texte!$B$84,Language!B112,IF(texte!$C$75=texte!$B$81,Language!C112,IF(texte!$C$75=texte!$B$82,Language!D112,IF(texte!$C$75=texte!$B$83,Language!E112,IF(texte!$C$75=texte!$B$85,Language!F112,IF(texte!$C$75=texte!$B$86,Language!G112,IF(texte!$C$75=texte!$B$87,Language!H112,IF(texte!$C$75=texte!$B$88,Language!I112,Language!J112))))))))","v":7631858},{"$f":"BG$63","v":0},{"$f":"IF($O118>0,VLOOKUP($N118,'Price List'!$A:$D,2,FALSE),\"\")","v":""},{"$nulls":3},{"$f":"IF($O118>0,VLOOKUP($N118,'Price List'!$A:$D,4,FALSE),\"\")","v":""},{"$f":"IFERROR(VLOOKUP($N118,'Price List'!$A:$D,1,FALSE),\"NON\")","v":7631858},"OUI",{"$nulls":18},{"$f":"$N$116","v":7611804},{"$f":"IFERROR(VLOOKUP($AO118,'Price List'!$A:$B,2,FALSE),\"\")","v":"Теплоизоляция набора для подключения котла"},7611804,{"$f":"IFERROR(VLOOKUP($AQ118,'Price List'!$A:$D,3,FALSE),\"\")","v":"EH648"},{"$f":"IFERROR(VLOOKUP($AQ118,'Price List'!$A:$D,4,FALSE),\"\")","v":85}]
[null,57,"Isolatieset open verdeler DN65+DN100",{"$nulls":4},"Isolation bouteille de découplage",{"$nulls":4},{"$f":"IFERROR(VLOOKUP($N119,'Price List'!$A:$D,3,FALSE),\"\")","v":"HC215"},{"$f":"IF(texte!$C$75=texte!$B$84,Language!B113,IF(texte!$C$75=texte!$B$81,Language!C113,IF(texte!$C$75=texte!$B$82,Language!D113,IF(texte!$C$75=texte!$B$83,Language!E113,IF(texte!$C$75=texte!$B$85,Language!F113,IF(texte!$C$75=texte!$B$86,Language!G113,IF(texte!$C$75=texte!$B$87,Language!H113,IF(texte!$C$75=texte!$B$88,Language!I113,Language!J113))))))))","v":111067},{"$f":"BH$63","v":0},{"$f":"IF($O119>0,VLOOKUP($N119,'Price List'!$A:$D,2,FALSE),\"\")","v":""},{"$nulls":3},{"$f":"IF($O119>0,VLOOKUP($N119,'Price List'!$A:$D,4,FALSE),\"\")","v":""},{"$f":"IFERROR(VLOOKUP($N119,'Price List'!$A:$D,1,FALSE),\"NON\")","v":111067},"OUI"]
[null,58,"Isolatie verloopstuk DN100 naar DN65 voor Open verdeler DN65",{"$nulls":4},"Isolation adaptateur DN65/DN100",{"$nulls":4},{"$f":"IFERROR(VLOOKUP($N120,'Price List'!$A:$D,3,FALSE),\"\")","v":"EH650"},{"$f":"IF(texte!$C$75=texte!$B$84,Language!B114,IF(texte!$C$75=texte!$B$81,Language!C114,IF(texte!$C$75=texte!$B$82,Language!D114,IF(texte!$C$75=texte!$B$83,Language!E114,IF(texte!$C$75=texte!$B$85,Language!F114,IF(texte!$C$75=texte!$B$86,Language!G114,IF(texte!$C$75=texte!$B$87,Language!H114,IF(texte!$C$75=texte!$B$88,Language!I114,Language!J114))))))))","v":7622201},{"$f":"BI$63","v":0},{"$f":"IF($O120>0,VLOOKUP($N120,'Price List'!$A:$D,2,FALSE),\"\")","v":""},{"$nulls":3},{"$f":"IF($O120>0,VLOOKUP($N120,'Price List'!$A:$D,4,FALSE),\"\")","v":""},{"$f":"IFERROR(VLOOKUP($N120,'Price List'!$A:$D,1,FALSE),\"NON\")","v":7622201},"OUI",{"$nulls":18},{"$f":"$N$118","v":7631858},{"$f":"IFERROR(VLOOKUP($AO120,'Price List'!$A:$B,2,FALSE),\"\")","v":"Задняя теплоизоляция набора для подключения котла"},7631858,{"$f":"IFERROR(VLOOKUP($AQ120,'Price List'!$A:$D,3,FALSE),\"\")","v":"EH649"},{"$f":"IFERROR(VLOOKUP($AQ120,'Price List'!$A:$D,4,FALSE),\"\")","v":78}]
[null,59,"Isolatieset open verdeler DN65 (tot 350 kW)",{"$nulls":4},"Isolation bouteille de découlage (jusqu'à 350 kW)",{"$nulls":4},{"$f":"IFERROR(VLOOKUP($N121,'Price List'!$A:$D,3,FALSE),\"\")","v":"HC224"},{"$f":"IF(texte!$C$75=texte!$B$84,Language!B115,IF(texte!$C$75=texte!$B$81,Language!C115,IF(texte!$C$75=texte!$B$82,Language!D115,IF(texte!$C$75=texte!$B$83,Language!E115,IF(texte!$C$75=texte!$B$85,Language!F115,IF(texte!$C$75=texte!$B$86,Language!G115,IF(texte!$C$75=texte!$B$87,Language!H115,IF(texte!$C$75=texte!$B$88,Language!I115,Language!J115))))))))","v":115269},{"$f":"BJ$63","v":1},{"$f":"IF($O121>0,VLOOKUP($N121,'Price List'!$A:$D,2,FALSE),\"\")","v":"Изоляция для гидравлической стрелки (<350 кВт)"},{"$nulls":3},{"$f":"IF($O121>0,VLOOKUP($N121,'Price List'!$A:$D,4,FALSE),\"\")","v":46},{"$f":"IFERROR(VLOOKUP($N121,'Price List'!$A:$D,1,FALSE),\"NON\")","v":115269},"OUI",{"$nulls":18},{"$f":"$N$119","v":111067},{"$f":"IFERROR(VLOOKUP($AO121,'Price List'!$A:$B,2,FALSE),\"\")","v":"Изоляция для гидравлической стрелки (>350 кВт)"},111067,{"$f":"IFERROR(VLOOKUP($AQ121,'Price List'!$A:$D,3,FALSE),\"\")","v":"HC215"},{"$f":"IFERROR(VLOOKUP($AQ121,'Price List'!$A:$D,4,FALSE),\"\")","v":314}]
[null,60,"Isolatie bochtensets",{"$nulls":4},"Isolation coudes 90°",{"$nulls":4},{"$f":"IFERROR(VLOOKUP($N122,'Price List'!$A:$D,3,FALSE),\"\")","v":"HC216"},{"$f":"IF(texte!$C$75=texte!$B$84,Language!B116,IF(texte!$C$75=texte!$B$81,Language!C116,IF(texte!$C$75=texte!$B$82,Language!D116,IF(texte!$C$75=texte!$B$83,Language!E116,IF(texte!$C$75=texte!$B$85,Language!F116,IF(texte!$C$75=texte!$B$86,Language!G116,IF(texte!$C$75=texte!$B$87,Language!H116,IF(texte!$C$75=texte!$B$88,Language!I116,Language!J116))))))))","v":111167},{"$f":"BK$63","v":1},{"$f":"IF($O122>0,VLOOKUP($N122,'Price List'!$A:$D,2,FALSE),\"\")","v":"Изоляция для колена 90°"},{"$nulls":3},{"$f":"IF($O122>0,VLOOKUP($N122,'Price List'!$A:$D,4,FALSE),\"\")","v":132},{"$f":"IFERROR(VLOOKUP($N122,'Price List'!$A:$D,1,FALSE),\"NON\")","v":111167},"OUI",{"$nulls":18},{"$f":"$N$120","v":7622201},{"$f":"IFERROR(VLOOKUP($AO122,'Price List'!$A:$B,2,FALSE),\"\")","v":"Теплоизоляция фланцевого переходника DN 65-DN 100"},7622201,{"$f":"IFERROR(VLOOKUP($AQ122,'Price List'!$A:$D,3,FALSE),\"\")","v":"EH650"},{"$f":"IFERROR(VLOOKUP($AQ122,'Price List'!$A:$D,4,FALSE),\"\")","v":59}]
[null,61,"Stelpoot",{"$nulls":4},"Pieds réglables",{"$nulls":4},{"$f":"IFERROR(VLOOKUP($N123,'Price List'!$A:$D,3,FALSE),\"\")","v":"HC219"},{"$f":"IF(texte!$C$75=texte!$B$84,Language!B117,IF(texte!$C$75=texte!$B$81,Language!C117,IF(texte!$C$75=texte!$B$82,Language!D117,IF(texte!$C$75=texte!$B$83,Language!E117,IF(texte!$C$75=texte!$B$85,Language!F117,IF(texte!$C$75=texte!$B$86,Language!G117,IF(texte!$C$75=texte!$B$87,Language!H117,IF(texte!$C$75=texte!$B$88,Language!I117,Language!J117))))))))","v":111807},{"$f":"BL$63","v":0},{"$f":"IF($O123>0,VLOOKUP($N123,'Price List'!$A:$D,2,FALSE),\"\")","v":""},{"$nulls":3},{"$f":"IF($O123>0,VLOOKUP($N123,'Price List'!$A:$D,4,FALSE),\"\")","v":""},{"$f":"IFERROR(VLOOKUP($N123,'Price List'!$A:$D,1,FALSE),\"NON\")","v":111807},"OUI",{"$nulls":18},{"$f":"$N$121","v":115269},{"$f":"IFERROR(VLOOKUP($AO123,'Price List'!$A:$B,2,FALSE),\"\")","v":"Изоляция для гидравлической стрелки (<350 кВт)"},115269,{"$f":"IFERROR(VLOOKUP($AQ123,'Price List'!$A:$D,3,FALSE),\"\")","v":"HC224"},{"$f":"IFERROR(VLOOKUP($AQ123,'Price List'!$A:$D,4,FALSE),\"\")","v":46}]
[null,62,"Cascaderegelaar Rematic MC",{"$nulls":9},{"$f":"IFERROR(VLOOKUP($N124,'Price List'!$A:$D,3,FALSE),\"\")","v":""},{"$f":"IF(texte!$C$75=texte!$B$84,Language!B118,IF(texte!$C$75=texte!$B$81,Language!C118,IF(texte!$C$75=texte!$B$82,Language!D118,IF(texte!$C$75=texte!$B$83,Language!E118,IF(texte!$C$75=texte!$B$85,Language!F118,IF(texte!$C$75=texte!$B$86,Language!G118,IF(texte!$C$75=texte!$B$87,Language!H118,IF(texte!$C$75=texte!$B$88,Language!I118,Language!#REF!))))))))","v":"S53990"},null,{"$f":"IF($O124>0,VLOOKUP($N124,'Price List'!$A:$D,2,FALSE),\"\")","v":""},{"$nulls":3},{"$f":"IF($O124>0,VLOOKUP($N124,'Price List'!$A:$D,4,FALSE),\"\")","v":""},{"$f":"IFERROR(VLOOKUP($N124,'Price List'!$A:$D,1,FALSE),\"NON\")","v":"NON"},"NON",{"$nulls":18},{"$f":"$N$122","v":111167},{"$f":"IFERROR(VLOOKUP($AO124,'Price List'!$A:$B,2,FALSE),\"\")","v":"Изоляция для колена 90°"},111167,{"$f":"IFERROR(VLOOKUP($AQ124,'Price List'!$A:$D,3,FALSE),\"\")","v":"HC216"},{"$f":"IFERROR(VLOOKUP($AQ124,'Price List'!$A:$D,4,FALSE),\"\")","v":132}]
[null,63,"Cascaderegelaar Celcia MC4 ",{"$nulls":9},{"$f":"IFERROR(VLOOKUP($N125,'Price List'!$A:$D,3,FALSE),\"\")","v":""},{"$f":"IF(texte!$C$75=texte!$B$84,Language!B119,IF(texte!$C$75=texte!$B$81,Language!C119,IF(texte!$C$75=texte!$B$82,Language!D119,IF(texte!$C$75=texte!$B$83,Language!E119,IF(texte!$C$75=texte!$B$85,Language!F119,IF(texte!$C$75=texte!$B$86,Language!G119,IF(texte!$C$75=texte!$B$87,Language!H119,IF(texte!$C$75=texte!$B$88,Language!I119,Language!#REF!))))))))","v":"S62518"},null,{"$f":"IF($O125>0,VLOOKUP($N125,'Price List'!$A:$D,2,FALSE),\"\")","v":""},{"$nulls":3},{"$f":"IF($O125>0,VLOOKUP($N125,'Price List'!$A:$D,4,FALSE),\"\")","v":""},{"$f":"IFERROR(VLOOKUP($N125,'Price List'!$A:$D,1,FALSE),\"NON\")","v":"NON"},"NON",{"$nulls":18},{"$f":"$N$123","v":111807},{"$f":"IFERROR(VLOOKUP($AO125,'Price List'!$A:$B,2,FALSE),\"\")","v":"Регулируемые ножки"},111807,{"$f":"IFERROR(VLOOKUP($AQ125,'Price List'!$A:$D,3,FALSE),\"\")","v":"HC219"},{"$f":"IFERROR(VLOOKUP($AQ125,'Price List'!$A:$D,4,FALSE),\"\")","v":6}]
[null,64,"Aansluitflenzen DN65 (w) / DN50 (g)",{"$nulls":4},"Jeu de contre-brides à souder DN65",{"$nulls":4},{"$f":"IFERROR(VLOOKUP($N126,'Price List'!$A:$D,3,FALSE),\"\")","v":"HC217"},{"$f":"IF(texte!$C$75=texte!$B$84,Language!B120,IF(texte!$C$75=texte!$B$81,Language!C120,IF(texte!$C$75=texte!$B$82,Language!D120,IF(texte!$C$75=texte!$B$83,Language!E120,IF(texte!$C$75=texte!$B$85,Language!F120,IF(texte!$C$75=texte!$B$86,Language!G120,IF(texte!$C$75=texte!$B$87,Language!H120,IF(texte!$C$75=texte!$B$88,Language!I120,Language!J120))))))))","v":112632},{"$f":"BO$63","v":1},{"$f":"IF($O126>0,VLOOKUP($N126,'Price List'!$A:$D,2,FALSE),\"\")","v":"Набор контрфланцев под сварку DN 65"},{"$nulls":3},{"$f":"IF($O126>0,VLOOKUP($N126,'Price List'!$A:$D,4,FALSE),\"\")","v":196},{"$f":"IFERROR(VLOOKUP($N126,'Price List'!$A:$D,1,FALSE),\"NON\")","v":112632},"OUI"]
[null,65,"Aansluitflenzen DN100 (w) / DN 65 (g)",{"$nulls":4},"Jeu de contre-brides à souder DN100",{"$nulls":4},{"$f":"IFERROR(VLOOKUP($N127,'Price List'!$A:$D,3,FALSE),\"\")","v":"HC218"},{"$f":"IF(texte!$C$75=texte!$B$84,Language!B121,IF(texte!$C$75=texte!$B$81,Language!C121,IF(texte!$C$75=texte!$B$82,Language!D121,IF(texte!$C$75=texte!$B$83,Language!E121,IF(texte!$C$75=texte!$B$85,Language!F121,IF(texte!$C$75=texte!$B$86,Language!G121,IF(texte!$C$75=texte!$B$87,Language!H121,IF(texte!$C$75=texte!$B$88,Language!I121,Language!J121))))))))","v":112633},{"$f":"BP$63","v":0},{"$f":"IF($O127>0,VLOOKUP($N127,'Price List'!$A:$D,2,FALSE),\"\")","v":""},{"$nulls":3},{"$f":"IF($O127>0,VLOOKUP($N127,'Price List'!$A:$D,4,FALSE),\"\")","v":""},{"$f":"IFERROR(VLOOKUP($N127,'Price List'!$A:$D,1,FALSE),\"NON\")","v":112633},"OUI",{"$nulls":18},{"$f":"$N$126","v":112632},{"$f":"IFERROR(VLOOKUP($AO127,'Price List'!$A:$B,2,FALSE),\"\")","v":"Набор контрфланцев под сварку DN 65"},112632,{"$f":"IFERROR(VLOOKUP($AQ127,'Price List'!$A:$D,3,FALSE),\"\")","v":"HC217"},{"$f":"IFERROR(VLOOKUP($AQ127,'Price List'!$A:$D,4,FALSE),\"\")","v":196}]
[null,66,"Montageplaat regelaar ",{"$nulls":9},{"$f":"IFERROR(VLOOKUP($N128,'Price List'!$A:$D,3,FALSE),\"\")","v":""},{"$f":"IF(texte!$C$75=texte!$B$84,Language!B122,IF(texte!$C$75=texte!$B$81,Language!C122,IF(texte!$C$75=texte!$B$82,Language!D122,IF(texte!$C$75=texte!$B$83,Language!E122,IF(texte!$C$75=texte!$B$85,Language!F122,IF(texte!$C$75=texte!$B$86,Language!G122,IF(texte!$C$75=texte!$B$87,Language!H122,IF(texte!$C$75=texte!$B$88,Language!I122,Language!#REF!))))))))","v":112829},null,{"$f":"IF($O128>0,VLOOKUP($N128,'Price List'!$A:$D,2,FALSE),\"\")","v":""},{"$nulls":3},{"$f":"IF($O128>0,VLOOKUP($N128,'Price List'!$A:$D,4,FALSE),\"\")","v":""},{"$f":"IFERROR(VLOOKUP($N128,'Price List'!$A:$D,1,FALSE),\"NON\")","v":"NON"},"NON",{"$nulls":18},{"$f":"$N$127","v":112633},{"$f":"IFERROR(VLOOKUP($AO128,'Price List'!$A:$B,2,FALSE),\"\")","v":"Набор контрфланцев под сварку DN 100"},112633,{"$f":"IFERROR(VLOOKUP($AQ128,'Price List'!$A:$D,3,FALSE),\"\")","v":"HC218"},{"$f":"IFERROR(VLOOKUP($AQ128,'Price List'!$A:$D,4,FALSE),\"\")","v":232}]
[null,67,"Montageplaat regelaar Ace",{"$nulls":9},{"$f":"IFERROR(VLOOKUP($N129,'Price List'!$A:$D,3,FALSE),\"\")","v":""},{"$f":"IF(texte!$C$75=texte!$B$84,Language!B123,IF(texte!$C$75=texte!$B$81,Language!C123,IF(texte!$C$75=texte!$B$82,Language!D123,IF(texte!$C$75=texte!$B$83,Language!E123,IF(texte!$C$75=texte!$B$85,Language!F123,IF(texte!$C$75=texte!$B$86,Language!G123,IF(texte!$C$75=texte!$B$87,Language!H123,IF(texte!$C$75=texte!$B$88,Language!I123,Language!#REF!))))))))","v":7641015},null,{"$f":"IF($O129>0,VLOOKUP($N129,'Price List'!$A:$D,2,FALSE),\"\")","v":""},{"$nulls":3},{"$f":"IF($O129>0,VLOOKUP($N129,'Price List'!$A:$D,4,FALSE),\"\")","v":""},{"$f":"IFERROR(VLOOKUP($N129,'Price List'!$A:$D,1,FALSE),\"NON\")","v":"NON"},"NON",{"$nulls":18},{"$f":"$N$139","v":7638518},{"$f":"IFERROR(VLOOKUP($AO129,'Price List'!$A:$B,2,FALSE),\"\")","v":"Набор контрфланцев под сварку DN 65"},7638518,{"$f":"IFERROR(VLOOKUP($AQ129,'Price List'!$A:$D,3,FALSE),\"\")","v":"EH669"},{"$f":"IFERROR(VLOOKUP($AQ129,'Price List'!$A:$D,4,FALSE),\"\")","v":142}]
[null,68,"Montageplaat wandcontactdoos Pro",{"$nulls":9},{"$f":"IFERROR(VLOOKUP($N130,'Price List'!$A:$D,3,FALSE),\"\")","v":""},{"$f":"IF(texte!$C$75=texte!$B$84,Language!B124,IF(texte!$C$75=texte!$B$81,Language!C124,IF(texte!$C$75=texte!$B$82,Language!D124,IF(texte!$C$75=texte!$B$83,Language!E124,IF(texte!$C$75=texte!$B$85,Language!F124,IF(texte!$C$75=texte!$B$86,Language!G124,IF(texte!$C$75=texte!$B$87,Language!H124,IF(texte!$C$75=texte!$B$88,Language!I124,Language!#REF!))))))))","v":113076},null,{"$f":"IF($O130>0,VLOOKUP($N130,'Price List'!$A:$D,2,FALSE),\"\")","v":""},{"$nulls":3},{"$f":"IF($O130>0,VLOOKUP($N130,'Price List'!$A:$D,4,FALSE),\"\")","v":""},{"$f":"IFERROR(VLOOKUP($N130,'Price List'!$A:$D,1,FALSE),\"NON\")","v":"NON"},"NON",{"$nulls":18},{"$f":"$N$141","v":"S101614"},{"$f":"IFERROR(VLOOKUP($AO130,'Price List'!$A:$B,2,FALSE),\"\")","v":"Электронный насос для AMC 45-65 (класс А)"},"S101614",{"$f":"IFERROR(VLOOKUP($AQ130,'Price List'!$A:$D,3,FALSE),\"\")","v":0},{"$f":"IFERROR(VLOOKUP($AQ130,'Price List'!$A:$D,4,FALSE),\"\")","v":325}]
[null,69,"Montageplaat wandcontactdoos Ace",{"$nulls":9},{"$f":"IFERROR(VLOOKUP($N131,'Price List'!$A:$D,3,FALSE),\"\")","v":""},{"$f":"IF(texte!$C$75=texte!$B$84,Language!B125,IF(texte!$C$75=texte!$B$81,Language!C125,IF(texte!$C$75=texte!$B$82,Language!D125,IF(texte!$C$75=texte!$B$83,Language!E125,IF(texte!$C$75=texte!$B$85,Language!F125,IF(texte!$C$75=texte!$B$86,Language!G125,IF(texte!$C$75=texte!$B$87,Language!H125,IF(texte!$C$75=texte!$B$88,Language!I125,Language!#REF!))))))))","v":7636634},null,{"$f":"IF($O131>0,VLOOKUP($N131,'Price List'!$A:$D,2,FALSE),\"\")","v":""},{"$nulls":3},{"$f":"IF($O131>0,VLOOKUP($N131,'Price List'!$A:$D,4,FALSE),\"\")","v":""},{"$f":"IFERROR(VLOOKUP($N131,'Price List'!$A:$D,1,FALSE),\"NON\")","v":"NON"},"NON"]
[null,70,"Temperatuurvoeler incl. dompelbuis",{"$nulls":9},{"$f":"IFERROR(VLOOKUP($N132,'Price List'!$A:$D,3,FALSE),\"\")","v":""},{"$f":"IF(texte!$C$75=texte!$B$84,Language!B126,IF(texte!$C$75=texte!$B$81,Language!C126,IF(texte!$C$75=texte!$B$82,Language!D126,IF(texte!$C$75=texte!$B$83,Language!E126,IF(texte!$C$75=texte!$B$85,Language!F126,IF(texte!$C$75=texte!$B$86,Language!G126,IF(texte!$C$75=texte!$B$87,Language!H126,IF(texte!$C$75=texte!$B$88,Language!I126,Language!#REF!))))))))","v":113064},null,{"$f":"IF($O132>0,VLOOKUP($N132,'Price List'!$A:$D,2,FALSE),\"\")","v":""},{"$nulls":3},{"$f":"IF($O132>0,VLOOKUP($N132,'Price List'!$A:$D,4,FALSE),\"\")","v":""},{"$f":"IFERROR(VLOOKUP($N132,'Price List'!$A:$D,1,FALSE),\"NON\")","v":"NON"},"NON",{"$nulls":18},{"$f":"$N$143","v":7663618},{"$f":"IFERROR(VLOOKUP($AO132,'Price List'!$A:$B,2,FALSE),\"\")","v":"Кабель S-BUS длиной 1,5 м"},7663618,{"$f":"IFERROR(VLOOKUP($AQ132,'Price List'!$A:$D,3,FALSE),\"\")","v":"AD308"},{"$f":"IFERROR(VLOOKUP($AQ132,'Price List'!$A:$D,4,FALSE),\"\")","v":114}]
[null,71,"Temperatuurvoeler incl. dompelbuis",{"$nulls":9},{"$f":"IFERROR(VLOOKUP($N133,'Price List'!$A:$D,3,FALSE),\"\")","v":""},{"$f":"IF(texte!$C$75=texte!$B$84,Language!B127,IF(texte!$C$75=texte!$B$81,Language!C127,IF(texte!$C$75=texte!$B$82,Language!D127,IF(texte!$C$75=texte!$B$83,Language!E127,IF(texte!$C$75=texte!$B$85,Language!F127,IF(texte!$C$75=texte!$B$86,Language!G127,IF(texte!$C$75=texte!$B$87,Language!H127,IF(texte!$C$75=texte!$B$88,Language!I127,Language!#REF!))))))))","v":54663},null,{"$f":"IF($O133>0,VLOOKUP($N133,'Price List'!$A:$D,2,FALSE),\"\")","v":""},{"$nulls":3},{"$f":"IF($O133>0,VLOOKUP($N133,'Price List'!$A:$D,4,FALSE),\"\")","v":""},{"$f":"IFERROR(VLOOKUP($N133,'Price List'!$A:$D,1,FALSE),\"NON\")","v":"NON"},{"$f":"IF(U133<>\"NON\",\"OUI\",U133)","v":"NON"}]
[null,72,"Regelaar iSense",{"$nulls":9},{"$f":"IFERROR(VLOOKUP($N134,'Price List'!$A:$D,3,FALSE),\"\")","v":""},{"$f":"IF(texte!$C$75=texte!$B$84,Language!B128,IF(texte!$C$75=texte!$B$81,Language!C128,IF(texte!$C$75=texte!$B$82,Language!D128,IF(texte!$C$75=texte!$B$83,Language!E128,IF(texte!$C$75=texte!$B$85,Language!F128,IF(texte!$C$75=texte!$B$86,Language!G128,IF(texte!$C$75=texte!$B$87,Language!H128,IF(texte!$C$75=texte!$B$88,Language!I128,Language!#REF!))))))))","v":"S101679"},null,{"$f":"IF($O134>0,VLOOKUP($N134,'Price List'!$A:$D,2,FALSE),\"\")","v":""},{"$nulls":3},{"$f":"IF($O134>0,VLOOKUP($N134,'Price List'!$A:$D,4,FALSE),\"\")","v":""},{"$f":"IFERROR(VLOOKUP($N134,'Price List'!$A:$D,1,FALSE),\"NON\")","v":"NON"},"NON"]
[null,73,"Elektronica uitbreidingsbox Pro",{"$nulls":9},{"$f":"IFERROR(VLOOKUP($N135,'Price List'!$A:$D,3,FALSE),\"\")","v":""},{"$f":"IF(texte!$C$75=texte!$B$84,Language!B129,IF(texte!$C$75=texte!$B$81,Language!C129,IF(texte!$C$75=texte!$B$82,Language!D129,IF(texte!$C$75=texte!$B$83,Language!E129,IF(texte!$C$75=texte!$B$85,Language!F129,IF(texte!$C$75=texte!$B$86,Language!G129,IF(texte!$C$75=texte!$B$87,Language!H129,IF(texte!$C$75=texte!$B$88,Language!I129,Language!#REF!))))))))","v":"S101651"},null,{"$f":"IF($O135>0,VLOOKUP($N135,'Price List'!$A:$D,2,FALSE),\"\")","v":""},{"$nulls":3},{"$f":"IF($O135>0,VLOOKUP($N135,'Price List'!$A:$D,4,FALSE),\"\")","v":""},{"$f":"IFERROR(VLOOKUP($N135,'Price List'!$A:$D,1,FALSE),\"NON\")","v":"NON"},"NON"]
[null,74,"SCU-X02 print tbv aansturing driewegklep",{"$nulls":9},{"$f":"IFERROR(VLOOKUP($N136,'Price List'!$A:$D,3,FALSE),\"\")","v":""},{"$f":"IF(texte!$C$75=texte!$B$84,Language!B130,IF(texte!$C$75=texte!$B$81,Language!C130,IF(texte!$C$75=texte!$B$82,Language!D130,IF(texte!$C$75=texte!$B$83,Language!E130,IF(texte!$C$75=texte!$B$85,Language!F130,IF(texte!$C$75=texte!$B$86,Language!G130,IF(texte!$C$75=texte!$B$87,Language!H130,IF(texte!$C$75=texte!$B$88,Language!I130,Language!#REF!))))))))","v":"S101468"},null,{"$f":"IF($O136>0,VLOOKUP($N136,'Price List'!$A:$D,2,FALSE),\"\")","v":""},{"$nulls":3},{"$f":"IF($O136>0,VLOOKUP($N136,'Price List'!$A:$D,4,FALSE),\"\")","v":""},{"$f":"IFERROR(VLOOKUP($N136,'Price List'!$A:$D,1,FALSE),\"NON\")","v":"NON"},"NON"]
[null,75,"IF-01 Print voor analoge regeling (0-10 volt)",{"$nulls":9},{"$f":"IFERROR(VLOOKUP($N137,'Price List'!$A:$D,3,FALSE),\"\")","v":""},{"$f":"IF(texte!$C$75=texte!$B$84,Language!B131,IF(texte!$C$75=texte!$B$81,Language!C131,IF(texte!$C$75=texte!$B$82,Language!D131,IF(texte!$C$75=texte!$B$83,Language!E131,IF(texte!$C$75=texte!$B$85,Language!F131,IF(texte!$C$75=texte!$B$86,Language!G131,IF(texte!$C$75=texte!$B$87,Language!H131,IF(texte!$C$75=texte!$B$88,Language!I131,Language!#REF!))))))))","v":"S100763"},null,{"$f":"IF($O137>0,VLOOKUP($N137,'Price List'!$A:$D,2,FALSE),\"\")","v":""},{"$nulls":3},{"$f":"IF($O137>0,VLOOKUP($N137,'Price List'!$A:$D,4,FALSE),\"\")","v":""},{"$f":"IFERROR(VLOOKUP($N137,'Price List'!$A:$D,1,FALSE),\"NON\")","v":"NON"},"NON"]
[null,76,"IF-01 Box (0-10 volt) bij toepassing Celcia MC4",{"$nulls":9},{"$f":"IFERROR(VLOOKUP($N138,'Price List'!$A:$D,3,FALSE),\"\")","v":""},{"$f":"IF(texte!$C$75=texte!$B$84,Language!B132,IF(texte!$C$75=texte!$B$81,Language!C132,IF(texte!$C$75=texte!$B$82,Language!D132,IF(texte!$C$75=texte!$B$83,Language!E132,IF(texte!$C$75=texte!$B$85,Language!F132,IF(texte!$C$75=texte!$B$86,Language!G132,IF(texte!$C$75=texte!$B$87,Language!H132,IF(texte!$C$75=texte!$B$88,Language!I132,Language!#REF!))))))))","v":"S100865"},null,{"$f":"IF($O138>0,VLOOKUP($N138,'Price List'!$A:$D,2,FALSE),\"\")","v":""},{"$nulls":3},{"$f":"IF($O138>0,VLOOKUP($N138,'Price List'!$A:$D,4,FALSE),\"\")","v":""},{"$f":"IFERROR(VLOOKUP($N138,'Price List'!$A:$D,1,FALSE),\"NON\")","v":"NON"},"NON"]
[null,77,"Aansluitflenzen DN65 (w+g)",{"$nulls":4},"Jeu de contre brides à souder DN65",{"$nulls":4},{"$f":"IFERROR(VLOOKUP($N139,'Price List'!$A:$D,3,FALSE),\"\")","v":"EH669"},{"$f":"IF(texte!$C$75=texte!$B$84,Language!B133,IF(texte!$C$75=texte!$B$81,Language!C133,IF(texte!$C$75=texte!$B$82,Language!D133,IF(texte!$C$75=texte!$B$83,Language!E133,IF(texte!$C$75=texte!$B$85,Language!F133,IF(texte!$C$75=texte!$B$86,Language!G133,IF(texte!$C$75=texte!$B$87,Language!H133,IF(texte!$C$75=texte!$B$88,Language!I133,Language!J133))))))))","v":7638518},{"$f":"CB$63","v":0},{"$f":"IF($O139>0,VLOOKUP($N139,'Price List'!$A:$D,2,FALSE),\"\")","v":""},{"$nulls":3},{"$f":"IF($O139>0,VLOOKUP($N139,'Price List'!$A:$D,4,FALSE),\"\")","v":""},{"$f":"IFERROR(VLOOKUP($N139,'Price List'!$A:$D,1,FALSE),\"NON\")","v":7638518},"OUI"]
[null,78,"SCU-S02 print tbv aansturing warmwaterpomp",{"$nulls":9},{"$f":"IFERROR(VLOOKUP($N140,'Price List'!$A:$D,3,FALSE),\"\")","v":""},{"$f":"IF(texte!$C$75=texte!$B$84,Language!B134,IF(texte!$C$75=texte!$B$81,Language!C134,IF(texte!$C$75=texte!$B$82,Language!D134,IF(texte!$C$75=texte!$B$83,Language!E134,IF(texte!$C$75=texte!$B$85,Language!F134,IF(texte!$C$75=texte!$B$86,Language!G134,IF(texte!$C$75=texte!$B$87,Language!H134,IF(texte!$C$75=texte!$B$88,Language!I134,Language!#REF!))))))))","v":"S100764"},null,{"$f":"IF($O140>0,VLOOKUP($N140,'Price List'!$A:$D,2,FALSE),\"\")","v":""},{"$nulls":3},{"$f":"IF($O140>0,VLOOKUP($N140,'Price List'!$A:$D,4,FALSE),\"\")","v":""},{"$f":"IFERROR(VLOOKUP($N140,'Price List'!$A:$D,1,FALSE),\"NON\")","v":"NON"},"NON"]
[null,79,{"$nulls":5},"Pompe pour MCA 45 / 65",{"$nulls":4},{"$f":"IFERROR(VLOOKUP($N141,'Price List'!$A:$D,3,FALSE),\"\")","v":0},"S101614",{"$f":"$CD$63","v":2},{"$f":"IF($O141>0,VLOOKUP($N141,'Price List'!$A:$D,2,FALSE),\"\")","v":"Электронный насос для AMC 45-65 (класс А)"},{"$nulls":3},{"$f":"IF($O141>0,VLOOKUP($N141,'Price List'!$A:$D,4,FALSE),\"\")","v":325},{"$f":"IFERROR(VLOOKUP($N141,'Price List'!$A:$D,1,FALSE),\"NON\")","v":"S101614"},"OUI"]
[null,80,"Type d'alignement",{"$nulls":9},{"$f":"IFERROR(VLOOKUP($N142,'Price List'!$A:$D,3,FALSE),\"\")","v":""},{"$nulls":7},{"$f":"IFERROR(VLOOKUP($N142,'Price List'!$A:$D,1,FALSE),\"NON\")","v":"NON"},"NON"]
[null,81,{"$nulls":5},"Câble S-BUS  L = 1,5 m",{"$nulls":4},{"$f":"IFERROR(VLOOKUP($N143,'Price List'!$A:$D,3,FALSE),\"\")","v":"AD308"},7663618,{"$f":"$CF$62","v":1},{"$f":"IF($O143>0,VLOOKUP($N143,'Price List'!$A:$D,2,FALSE),\"\")","v":"Кабель S-BUS длиной 1,5 м"},{"$nulls":3},{"$f":"IF($O143>0,VLOOKUP($N143,'Price List'!$A:$D,4,FALSE),\"\")","v":114},{"$f":"IFERROR(VLOOKUP($N143,'Price List'!$A:$D,1,FALSE),\"NON\")","v":7663618},"OUI"]
[null,82,{"$nulls":10},{"$f":"IFERROR(VLOOKUP($N144,'Price List'!$A:$D,3,FALSE),\"\")","v":""},null,null,{"$f":"IF($O144>0,VLOOKUP($N144,'Price List'!$A:$D,2,FALSE),\"\")","v":""},{"$nulls":3},{"$f":"IF($O144>0,VLOOKUP($N144,'Price List'!$A:$D,4,FALSE),\"\")","v":""},{"$f":"IFERROR(VLOOKUP($N144,'Price List'!$A:$D,1,FALSE),\"NON\")","v":"NON"},"NON"]
[{"$nulls":7},"Sonde et doigt de gant <350kW",{"$nulls":4},{"$f":"IFERROR(VLOOKUP($N145,'Price List'!$A:$D,3,FALSE),\"\")","v":"HC223"},100013027,{"$f":"IF(H36<350,1,0)","v":1},{"$f":"IF($O145>0,VLOOKUP($N145,'Price List'!$A:$D,2,FALSE),\"\")","v":"Датчик каскада с погружной гильзой (<350 кВт)"},{"$nulls":3},{"$f":"IF($O145>0,VLOOKUP($N145,'Price List'!$A:$D,4,FALSE),\"\")","v":175},{"$f":"IFERROR(VLOOKUP($N145,'Price List'!$A:$D,1,FALSE),\"NON\")","v":100013027},"OUI"]
[{"$nulls":7},"Sonde et doigt de gant >350kW",{"$nulls":4},{"$f":"IFERROR(VLOOKUP($N146,'Price List'!$A:$D,3,FALSE),\"\")","v":"HC206"},100008701,{"$f":"IF(H36>=350,1,0)","v":0},{"$f":"IF($O146>0,VLOOKUP($N146,'Price List'!$A:$D,2,FALSE),\"\")","v":""},{"$nulls":3},{"$f":"IF($O146>0,VLOOKUP($N146,'Price List'!$A:$D,4,FALSE),\"\")","v":""},{"$f":"IFERROR(VLOOKUP($N146,'Price List'!$A:$D,1,FALSE),\"NON\")","v":100008701},"OUI"]
[{"$nulls":7},"Adaptateur alu 80/100 pour MCA 45",{"$nulls":4},{"$f":"IFERROR(VLOOKUP($N147,'Price List'!$A:$D,3,FALSE),\"\")","v":"DY768"},84887768,{"$f":"+E34","v":2},{"$f":"IF($O147>0,VLOOKUP($N147,'Price List'!$A:$D,2,FALSE),\"\")","v":"Переходник D80/100 "},{"$nulls":3},{"$f":"IF($O147>0,VLOOKUP($N147,'Price List'!$A:$D,4,FALSE),\"\")","v":76},{"$f":"IFERROR(VLOOKUP($N147,'Price List'!$A:$D,1,FALSE),\"NON\")","v":84887768},"OUI"]
[null,83,{"$nulls":5},"Jeu de bouchons",{"$nulls":4},{"$f":"IFERROR(VLOOKUP($N148,'Price List'!$A:$D,3,FALSE),\"\")","v":"HC195"},111708,{"$f":"+$CH$62","v":2},{"$f":"IF($O148>0,VLOOKUP($N148,'Price List'!$A:$D,2,FALSE),\"\")","v":"Набор заглушек"},{"$nulls":3},{"$f":"IF($O148>0,VLOOKUP($N148,'Price List'!$A:$D,4,FALSE),\"\")","v":54},{"$f":"IFERROR(VLOOKUP($N148,'Price List'!$A:$D,1,FALSE),\"NON\")","v":111708},"OUI"]
[null,null,"POUR ITALIE UNIQUEMENT",{"$nulls":4},"KIT INAIL DN65",{"$nulls":4},{"$f":"IF($O149>0,VLOOKUP($N149,'Price List'!$A:$D,3,FALSE),\"\")","v":""},116675,{"$f":"IF(AND('Cascade AMC'!$O$80=0,$N$66=texte!$B$85),1,0)","v":0},{"$f":"IF($O149>0,VLOOKUP($N149,'Price List'!$A:$D,2,FALSE),\"\")","v":""},{"$nulls":3},{"$f":"IF($O149>0,VLOOKUP($N149,'Price List'!$A:$D,4,FALSE),\"\")","v":""},{"$f":"IFERROR(VLOOKUP($N149,'Price List'!$A:$D,1,FALSE),\"NON\")","v":"NON"},"NON"]
[{"$nulls":7},"KIT INAIL DN100",{"$nulls":4},{"$f":"IF($O150>0,VLOOKUP($N150,'Price List'!$A:$D,3,FALSE),\"\")","v":""},116741,{"$f":"IF($N$66=texte!$B$85,$O$80,0)","v":0},{"$f":"IF($O150>0,VLOOKUP($N150,'Price List'!$A:$D,2,FALSE),\"\")","v":""},{"$nulls":3},{"$f":"IF($O150>0,VLOOKUP($N150,'Price List'!$A:$D,4,FALSE),\"\")","v":""},{"$f":"IFERROR(VLOOKUP($N150,'Price List'!$A:$D,1,FALSE),\"NON\")","v":"NON"},"NON"]
[{"$nulls":7},"KIT INAIL pour collecteurs",{"$nulls":4},{"$f":"IF($O151>0,VLOOKUP($N151,'Price List'!$A:$D,3,FALSE),\"\")","v":""},"004087000",{"$f":"IF($N$66=texte!$B$85,IF($E$38=0,IF($H$36<460,1,0),0),0)","v":0},{"$f":"IF($O151>0,VLOOKUP($N151,'Price List'!$A:$D,2,FALSE),\"\")","v":""},{"$nulls":3},{"$f":"IF($O151>0,VLOOKUP($N151,'Price List'!$A:$D,4,FALSE),\"\")","v":""},{"$f":"IFERROR(VLOOKUP($N151,'Price List'!$A:$D,1,FALSE),\"NON\")","v":"NON"},"NON"]
[{"$nulls":7},"Vase d'expansion ",{"$nulls":5},"004062001",{"$f":"IF($N$66=texte!$B$85,$D$6,0)","v":0},{"$f":"IF($O152>0,VLOOKUP($N152,'Price List'!$A:$D,2,FALSE),\"\")","v":""},{"$nulls":3},{"$f":"IF($O152>0,VLOOKUP($N152,'Price List'!$A:$D,4,FALSE),\"\")","v":""},{"$f":"IFERROR(VLOOKUP($N152,'Price List'!$A:$D,1,FALSE),\"NON\")","v":"NON"},"NON"]
[{"$nulls":15},{"$f":"IF($O153>0,VLOOKUP($N153,'Price List'!$A:$D,2,FALSE),\"\")","v":""},{"$nulls":3},{"$f":"IF($O153>0,VLOOKUP($N153,'Price List'!$A:$D,4,FALSE),\"\")","v":""},{"$f":"IFERROR(VLOOKUP($N153,'Price List'!$A:$D,1,FALSE),\"NON\")","v":"NON"},"NON"]
[{"$nulls":7},"KIT  ACCESSORI  INAIL PER MODULO COLLETTORE ",{"$nulls":5},"004087013",{"$f":"IF($N$66=texte!$B$85,IF(AND($H$36>460,$H$36<=920),1,0),0)","v":0},{"$f":"IF($O154>0,VLOOKUP($N154,'Price List'!$A:$D,2,FALSE),\"\")","v":""},{"$nulls":3},{"$f":"IF($O154>0,VLOOKUP($N154,'Price List'!$A:$D,4,FALSE),\"\")","v":""},{"$f":"IFERROR(VLOOKUP($N154,'Price List'!$A:$D,1,FALSE),\"NON\")","v":"NON"},{"$f":"IF(U154<>\"NON\",\"OUI\",U154)","v":"NON"}]
[{"$nulls":7},"KIT  ACCESSORI  INAIL PER MODULO COLLETTORE ",{"$nulls":5},"004087014",{"$f":"IF($N$66=texte!$B$85,IF(AND($H$36>920,$H$36<=1380),1,0),0)","v":0},{"$f":"IF($O155>0,VLOOKUP($N155,'Price List'!$A:$D,2,FALSE),\"\")","v":""},{"$nulls":3},{"$f":"IF($O155>0,VLOOKUP($N155,'Price List'!$A:$D,4,FALSE),\"\")","v":""},{"$f":"IFERROR(VLOOKUP($N155,'Price List'!$A:$D,1,FALSE),\"NON\")","v":"NON"},{"$f":"IF(U155<>\"NON\",\"OUI\",U155)","v":"NON"}]
[{"$nulls":7},"KIT PRESSOSTATO DI MINIMA",{"$nulls":5},"004087012",{"$f":"IF($N$66=texte!$B$85,IF($E$38=0,IF($H$36<460,1,0),0),0)","v":0},{"$f":"IF($O156>0,VLOOKUP($N156,'Price List'!$A:$D,2,FALSE),\"\")","v":""},{"$nulls":3},{"$f":"IF($O156>0,VLOOKUP($N156,'Price List'!$A:$D,4,FALSE),\"\")","v":""},{"$f":"IFERROR(VLOOKUP($N156,'Price List'!$A:$D,1,FALSE),\"NON\")","v":"NON"},"NON"]
[{"$nulls":7},"KIT  ACCESSORI  INAIL PER MODULO COLLETTORE ",{"$nulls":5},"004087015",{"$f":"IF($N$66=texte!$B$85,IF(E38<>0,IF($H$36<=460,1,0),0),0)","v":0},{"$f":"IF($O157>0,VLOOKUP($N157,'Price List'!$A:$D,2,FALSE),\"\")","v":""},{"$nulls":3},{"$f":"IF($O157>0,VLOOKUP($N157,'Price List'!$A:$D,4,FALSE),\"\")","v":""},{"$f":"IFERROR(VLOOKUP($N157,'Price List'!$A:$D,1,FALSE),\"NON\")","v":"NON"},"NON"]
[{"$nulls":15},{"$f":"IF($O158>0,VLOOKUP($N158,'Price List'!$A:$D,2,FALSE),\"\")","v":""},{"$nulls":3},{"$f":"IF($O158>0,VLOOKUP($N158,'Price List'!$A:$D,4,FALSE),\"\")","v":""}]
[{"$nulls":7},"Thermostat fumées (1 par chaudière 45-115)",{"$nulls":4},"HR43","S100310",{"$f":"IF(texte!$C$75=texte!$B$85,'Выбор котлов'!$E$26-'Выбор котлов'!$K$22,0)","v":0},{"$f":"IF($O159>0,VLOOKUP($N159,'Price List'!$A:$D,2,FALSE),\"\")","v":""},{"$nulls":3},{"$f":"IF($O159>0,VLOOKUP($N159,'Price List'!$A:$D,4,FALSE),\"\")","v":""},{"$f":"IFERROR(VLOOKUP($N159,'Price List'!$A:$D,1,FALSE),\"NON\")","v":"NON"},"NON"]
[null,null,"Cassette murale OTH / MODBUS",{"$nulls":4},"1 par chaudière MCA 160 inicontrol 2 ",{"$nulls":4},"AD286",100018920,0,{"$f":"IF($O160>0,VLOOKUP($N160,'Price List'!$A:$D,2,FALSE),\"\")","v":""},{"$f":"IF(SUM('Выбор котлов'!$G$22:$J$22)=0,0,'Выбор котлов'!$E$26-SUM('Выбор котлов'!$G$22:$J$22))","v":0},"=règle pour qté OTH (enlevé en 07/19)",null,{"$f":"IF($O160>0,VLOOKUP($N160,'Price List'!$A:$D,4,FALSE),\"\")","v":""},{"$f":"IFERROR(VLOOKUP($N160,'Price List'!$A:$D,1,FALSE),\"NON\")","v":"NON"},"NON"]
[null,null,"Pour France uniquement",{"$nulls":4},"Pompe pour AMC 115",{"$nulls":4},{"$f":"IFERROR(VLOOKUP($N161,'Price List'!$A:$D,3,FALSE),\"\")","v":""},7630016,{"$f":"IF(texte!$C$75=texte!$B$84,'Cascade AMC'!$E$37,0)","v":0},{"$f":"IF($O161>0,VLOOKUP($N161,'Price List'!$A:$D,2,FALSE),\"\")","v":""},{"$nulls":3},{"$f":"IF($O161>0,VLOOKUP($N161,'Price List'!$A:$D,4,FALSE),\"\")","v":""},{"$f":"IFERROR(VLOOKUP($N161,'Price List'!$A:$D,1,FALSE),\"NON\")","v":"NON"},"NON"]
[{"$nulls":7},"Pompe pour AMC 45-65-90",{"$nulls":4},{"$f":"IFERROR(VLOOKUP($N162,'Price List'!$A:$D,3,FALSE),\"\")","v":""},100002323,{"$f":"IF(texte!$C$75=texte!$B$84,SUM($E$34:$E$36),0)","v":0},{"$f":"IF($O162>0,VLOOKUP($N162,'Price List'!$A:$D,2,FALSE),\"\")","v":""},{"$nulls":3},{"$f":"IF($O162>0,VLOOKUP($N162,'Price List'!$A:$D,4,FALSE),\"\")","v":""},{"$f":"IFERROR(VLOOKUP($N162,'Price List'!$A:$D,1,FALSE),\"NON\")","v":"NON"},"NON"]
[{"$nulls":21},"OUI"]
[null,null,"= modification des quantités (bP ; bA ; b ) (Raccordement d'un ballon ECS sur la première chaudière de la cascade)=> Indisponible à cause de la régulation "]
[null,null,"= infos Marketing => Références non nécessaires pour le tool DD => Qté = 0",{"$nulls":19},"En gras = Tarifs testés "]
[{"$nulls":22},"Normal = Extrapolé selon le tarif anglais"]
[{"$nulls":3},"KIT de base ",{"$nulls":21},"Options "]
[]
[{"$nulls":30},"Sélection produit",null,"Réf","Désignation (si Qté >0)","Colis","Prix unitaire","Qté"]
[{"$nulls":3},"Supports",{"$nulls":13},"Réf","Désignation (si Qté >0)","Colis","Prix unitaire","Qté",{"$nulls":3},"Accessoires autres","HC255","Filtre Gaz DN50",null,null,{"$f":"IF(AK170>0,1,0)","v":1},{"$f":"IF(AE170=0,0,AE170)","v":1},{"$f":"N107","v":"S101655"},{"$f":"IF(AK170<>0,VLOOKUP($AG170,'Price List'!$A:$D,2,FALSE),\"\")","v":"Газовый фильтр DN 50"},{"$f":"VLOOKUP($AG170,'Price List'!$A:$D,3,FALSE)","v":"HC255"},{"$f":"IF(AK170<>0,VLOOKUP($AG170,'Price List'!$A:$D,4,FALSE),\"\")","v":321},{"$f":"O107","v":1},null,"Sélection","Réf","Désignation (si Qté >0)","Colis","Prix unitaire","Qté",null,"Numéro"]
[{"$nulls":8},"Sélection produit",null,"Réf","Désignation (si Qté >0)","Colis","Prix unitaire","Qté",null,"Sélection => ",{"$f":"IFERROR(VLOOKUP(1,$J$172:$N$182,2,FALSE),\"\")","v":111688},{"$f":"IFERROR(VLOOKUP(1,$J$172:$N$182,3,FALSE),\"\")","v":"Кронштейн для монтажа на стене 2 котлов"},{"$f":"IFERROR(VLOOKUP(1,$J$172:$N$182,4,FALSE),\"\")","v":"HC192"},{"$f":"IFERROR(VLOOKUP(1,$J$172:$N$182,5,FALSE),\"\")","v":57},{"$f":"IFERROR(VLOOKUP(1,$J$172:$O$182,6,FALSE),\"\")","v":1},{"$nulls":4},"HC256","Filtre Gaz DN65",null,null,0,{"$f":"IF(AE171=0,0,AE170+AE171)","v":0},{"$f":"N108","v":"S101656"},{"$f":"IF(AK171<>0,VLOOKUP($AG171,'Price List'!$A:$D,2,FALSE),\"\")","v":""},{"$f":"VLOOKUP($AG171,'Price List'!$A:$D,3,FALSE)","v":"HC256"},{"$f":"IF(AK171<>0,VLOOKUP($AG171,'Price List'!$A:$D,4,FALSE),\"\")","v":""},{"$f":"O108","v":0},null,null,{"$f":"IFERROR(VLOOKUP($AT171,$AF$170:$AK$178,$AT$172,FALSE),\"\")","v":"S101655"},{"$f":"IFERROR(VLOOKUP($AT171,$AF$170:$AK$178,$AT$173,FALSE),\"\")","v":"Газовый фильтр DN 50"},{"$f":"IFERROR(VLOOKUP($AT171,$AF$170:$AK$178,$AT$174,FALSE),\"\")","v":"HC255"},{"$f":"IFERROR(VLOOKUP($AT171,$AF$170:$AK$178,5,FALSE),\"\")","v":321},{"$f":"IFERROR(VLOOKUP($AT171,$AF$170:$AK$178,6,FALSE),\"\")","v":1},null,1]
[{"$nulls":3},"Montage LV et RG","HC249","Montant support L pour MCA 45/115",null,null,{"$f":"IF(O172>0,1,0)","v":0},{"$f":"I172","v":0},{"$f":"N95","v":120842},{"$f":"P95","v":""},{"$f":"M95","v":"HC249"},{"$f":"T95","v":""},{"$f":"O95","v":0},null,null,{"$f":"IFERROR(VLOOKUP(2,$J$172:$N$182,2,FALSE),\"\")","v":""},{"$f":"IFERROR(VLOOKUP(2,$J$172:$N$182,3,FALSE),\"\")","v":""},{"$f":"IFERROR(VLOOKUP(2,$J$172:$N$182,4,FALSE),\"\")","v":""},{"$f":"IFERROR(VLOOKUP(2,$J$172:$N$182,5,FALSE),\"\")","v":""},{"$f":"IFERROR(VLOOKUP(2,$J$172:$O$182,6,FALSE),\"\")","v":""},{"$nulls":4},"HC211","Rallonge pour filtre gaz DN50",null,null,1,{"$f":"IF(AE172=0,0,AE172+AE171+AE170)","v":2},{"$f":"N111","v":111805},{"$f":"IF(AK172<>0,VLOOKUP($AG172,'Price List'!$A:$D,2,FALSE),\"\")","v":"Труба для газового фильтра DN 50"},{"$f":"VLOOKUP($AG172,'Price List'!$A:$D,3,FALSE)","v":"HC211"},{"$f":"IF(AK172<>0,VLOOKUP($AG172,'Price List'!$A:$D,4,FALSE),\"\")","v":343},{"$f":"O111","v":1},null,null,{"$f":"IFERROR(VLOOKUP($AT172,$AF$170:$AK$178,$AT$172,FALSE),\"\")","v":111805},{"$f":"IFERROR(VLOOKUP($AT172,$AF$170:$AK$178,$AT$173,FALSE),\"\")","v":"Труба для газового фильтра DN 50"},{"$f":"IFERROR(VLOOKUP($AT172,$AF$170:$AK$178,$AT$174,FALSE),\"\")","v":"HC211"},{"$f":"IFERROR(VLOOKUP($AT172,$AF$170:$AK$178,5,FALSE),\"\")","v":343},{"$f":"IFERROR(VLOOKUP($AT172,$AF$170:$AK$178,6,FALSE),\"\")","v":1},null,2]
[{"$nulls":4},"EH662","Montant support L pour MCA 160",null,null,{"$f":"IF(O173>0,1,0)","v":0},{"$f":"IF(I173=0,0,I172+I173)","v":0},7612942,"","EH662","",0,null,null,{"$f":"IFERROR(VLOOKUP(3,$J$172:$N$182,2,FALSE),\"\")","v":""},{"$f":"IFERROR(VLOOKUP(3,$J$172:$N$182,3,FALSE),\"\")","v":""},{"$f":"IFERROR(VLOOKUP(3,$J$172:$N$182,4,FALSE),\"\")","v":""},{"$f":"IFERROR(VLOOKUP(3,$J$172:$N$182,5,FALSE),\"\")","v":""},{"$f":"IFERROR(VLOOKUP(3,$J$172:$O$182,6,FALSE),\"\")","v":""},{"$nulls":4},"HC212","Rallonge pour filtre gaz DN65",null,null,0,{"$f":"IF(AE173=0,0,AE173+AE172+AE171+AE170)","v":0},{"$f":"N112","v":111806},{"$f":"IF(AK173<>0,VLOOKUP($AG173,'Price List'!$A:$D,2,FALSE),\"\")","v":""},{"$f":"VLOOKUP($AG173,'Price List'!$A:$D,3,FALSE)","v":"HC212"},{"$f":"IF(AK173<>0,VLOOKUP($AG173,'Price List'!$A:$D,4,FALSE),\"\")","v":""},{"$f":"O112","v":0},null,null,{"$f":"IFERROR(VLOOKUP($AT173,$AF$170:$AK$178,$AT$172,FALSE),\"\")","v":111788},{"$f":"IFERROR(VLOOKUP($AT173,$AF$170:$AK$178,$AT$173,FALSE),\"\")","v":"Набор колен DN 65"},{"$f":"IFERROR(VLOOKUP($AT173,$AF$170:$AK$178,$AT$174,FALSE),\"\")","v":"HC209"},{"$f":"IFERROR(VLOOKUP($AT173,$AF$170:$AK$178,5,FALSE),\"\")","v":856},{"$f":"IFERROR(VLOOKUP($AT173,$AF$170:$AK$178,6,FALSE),\"\")","v":1},null,3]
[{"$nulls":4},"HC250","Montant support I pour MCA 45/115",null,null,0,{"$f":"IF(I174=0,0,I174+I173+I172)","v":0},120900,"","HC250","",0,null,null,{"$f":"IFERROR(VLOOKUP(4,$J$172:$N$182,2,FALSE),\"\")","v":""},{"$f":"IFERROR(VLOOKUP(4,$J$172:$N$182,3,FALSE),\"\")","v":""},{"$f":"IFERROR(VLOOKUP(4,$J$172:$N$182,4,FALSE),\"\")","v":""},{"$f":"IFERROR(VLOOKUP(4,$J$172:$N$182,5,FALSE),\"\")","v":""},{"$f":"IFERROR(VLOOKUP(4,$N$172:$O$182,6,FALSE),\"\")","v":""},{"$nulls":4},"HC209","Coudes DN65",null,null,1,{"$f":"IF(AE174=0,0,AE174+AE173+AE172+AE171+AE170)","v":3},{"$f":"N109","v":111788},{"$f":"IF(AK174<>0,VLOOKUP($AG174,'Price List'!$A:$D,2,FALSE),\"\")","v":"Набор колен DN 65"},{"$f":"VLOOKUP($AG174,'Price List'!$A:$D,3,FALSE)","v":"HC209"},{"$f":"IF(AK174<>0,VLOOKUP($AG174,'Price List'!$A:$D,4,FALSE),\"\")","v":856},{"$f":"O109","v":1},null,null,{"$f":"IFERROR(VLOOKUP($AT174,$AF$170:$AK$178,$AT$172,FALSE),\"\")","v":112632},{"$f":"IFERROR(VLOOKUP($AT174,$AF$170:$AK$178,$AT$173,FALSE),\"\")","v":"Набор контрфланцев под сварку DN 65"},{"$f":"IFERROR(VLOOKUP($AT174,$AF$170:$AK$178,$AT$174,FALSE),\"\")","v":"HC217"},{"$f":"IFERROR(VLOOKUP($AT174,$AF$170:$AK$178,5,FALSE),\"\")","v":196},{"$f":"IFERROR(VLOOKUP($AT174,$AF$170:$AK$178,6,FALSE),\"\")","v":1},null,4]
[{"$nulls":4},"EH663","Montant support I pour MCA 160",null,null,0,{"$f":"IF(I175=0,0,I175+I174+I173+I172)","v":0},7612941,"","EH663","",0,{"$nulls":11},"HC210","Coudes DN100",null,null,0,{"$f":"IF(AE175=0,0,AE175+AE174+AE173+AE172+AE171+AE170)","v":0},{"$f":"N110","v":111790},{"$f":"IF(AK175<>0,VLOOKUP($AG175,'Price List'!$A:$D,2,FALSE),\"\")","v":""},{"$f":"VLOOKUP($AG175,'Price List'!$A:$D,3,FALSE)","v":"HC210"},{"$f":"IF(AK175<>0,VLOOKUP($AG175,'Price List'!$A:$D,4,FALSE),\"\")","v":""},{"$f":"O110","v":0}]
[{"$nulls":4},"HC248","Chassis de montage MCA 45/115",null,null,0,{"$f":"IF(I176=0,0,I176+I175+I174+I173+I172)","v":0},120918,"","HC248","",0,{"$nulls":11},"HC217","Jeu de contre-brides à souder DN65",null,null,1,{"$f":"IF(AE176=0,0,AE176+AE175+AE174+AE173+AE172+AE171+AE170)","v":4},{"$f":"N126","v":112632},{"$f":"IF(AK176<>0,VLOOKUP($AG176,'Price List'!$A:$D,2,FALSE),\"\")","v":"Набор контрфланцев под сварку DN 65"},{"$f":"VLOOKUP($AG176,'Price List'!$A:$D,3,FALSE)","v":"HC217"},{"$f":"IF(AK176<>0,VLOOKUP($AG176,'Price List'!$A:$D,4,FALSE),\"\")","v":196},{"$f":"O126","v":1}]
[{"$nulls":4},"EH664","Chassis de montage  MCA 160 combinée",null,null,0,{"$f":"IF(I177=0,0,I177+I176+I175+I174+I173+I172)","v":0},7621566,"","EH664","",0,{"$nulls":11},"HC218","Jeu de contre-brides à souder DN100",null,null,0,{"$f":"IF(AE177=0,0,AE177+AE176+AE175+AE174+AE173+AE172+AE171+AE170)","v":0},{"$f":"N127","v":112633},{"$f":"IF(AK177<>0,VLOOKUP($AG177,'Price List'!$A:$D,2,FALSE),\"\")","v":""},{"$f":"VLOOKUP($AG177,'Price List'!$A:$D,3,FALSE)","v":"HC218"},{"$f":"IF(AK177<>0,VLOOKUP($AG177,'Price List'!$A:$D,4,FALSE),\"\")","v":""},{"$f":"O127","v":0}]
[{"$nulls":3},"Montage LW","HC192","Rail de montage mural 2 chaudières MCA 45/115",null,null,1,{"$f":"IF(I178=0,0,I178+I177+I176+I175+I174+I172+I173)","v":1},111688,"Кронштейн для монтажа на стене 2 котлов","HC192",57,1,null,"004087013","KIT  ACCESSORI  INAIL PER MODULO COLLETTORE ",null,{"v":945,"d":"945.00"},{"$nulls":6},"EH669","Jeu de contre brides à souder DN65",null,null,0,{"$f":"IF(AE178=0,0,AE178+AE177+AE176+AE175+AE174+AE173+AE172+AE171+AE170)","v":0},{"$f":"N139","v":7638518},{"$f":"IF(AK178<>0,VLOOKUP($AG178,'Price List'!$A:$D,2,FALSE),\"\")","v":""},{"$f":"VLOOKUP($AG178,'Price List'!$A:$D,3,FALSE)","v":"EH669"},{"$f":"IF(AK178<>0,VLOOKUP($AG178,'Price List'!$A:$D,4,FALSE),\"\")","v":""},{"$f":"O139","v":0}]
[{"$nulls":4},"EH670","Rail de montage mural 2 chaudières MCA 160",null,null,0,{"$f":"IF(I179=0,0,I179+I178+I177+I176+I175+I172+I173+I174)","v":0},7637077,"","EH670","",0,null,"004087014","KIT  ACCESSORI  INAIL PER MODULO COLLETTORE ",null,{"v":1045,"d":"1045.00"}]
[{"$nulls":4},"HC193","Rail de montage mural 3 chaudières MCA 45/115",null,null,0,{"$f":"IF(I180=0,0,I180+I179+I178+I177+I176+I172+I173+I174+I175)","v":0},111689,"","HC193","",0,null,"004087015","KIT  ACCESSORI  INAIL PER MODULO COLLETTORE ",null,{"v":873,"d":"873.00"}]
[{"$nulls":4},"EH671","Rail de montage mural 3 chaudières MCA 160",null,null,0,{"$f":"IF(I181=0,0,I181+I180+I179+I178+I177+I172+I173+I174+I175+I176)","v":0},7637088,"","EH671","",0,null,"004087012","KIT PRESSOSTATO DI MINIMA",null,{"v":49,"d":"49.00"}]
[{"$nulls":4},"HC194","Rail de montage mural 4 chaudières MCA 45/115",null,null,0,{"$f":"IF(I182=0,0,I182+I181+I180+I179+I178+I172+I173+I174+I175+I176+I177)","v":0},111690,"","HC194","",0]
[]
[{"$nulls":3},"Hydraulique"]
[{"$nulls":8},"Sélection produit",null,"Réf","Désignation (si Qté >0)","Colis","Prix unitaire","Qté",{"$nulls":15},"Sélection produit",null,"Réf","Désignation (si Qté >0)","Colis","Prix unitaire","Qté",null,"Sélection","Réf","Désignation (si Qté >0)","Colis","Prix unitaire","Qté",null,"Numéro"]
[{"$nulls":3},"Bouteille de découplage","HC222","Bouteille de découplage DN65 (jusqu'à 350 kW)",null,null,{"$f":"IF(O186>0,1,0)","v":1},{"$f":"I186","v":1},{"$f":"N78","v":114311},{"$f":"P78","v":"Гидравлическая стрелка DN 65 (< 350 кВт)"},{"$f":"M78","v":"HC222"},{"$f":"T78","v":817},{"$f":"O78","v":1},null,"Sélection","Réf","Désignation (si Qté >0)","Colis","Prix unitaire","Qté",{"$nulls":3},"Isolation","HC213","Isolation collecteur MCA 45/115",null,null,{"$f":"IF(AK186>0,1,0)","v":1},{"$f":"AE186","v":1},{"$f":"N113","v":111069},{"$f":"P113","v":"Изоляция для коллектора"},{"$f":"M113","v":"HC213"},{"$f":"T113","v":114},{"$f":"O113","v":2},null,null,{"$f":"IFERROR(VLOOKUP($AT186,$AF$186:$AK$196,$AT$187,FALSE),\"\")","v":111069},{"$f":"IFERROR(VLOOKUP($AT186,$AF$186:$AK$196,$AT$188,FALSE),\"\")","v":"Изоляция для коллектора"},{"$f":"IFERROR(VLOOKUP($AT186,$AF$186:$AK$196,$AT$189,FALSE),\"\")","v":"HC213"},{"$f":"IFERROR(VLOOKUP($AT186,$AF$186:$AK$196,$AT$190,FALSE),\"\")","v":114},{"$f":"IFERROR(VLOOKUP($AT186,$AF$186:$AK$196,$AT$191,FALSE),\"\")","v":2},null,1]
[{"$nulls":4},"HC200","Bouteille de découplage DN65 (de 350 à 460 kW)",null,null,{"$f":"IF(O187>0,1,0)","v":0},{"$f":"IF(I187=0,0,I186+I187)","v":0},{"$f":"N79","v":111712},{"$f":"P79","v":""},{"$f":"M79","v":"HC200"},{"$f":"T79","v":""},{"$f":"O79","v":0},null,null,{"$f":"IFERROR(VLOOKUP(1,$J$186:$N$188,2,FALSE),\"\")","v":114311},{"$f":"IFERROR(VLOOKUP(1,$J$186:$N$188,3,FALSE),\"\")","v":"Гидравлическая стрелка DN 65 (< 350 кВт)"},{"$f":"IFERROR(VLOOKUP(1,$J$186:$N$188,4,FALSE),\"\")","v":"HC222"},{"$f":"IFERROR(VLOOKUP(1,$J$186:$N$188,5,FALSE),\"\")","v":817},{"$f":"IFERROR(VLOOKUP(1,$J$186:$O$188,6,FALSE),\"\")","v":1},{"$nulls":4},"EH647","Isolation collecteur MCA 160",null,null,0,{"$f":"IF(AE187=0,0,AE186+AE187)","v":0},7613401,"","EH647","",0,null,null,122441,"Теплоизоляция набора для подключения котла","HC252",84,2,null,2]
[{"$nulls":4},"HC201","Bouteille de découplage DN100 (supérieur à 460 kW)",null,null,{"$f":"IF(O188>0,1,0)","v":0},{"$f":"IF(I188=0,0,I187+I188+I186)","v":0},{"$f":"N80","v":111714},{"$f":"P80","v":""},{"$f":"M80","v":"HC201"},{"$f":"T80","v":""},{"$f":"O80","v":0},{"$nulls":11},"HC252","Isolation raccordement chaudière MCA 45/115",null,null,1,{"$f":"IF(AE188=0,0,AE187+AE188+AE186)","v":2},122441,"Теплоизоляция набора для подключения котла","HC252",84,2,null,null,115269,"Изоляция для гидравлической стрелки (<350 кВт)","HC224",46,1,null,3]
[{"$nulls":26},"EH648","Isolation raccordement chaudière MCA 160",null,null,0,{"$f":"IF(AE189=0,0,AE188+AE189+AE187+AE186)","v":0},7611804,"","EH648","",0,null,null,111167,"Изоляция для колена 90°","HC216",132,1,null,4]
[{"$nulls":3},"Collecteurs","HC188","Collecteur 2 chaudières DN 65 pour MCA 45/115",null,null,{"$f":"IF(O190>0,1,0)","v":1},{"$f":"I190","v":1},{"$f":"N70","v":110968},{"$f":"P70","v":"Коллектор на 2 котла DN 65"},{"$f":"M70","v":"HC188"},{"$f":"T70","v":1256},{"$f":"O70","v":1},null,"Sélection","Réf","Désignation (si Qté >0)","Colis","Prix unitaire","Qté",{"$nulls":4},"HC243","Isolation Arrière pour MCA 45-115 en montage",null,null,0,{"$f":"IF(AE190=0,0,AE189+AE190+AE188+AE187+AE186)","v":0},123182,"","HC243","",0,null,null,"","","","","",null,5]
[{"$nulls":4},"HC190","Collecteur 2 chaudières DN 100 pour MCA 45/115",null,null,0,{"$f":"IF(I191=0,0,I190+I191)","v":0},110961,"","HC190","",0,null,null,{"$f":"IFERROR(VLOOKUP(1,$J$190:$N$197,2,FALSE),\"\")","v":110968},{"$f":"IFERROR(VLOOKUP(1,$J$190:$N$197,3,FALSE),\"\")","v":"Коллектор на 2 котла DN 65"},{"$f":"IFERROR(VLOOKUP(1,$J$190:$N$197,4,FALSE),\"\")","v":"HC188"},{"$f":"IFERROR(VLOOKUP(1,$J$190:$N$197,5,FALSE),\"\")","v":1256},{"$f":"IFERROR(VLOOKUP(1,$J$190:$O$197,6,FALSE),\"\")","v":1},{"$nulls":4},"EH649","Plaque d'isolation arrière MCA 160",null,null,0,{"$f":"IF(AE191=0,0,AE190+AE191+AE189+AE188+AE187+AE186)","v":0},7631858,"","EH649","",0,null,null,"","","","","",null,6]
[{"$nulls":4},"EH676","Collecteur 2 chaudières DN 100 pour MCA 160",null,null,0,{"$f":"IF(I192=0,0,I191+I192+I190)","v":0},7614795,"","EH676","",0,null,null,{"$f":"IFERROR(VLOOKUP(2,$J$190:$N$197,2,FALSE),\"\")","v":""},{"$f":"IFERROR(VLOOKUP(2,$J$190:$N$197,3,FALSE),\"\")","v":""},{"$f":"IFERROR(VLOOKUP(2,$J$190:$N$197,4,FALSE),\"\")","v":""},{"$f":"IFERROR(VLOOKUP(2,$J$190:$N$197,5,FALSE),\"\")","v":""},{"$f":"IFERROR(VLOOKUP(2,$J$190:$O$197,6,FALSE),\"\")","v":""},{"$nulls":4},"EH650","Isolation adaptateur DN65/DN100",null,null,0,{"$f":"IF(AE192=0,0,AE192+AE191+AE190+AE189+AE188+AE187+AE186)","v":0},{"$f":"N120","v":7622201},{"$f":"P120","v":""},{"$f":"M120","v":"EH650"},{"$f":"T120","v":""},{"$f":"O120","v":0},null,null,"","","","","",null,7]
[{"$nulls":4},"HC187","Collecteur 3 chaudières DN 65 pour MCA 45/115",null,null,0,{"$f":"IF(I193=0,0,I192+I193+I191+I190)","v":0},110967,"","HC187","",0,{"$nulls":11},"HC215","Isolation bouteille de découplage",null,null,0,{"$f":"IF(AE193=0,0,AE191+AE193+AE190+AE189+AE188+AE187+AE186+AE192)","v":0},{"$f":"N119","v":111067},{"$f":"P119","v":""},{"$f":"M119","v":"HC215"},{"$f":"T119","v":""},{"$f":"O119","v":0},null,null,"","","","","",null,8]
[{"$nulls":4},"HC189","Collecteur 3 chaudières DN 100 pour MCA 45/115",null,null,0,{"$f":"IF(I194=0,0,I193+I194+I192+I191+I190)","v":0},110960,"","HC189","",0,{"$nulls":11},"HC224","Isolation bouteille de découlage (jusqu'à 350 kW)",null,null,1,{"$f":"IF(AE194=0,0,AE192+AE194+AE193+AE191+AE190+AE189+AE188+AE187+AE186)","v":3},{"$f":"N121","v":115269},{"$f":"P121","v":"Изоляция для гидравлической стрелки (<350 кВт)"},{"$f":"M121","v":"HC224"},{"$f":"T121","v":46},{"$f":"O121","v":1}]
[{"$nulls":4},"EH677","Collecteur 3 chaudières DN 100 pour MCA 160",null,null,0,{"$f":"IF(I195=0,0,I194+I195+I193+I192+I191+I190)","v":0},7611306,"","EH677","",0,{"$nulls":11},"HC216","Isolation coudes 90°",null,null,1,{"$f":"IF(AE195=0,0,AE194+AE195+AE192+AE193+AE191+AE190+AE189+AE188+AE187+AE186)","v":4},{"$f":"N122","v":111167},{"$f":"P122","v":"Изоляция для колена 90°"},{"$f":"M122","v":"HC216"},{"$f":"T122","v":132},{"$f":"O122","v":1}]
[{"$nulls":4},"HC186","Collecteur 4 chaudières DN 65 pour MCA 45/115",null,null,0,{"$f":"IF(I196=0,0,I195+I196+I194+I193+I192+I191+I190)","v":0},110966,"","HC186","",0,{"$nulls":11},"HC219","Pieds réglables",null,null,0,{"$f":"IF(AE196=0,0,AE195+AE196+AE194+AE192+AE193+AE191+AE190+AE189+AE188+AE186+AE187)","v":0},{"$f":"N123","v":111807},{"$f":"P123","v":""},{"$f":"M123","v":"HC219"},{"$f":"T123","v":""},{"$f":"O123","v":0}]
[{"$nulls":4},"HC191","Collecteur 4 chaudières DN 100 pour MCA 45/115",null,null,0,{"$f":"IF(I197=0,0,I196+I197+I195+I194+I193+I192+I191+I190)","v":0},110954,"","HC191","",0]
[]
[{"$nulls":3},"Raccordement","EH655","Raccordement collecteur MCA 45/115",null,null,{"$f":"IF(O199>0,1,0)","v":0},{"$f":"IF(I199=0,0,I199)","v":0},{"$f":"N83","v":7622699},{"$f":"P83","v":""},{"$f":"M83","v":"EH655"},{"$f":"T83","v":""},{"$f":"O83","v":0},null,"Sélection","Réf","Désignation (si Qté >0)","Colis","Prix unitaire","Qté"]
[{"$nulls":4},"EH656","Raccordement collecteur MCA 160",null,null,0,{"$f":"IF(I200=0,0,I199+I200)","v":0},{"$f":"N84","v":7622701},{"$f":"P84","v":""},{"$f":"M84","v":"EH656"},{"$f":"T84","v":""},{"$f":"O84","v":0},null,null,{"$f":"IFERROR(VLOOKUP(1,$J$199:$O$204,2,FALSE),\"\")","v":111022},{"$f":"IFERROR(VLOOKUP(1,$J$199:$O$204,3,FALSE),\"\")","v":"Набор подключения котла"},{"$f":"IFERROR(VLOOKUP(1,$J$199:$O$204,4,FALSE),\"\")","v":"HC202"},{"$f":"IFERROR(VLOOKUP(1,$J$199:$O$204,5,FALSE),\"\")","v":803},{"$f":"IFERROR(VLOOKUP(1,$J$199:$O$204,6,FALSE),\"\")","v":2}]
[{"$nulls":4},"HC203","Kit de raccordement collecteur chaudière RG MCA 45/115",null,null,0,{"$f":"IF(I201=0,0,I200+I201+I199)","v":0},{"$f":"N85","v":111037},{"$f":"P85","v":""},{"$f":"M85","v":"HC203"},{"$f":"T85","v":""},{"$f":"O85","v":0},null,null,{"$f":"IFERROR(VLOOKUP(2,$J$199:$O$204,2,FALSE),\"\")","v":""},{"$f":"IFERROR(VLOOKUP(2,$J$199:$O$204,3,FALSE),\"\")","v":""},{"$f":"IFERROR(VLOOKUP(2,$J$199:$O$204,4,FALSE),\"\")","v":""},{"$f":"IFERROR(VLOOKUP(2,$J$199:$O$204,5,FALSE),\"\")","v":""},{"$f":"IFERROR(VLOOKUP(2,$J$199:$O$204,6,FALSE),\"\")","v":""}]
[{"$nulls":4},"HC202","Kit de raccordement avant ",null,null,1,{"$f":"IF(I202=0,0,I202+I199+I200+I201)","v":1},{"$f":"N82","v":111022},{"$f":"P82","v":"Набор подключения котла"},{"$f":"M82","v":"HC202"},{"$f":"T82","v":803},{"$f":"O82","v":2},null,null,{"$f":"IFERROR(VLOOKUP(3,$J$199:$O$204,2,FALSE),\"\")","v":""},{"$f":"IFERROR(VLOOKUP(3,$J$199:$O$204,3,FALSE),\"\")","v":""},{"$f":"IFERROR(VLOOKUP(3,$J$199:$O$204,4,FALSE),\"\")","v":""},{"$f":"IFERROR(VLOOKUP(3,$J$199:$O$204,5,FALSE),\"\")","v":""},{"$f":"IFERROR(VLOOKUP(3,$J$199:$O$204,6,FALSE),\"\")","v":""}]
[{"$nulls":4},"EH657","Kit de raccordement collecteur chaudière RG MCA 45/115",null,null,0,{"$f":"IF(I203=0,0,I201+I203+I200+I199+I202)","v":0},{"$f":"N86","v":7622700},{"$f":"P86","v":""},{"$f":"M86","v":""},{"$f":"T86","v":""},{"$f":"O86","v":0},null,null,{"$f":"IFERROR(VLOOKUP(4,$J$199:$O$204,2,FALSE),\"\")","v":""},{"$f":"IFERROR(VLOOKUP(4,$J$199:$O$204,3,FALSE),\"\")","v":""},{"$f":"IFERROR(VLOOKUP(4,$J$199:$O$204,4,FALSE),\"\")","v":""},{"$f":"IFERROR(VLOOKUP(4,$J$199:$O$204,5,FALSE),\"\")","v":""},{"$f":"IFERROR(VLOOKUP(4,$J$199:$O$204,6,FALSE),\"\")","v":""}]
[{"$nulls":4},"EH658","Kit de raccordement collecteur chaudière RG MCA 160",null,null,0,{"$f":"IF(I204=0,0,I203+I204+I201+I200+I199+I202)","v":0},{"$f":"N87","v":7622702},{"$f":"P87","v":""},{"$f":"M87","v":""},{"$f":"T87","v":""},{"$f":"O87","v":0}]
[{"$nulls":16},"Sélection","Réf","Désignation (si Qté >0)","Colis","Prix unitaire","Qté"]
[{"$nulls":3},"Adaptateur ","EH654","Adaptateur DN65/DN100  pour collecteur DN65",null,null,{"$f":"IF(O206>0,1,0)","v":0},{"$f":"I206","v":0},{"$f":"N81","v":7633244},{"$f":"P81","v":""},{"$f":"M81","v":"EH654"},{"$f":"T81","v":""},{"$f":"O81","v":0},null,null,{"$f":"IFERROR(VLOOKUP(1,$J$206:$O$206,2,FALSE),\"\")","v":""},{"$f":"IFERROR(VLOOKUP(1,$J$206:$O$206,3,FALSE),\"\")","v":""},{"$f":"IFERROR(VLOOKUP(1,$J$206:$O$206,4,FALSE),\"\")","v":""},{"$f":"IFERROR(VLOOKUP(1,$J$206:$O$206,5,FALSE),\"\")","v":""},{"$f":"IFERROR(VLOOKUP(1,$J$206:$O$206,6,FALSE),\"\")","v":""}]
[]
[{"$nulls":16},"Sélection","Réf","Désignation (si Qté >0)","Colis","Prix unitaire","Qté"]
[{"$nulls":3},"Pompes",{"$f":"IF(texte!$C$75=texte!$B$84,M161,M68)","v":0},{"$f":"IF(texte!$C$75=texte!$B$84,H161,\"Pompe AMC 45-115\")","v":"Pompe AMC 45-115"},null,null,{"$f":"IF(O209>0,1,0)","v":0},{"$f":"IF(I209=0,0,I209)","v":0},{"$f":"IF(texte!$C$75=texte!$B$84,N161,N68)","v":7608398},{"$f":"IF(texte!$C$75=texte!$B$84,P161,IF($O$68<>0,P68,\"\"))","v":""},{"$f":"IF(texte!$C$75=texte!$B$84,M161,IF($O$68<>0,M68,IF($O$141<>0,M141,\"\")))","v":0},{"$f":"IF(texte!$C$75=texte!$B$84,T161,IF($O$68<>0,T68,\"\"))","v":""},{"$f":"IF(texte!$C$75=texte!$B$84,O161,O68)","v":0},null,null,{"$f":"IFERROR(VLOOKUP(1,$J$209:$O$211,2,FALSE),\"\")","v":"S101614"},{"$f":"IFERROR(VLOOKUP(1,$J$209:$O$211,3,FALSE),\"\")","v":"Электронный насос для AMC 45-65 (класс А)"},{"$f":"IFERROR(IF(VLOOKUP(1,$J$209:$O$211,4,FALSE)=0,\"-\",VLOOKUP(1,$J$209:$O$211,4,FALSE)),\"\")","v":"-"},{"$f":"IFERROR(VLOOKUP(1,$J$209:$O$211,5,FALSE),\"\")","v":325},{"$f":"IFERROR(VLOOKUP(1,$J$209:$O$211,6,FALSE),\"\")","v":2}]
[{"$nulls":4},{"$f":"M69","v":"EH651"},{"$f":"H69","v":"Pompe pour AMC 160"},null,null,0,{"$f":"IF(I210=0,0,I209+I210)","v":0},{"$f":"N69","v":7637223},{"$f":"P69","v":""},{"$f":"M69","v":"EH651"},{"$f":"T69","v":""},{"$f":"O69","v":0},null,null,{"$f":"IFERROR(VLOOKUP(2,$J$209:$O$211,2,FALSE),\"\")","v":""},{"$f":"IFERROR(VLOOKUP(2,$J$209:$O$211,3,FALSE),\"\")","v":""},{"$f":"IFERROR(IF(VLOOKUP(2,$J$209:$O$211,4,FALSE)=0,\"-\",VLOOKUP(2,$J$209:$O$211,4,FALSE)),\"\")","v":""},{"$f":"IFERROR(VLOOKUP(2,$J$209:$O$211,5,FALSE),\"\")","v":""},{"$f":"IFERROR(VLOOKUP(2,$J$209:$O$211,6,FALSE),\"\")","v":""}]
[{"$nulls":4},{"$f":"IF(texte!$C$75=texte!$B$84,M162,\"\")","v":""},{"$f":"IF(texte!$C$75=texte!$B$84,$H$162,\"\")","v":""},null,null,{"$f":"IF(O211>0,1,0)","v":1},{"$f":"IF(I211=0,0,I210+I211+I209)","v":1},{"$f":"IF(texte!$C$75=texte!$B$84,N162,IF($O$141<>0,N141,\"\"))","v":"S101614"},{"$f":"IF(texte!$C$75=texte!$B$84,P161,IF($O$141<>0,P141,\"\"))","v":"Электронный насос для AMC 45-65 (класс А)"},{"$f":"IF(texte!$C$75=texte!$B$84,M162,IF($O$141<>0,M141,\"\"))","v":0},{"$f":"IF(texte!$C$75=texte!$B$84,T162,IF($O$141<>0,T141,\"\"))","v":325},{"$f":"IF(texte!$C$75=texte!$B$84,O162,O141)","v":2},null,null,{"$f":"IFERROR(VLOOKUP(3,$J$209:$O$211,2,FALSE),\"\")","v":""},{"$f":"IFERROR(VLOOKUP(3,$J$209:$O$211,3,FALSE),\"\")","v":""},{"$f":"IFERROR(IF(VLOOKUP(3,$J$209:$O$211,4,FALSE)=0,\"-\",VLOOKUP(3,$J$209:$O$211,4,FALSE)),\"\")","v":""},{"$f":"IFERROR(VLOOKUP(3,$J$209:$O$211,5,FALSE),\"\")","v":""},{"$f":"IFERROR(VLOOKUP(3,$J$209:$O$211,6,FALSE),\"\")","v":""}]
[]
[{"$nulls":3},"Brides","HC196","Brides Pleines Gaz DN50",null,null,{"$f":"IF(O213>0,1,0)","v":1},{"$f":"I213","v":1},{"$f":"N91","v":111698},{"$f":"IF(O213<>0,VLOOKUP($K213,'Price List'!$A:$D,2,FALSE),\"\")","v":"1 Глухой фланец на газ DN 50 "},{"$f":"VLOOKUP($K213,'Price List'!$A:$D,3,FALSE)","v":"HC196"},{"$f":"IF(O213<>0,VLOOKUP($K213,'Price List'!$A:$D,4,FALSE),\"\")","v":139},{"$f":"O91","v":1},null,"Sélection","Réf","Désignation (si Qté >0)","Colis","Prix unitaire","Qté"]
[{"$nulls":4},"HC197","Brides Pleines Gaz DN65",null,null,{"$f":"IF(O214>0,1,0)","v":0},{"$f":"IF(I214=0,0,I213+I214)","v":0},{"$f":"N92","v":111699},{"$f":"IF(O214<>0,VLOOKUP($K214,'Price List'!$A:$D,2,FALSE),\"\")","v":""},{"$f":"VLOOKUP($K214,'Price List'!$A:$D,3,FALSE)","v":"HC197"},{"$f":"IF(O214<>0,VLOOKUP($K214,'Price List'!$A:$D,4,FALSE),\"\")","v":""},{"$f":"O92","v":0},null,null,{"$f":"IFERROR(VLOOKUP(1,$J$213:$N$216,2,FALSE),\"\")","v":111698},{"$f":"IFERROR(VLOOKUP(1,$J$213:$N$216,3,FALSE),\"\")","v":"1 Глухой фланец на газ DN 50 "},{"$f":"IFERROR(VLOOKUP(1,$J$213:$N$216,4,FALSE),\"\")","v":"HC196"},{"$f":"IFERROR(VLOOKUP(1,$J$213:$N$216,5,FALSE),\"\")","v":139},{"$f":"IFERROR(VLOOKUP(1,$J$213:$O$216,6,FALSE),\"\")","v":1}]
[{"$nulls":4},"HC198","Brides Pleines Eau DN65",null,null,{"$f":"IF(O215>0,1,0)","v":1},{"$f":"IF(I215=0,0,I215+I214+I213)","v":2},{"$f":"N93","v":111701},{"$f":"IF(O215<>0,VLOOKUP($K215,'Price List'!$A:$D,2,FALSE),\"\")","v":"2  Глухих фланца на воду DN 65"},{"$f":"VLOOKUP($K215,'Price List'!$A:$D,3,FALSE)","v":"HC198"},{"$f":"IF(O215<>0,VLOOKUP($K215,'Price List'!$A:$D,4,FALSE),\"\")","v":196},{"$f":"O93","v":1},null,null,{"$f":"IFERROR(VLOOKUP(2,$J$213:$N$216,2,FALSE),\"\")","v":111701},{"$f":"IFERROR(VLOOKUP(2,$J$213:$N$216,3,FALSE),\"\")","v":"2  Глухих фланца на воду DN 65"},{"$f":"IFERROR(VLOOKUP(2,$J$213:$N$216,4,FALSE),\"\")","v":"HC198"},{"$f":"IFERROR(VLOOKUP(2,$J$213:$N$216,5,FALSE),\"\")","v":196},{"$f":"IFERROR(VLOOKUP(2,$J$213:$O$216,6,FALSE),\"\")","v":1}]
[{"$nulls":4},"HC199","Brides Pleines Eau DN100",null,null,{"$f":"IF(O216>0,1,0)","v":0},{"$f":"IF(I216=0,0,I216+I215+I214+I213)","v":0},{"$f":"N94","v":111703},{"$f":"IF(O216<>0,VLOOKUP($K216,'Price List'!$A:$D,2,FALSE),\"\")","v":""},{"$f":"VLOOKUP($K216,'Price List'!$A:$D,3,FALSE)","v":"HC199"},{"$f":"IF(O216<>0,VLOOKUP($K216,'Price List'!$A:$D,4,FALSE),\"\")","v":""},{"$f":"O94","v":0}]
[{"$nulls":16},"Sélection","Réf","Désignation (si Qté >0)","Colis","Prix unitaire","Qté"]
[{"$nulls":3},"Bouchons","HC195","Jeu de bouchons",null,null,1,1,{"$f":"$N$148","v":111708},{"$f":"$P$148","v":"Набор заглушек"},{"$f":"$M$148","v":"HC195"},{"$f":"$T$148","v":54},{"$f":"$O$148","v":2},null,null,{"$f":"IF(O218=0,\"\",IFERROR(VLOOKUP(1,$J$218:$N$218,2,FALSE),\"\"))","v":111708},{"$f":"IFERROR(VLOOKUP(1,$J$218:$N$218,3,FALSE),\"\")","v":"Набор заглушек"},{"$f":"IF(O218=0,\"\",IFERROR(VLOOKUP(1,$J$218:$N$218,4,FALSE),\"\"))","v":"HC195"},{"$f":"IFERROR(VLOOKUP(1,$J$218:$N$218,5,FALSE),\"\")","v":54},{"$f":"IF(O218=0,\"\",IFERROR(VLOOKUP(1,$J$218:$O$218,6,FALSE),\"\"))","v":2}]
[]
[{"$nulls":3},"Pour Italie",{"$f":"N149","v":116675},{"$f":"H149","v":"KIT INAIL DN65"},null,null,{"$f":"IF(O220>0,1,0)","v":0},{"$f":"I220","v":0},{"$f":"N149","v":116675},{"$f":"P149","v":""},{"$f":"IF(M149=\"\",\"-\",M149)","v":"-"},{"$f":"T149","v":""},{"$f":"O149","v":0},null,"Sélection","Réf","Désignation (si Qté >0)","Colis","Prix unitaire","Qté"]
[{"$nulls":4},{"$f":"N150","v":116741},{"$f":"H150","v":"KIT INAIL DN100"},null,null,0,{"$f":"IF(I221=0,0,I220+I221)","v":0},116741,"","-","",0,null,null,{"$f":"IFERROR(VLOOKUP(1,$J$220:$O$230,2,FALSE),\"\")","v":""},{"$f":"IFERROR(VLOOKUP(1,$J$220:$O$230,3,FALSE),\"\")","v":""},{"$f":"IFERROR(IF(VLOOKUP(1,$J$220:$O$230,4,FALSE)=0,\"-\",VLOOKUP(1,$J$220:$O$230,4,FALSE)),\"\")","v":""},{"$f":"IFERROR(VLOOKUP(1,$J$220:$O$230,5,FALSE),\"\")","v":""},{"$f":"IFERROR(VLOOKUP(1,$J$220:$O$230,6,FALSE),\"\")","v":""}]
[{"$nulls":4},{"$f":"N151","v":"004087000"},{"$f":"H151","v":"KIT INAIL pour collecteurs"},null,null,0,{"$f":"IF(I222=0,0,I221+I222+I220)","v":0},"004087000","","-","",0,null,null,{"$f":"IFERROR(VLOOKUP(2,$J$220:$O$230,2,FALSE),\"\")","v":""},{"$f":"IFERROR(VLOOKUP(2,$J$220:$O$230,3,FALSE),\"\")","v":""},{"$f":"IFERROR(IF(VLOOKUP(2,$J$220:$O$230,4,FALSE)=0,\"-\",VLOOKUP(2,$J$220:$O$230,4,FALSE)),\"\")","v":""},{"$f":"IFERROR(VLOOKUP(2,$J$220:$O$230,5,FALSE),\"\")","v":""},{"$f":"IFERROR(VLOOKUP(2,$J$220:$O$230,6,FALSE),\"\")","v":""}]
[{"$nulls":4},{"$f":"N152","v":"004062001"},{"$f":"H152","v":"Vase d'expansion "},null,null,0,{"$f":"IF(I223=0,0,I222+I223+I221+I220)","v":0},"004062001","","-","",0,null,null,{"$f":"IFERROR(VLOOKUP(3,$J$220:$O$230,2,FALSE),\"\")","v":""},{"$f":"IFERROR(VLOOKUP(3,$J$220:$O$230,3,FALSE),\"\")","v":""},{"$f":"IFERROR(IF(VLOOKUP(3,$J$220:$O$230,4,FALSE)=0,\"-\",VLOOKUP(3,$J$220:$O$230,4,FALSE)),\"\")","v":""},{"$f":"IFERROR(VLOOKUP(3,$J$220:$O$230,5,FALSE),\"\")","v":""},{"$f":"IFERROR(VLOOKUP(3,$J$220:$O$230,6,FALSE),\"\")","v":""}]
[{"$nulls":8},0,{"$f":"IF(I224=0,0,I223+I224+I222+I221+I220)","v":0},0,"","-","",0,null,null,{"$f":"IFERROR(VLOOKUP(4,$J$220:$O$230,2,FALSE),\"\")","v":""},{"$f":"IFERROR(VLOOKUP(4,$J$220:$O$230,3,FALSE),\"\")","v":""},{"$f":"IFERROR(IF(VLOOKUP(4,$J$220:$O$230,4,FALSE)=0,\"-\",VLOOKUP(4,$J$220:$O$230,4,FALSE)),\"\")","v":""},{"$f":"IFERROR(VLOOKUP(4,$J$220:$O$230,5,FALSE),\"\")","v":""},{"$f":"IFERROR(VLOOKUP(4,$J$220:$O$230,6,FALSE),\"\")","v":""}]
[{"$nulls":4},{"$f":"N154","v":"004087013"},{"$f":"H154","v":"KIT  ACCESSORI  INAIL PER MODULO COLLETTORE "},null,null,0,{"$f":"IF(I225=0,0,I224+I225+I223+I222+I221+I220)","v":0},"004087013","","-","",0,null,null,{"$f":"IFERROR(VLOOKUP(5,$J$220:$O$230,2,FALSE),\"\")","v":""},{"$f":"IFERROR(VLOOKUP(5,$J$220:$O$230,3,FALSE),\"\")","v":""},{"$f":"IFERROR(IF(VLOOKUP(5,$J$220:$O$230,4,FALSE)=0,\"-\",VLOOKUP(5,$J$220:$O$230,4,FALSE)),\"\")","v":""},{"$f":"IFERROR(VLOOKUP(5,$J$220:$O$230,5,FALSE),\"\")","v":""},{"$f":"IFERROR(VLOOKUP(5,$J$220:$O$230,6,FALSE),\"\")","v":""}]
[{"$nulls":4},{"$f":"N155","v":"004087014"},{"$f":"H155","v":"KIT  ACCESSORI  INAIL PER MODULO COLLETTORE "},null,null,0,{"$f":"IF(I226=0,0,I225+I226+I224+I223+I222+I221+I220)","v":0},"004087014","","-","",0,null,null,{"$f":"IFERROR(VLOOKUP(6,$J$220:$O$230,2,FALSE),\"\")","v":""},{"$f":"IFERROR(VLOOKUP(6,$J$220:$O$230,3,FALSE),\"\")","v":""},{"$f":"IFERROR(IF(VLOOKUP(6,$J$220:$O$230,4,FALSE)=0,\"-\",VLOOKUP(6,$J$220:$O$230,4,FALSE)),\"\")","v":""},{"$f":"IFERROR(VLOOKUP(6,$J$220:$O$230,5,FALSE),\"\")","v":""},{"$f":"IFERROR(VLOOKUP(6,$J$220:$O$230,6,FALSE),\"\")","v":""}]
[{"$nulls":4},{"$f":"N156","v":"004087012"},{"$f":"H156","v":"KIT PRESSOSTATO DI MINIMA"},null,null,0,{"$f":"IF(I227=0,0,I226+I227+I225+I224+I223+I222+I221+I220)","v":0},"004087012","","-","",0]
[{"$nulls":4},{"$f":"N157","v":"004087015"},{"$f":"H157","v":"KIT  ACCESSORI  INAIL PER MODULO COLLETTORE "},null,null,{"$f":"IF(O228>0,1,0)","v":0},{"$f":"IF(I228=0,0,I227+I228+I226+I225+I224+I223+I222+I221+I220)","v":0},"004087015","","-","",0]
[{"$nulls":8},0,{"$f":"IF(I229=0,0,I228+I229+I227+I226+I225+I224+I223+I222+I221+I220)","v":0},0,"","-","",0]
[{"$nulls":4},{"$f":"N159","v":"S100310"},{"$f":"H159","v":"Thermostat fumées (1 par chaudière 45-115)"},null,null,0,{"$f":"IF(I230=0,0,I229+I230+I228+I227+I226+I225+I224+I223+I222+I221+I220)","v":0},"S100310","","HR43","",0]
[]
[{"$nulls":3},"Communication"]
[{"$nulls":3},"Sonde","HC206","Sonde et doigt de gant <350kW",null,null,{"$f":"IF(O233>0,1,0)","v":1},{"$f":"I233","v":1},{"$f":"N145","v":100013027},{"$f":"IFERROR(VLOOKUP($K233,'Price List'!$A:$D,2,FALSE),\"\")","v":"Датчик каскада с погружной гильзой (<350 кВт)"},{"$f":"IFERROR(VLOOKUP($K233,'Price List'!$A:$D,3,FALSE),\"\")","v":"HC223"},{"$f":"IFERROR(VLOOKUP($K233,'Price List'!$A:$D,4,FALSE),\"\")","v":175},{"$f":"O145","v":1},null,"Sélection","Réf","Désignation (si Qté >0)","Colis","Prix unitaire","Qté"]
[{"$nulls":4},"HC223","Sonde et doigt de gant >350kW",null,null,{"$f":"IF(O234>0,1,0)","v":0},{"$f":"I233+I234","v":1},{"$f":"N146","v":100008701},{"$f":"IFERROR(VLOOKUP($K234,'Price List'!$A:$D,2,FALSE),\"\")","v":"Датчик каскада с погружной гильзой"},{"$f":"IFERROR(VLOOKUP($K234,'Price List'!$A:$D,3,FALSE),\"\")","v":"HC206"},{"$f":"IFERROR(VLOOKUP($K234,'Price List'!$A:$D,4,FALSE),\"\")","v":205},{"$f":"O146","v":0},null,null,{"$f":"IFERROR(VLOOKUP(1,$J$233:$O$234,2,FALSE),\"\")","v":100013027},{"$f":"IFERROR(VLOOKUP(1,$J$233:$O$234,3,FALSE),\"\")","v":"Датчик каскада с погружной гильзой (<350 кВт)"},{"$f":"IFERROR(VLOOKUP(1,$J$233:$O$234,4,FALSE),\"\")","v":"HC223"},{"$f":"IFERROR(VLOOKUP(1,$J$233:$O$234,5,FALSE),\"\")","v":175},{"$f":"IFERROR(VLOOKUP(1,$J$233:$O$234,6,FALSE),\"\")","v":1}]
[]
[{"$nulls":3},"BUS","AD308","Câble S-BUS  L = 1,5 m",null,null,{"$f":"IF(O236>0,1,0)","v":1},{"$f":"I236","v":1},{"$f":"IF(O236=0,\"\",N143)","v":7663618},{"$f":"IFERROR(P143,\"\")","v":"Кабель S-BUS длиной 1,5 м"},{"$f":"IF(O236=0,\"\",M143)","v":"AD308"},{"$f":"IFERROR(T143,\"\")","v":114},{"$f":"IFERROR(O143,\"\")","v":1},null,"Sélection","Réf","Désignation (si Qté >0)","Colis","Prix unitaire","Qté"]
[{"$nulls":4},"AD134","Câble Bus Diematic L = 1,5 m",null,null,{"$f":"IF(O237>0,1,0)","v":0},{"$f":"I237+I236","v":1},{"$f":"IF(O237=0,\"\",N144)","v":""},{"$f":"IFERROR(P144,\"\")","v":""},{"$f":"IF(O237=0,\"\",M144)","v":""},{"$f":"IFERROR(T144,\"\")","v":""},{"$f":"IFERROR(O144,\"\")","v":0},null,null,{"$f":"IFERROR(VLOOKUP(1,$J$236:$O$237,2,FALSE),\"\")","v":7663618},{"$f":"IFERROR(VLOOKUP(1,$J$236:$O$237,3,FALSE),\"\")","v":"Кабель S-BUS длиной 1,5 м"},{"$f":"IFERROR(IF(VLOOKUP(1,$J$236:$O$237,4,FALSE)=0,\"-\",VLOOKUP(1,$J$236:$O$237,4,FALSE)),\"\")","v":"AD308"},{"$f":"IFERROR(VLOOKUP(1,$J$236:$O$237,5,FALSE),\"\")","v":114},{"$f":"IFERROR(VLOOKUP(1,$J$236:$O$237,6,FALSE),\"\")","v":1}]
[]
[{"$nulls":3},"Interface",{"$f":"M160","v":"AD286"},{"$f":"C160","v":"Cassette murale OTH / MODBUS"},null,null,{"$f":"IF(O160>0,1,0)","v":0},{"$f":"I239","v":0},{"$f":"IF(O239=0,\"\",$N$160)","v":""},{"$f":"IF(O239=0,\"\",$P$160)","v":""},{"$f":"IF(O239=0,\"\",$M$160)","v":""},{"$f":"IF(O239=0,\"\",$T$160)","v":""},{"$f":"O160","v":0},null,"Sélection","Réf","Désignation (si Qté >0)","Colis","Prix unitaire","Qté"]
[{"$nulls":17},{"$f":"IFERROR(VLOOKUP(1,$J$239:$O$239,2,FALSE),\"\")","v":""},{"$f":"IFERROR(VLOOKUP(1,$J$239:$O$239,3,FALSE),\"\")","v":""},{"$f":"IFERROR(IF(VLOOKUP(1,$J$239:$O$239,4,FALSE)=0,\"-\",VLOOKUP(1,$J$239:$O$239,4,FALSE)),\"\")","v":""},{"$f":"IFERROR(VLOOKUP(1,$J$239:$O$239,5,FALSE),\"\")","v":""},{"$f":"IFERROR(VLOOKUP(1,$J$239:$O$239,6,FALSE),\"\")","v":""}]
[]
[{"$nulls":3},"Fumisterie",{"$nulls":12},"Sélection","Réf","Désignation (si Qté >0)","Colis","Prix unitaire","Qté"]
[{"$nulls":3},"Fumisterie","DY768","Adaptateur alu 80/100 pour MCA 45",null,null,{"$f":"IF(O243>0,1,0)","v":1},{"$f":"I243","v":1},{"$f":"N147","v":84887768},{"$f":"P147","v":"Переходник D80/100 "},{"$f":"M147","v":"DY768"},{"$f":"T147","v":76},{"$f":"IF(texte!$C$75=texte!$B$83,0,$O$147)","v":2},null,null,{"$f":"IFERROR(VLOOKUP(1,$J$243:$O$243,$AT$187,FALSE),\"\")","v":84887768},{"$f":"IFERROR(VLOOKUP(1,$J$243:$O$243,$AT$188,FALSE),\"\")","v":"Переходник D80/100 "},{"$f":"IFERROR(VLOOKUP(1,$J$243:$O$243,$AT$189,FALSE),\"\")","v":"DY768"},{"$f":"IFERROR(VLOOKUP(1,$J$243:$O$243,$AT$190,FALSE),\"\")","v":76},{"$f":"IFERROR(VLOOKUP(1,$J$243:$O$243,$AT$191,FALSE),\"\")","v":2}]
[]
[]
[]
[]
[]
[]
[{"$nulls":3},"DEVIS  MCA CASCADE 160"]
[]
[{"$nulls":23},"Kit de base ",{"$nulls":10},"Options"]
[]
[{"$nulls":23},"Colis",{"$nulls":10},"Colis"]
[{"$nulls":3},"Chiffrage ",{"$nulls":29},"x","HC255","Filtre Gaz DN50"]
[{"$nulls":22},"Support","x","HC249","Montant support L pour MCA 45/115",{"$nulls":8},"HC256","Filtre Gaz DN65"]
[{"$nulls":4},"Système","Référence","Désignation",{"$nulls":5},"Colis","Prix unitaire","Qtté préconisée","Qtté modifiée",{"$nulls":8},"EH662","Montant support L pour MCA 160"]
[{"$nulls":13},"en €",{"$nulls":10},"HC250","Montant support I pour MCA 45/115",{"$nulls":7},"x","HC211","Rallonge pour filtre gaz DN50"]
[{"$nulls":24},"EH663","Montant support I pour MCA 160",{"$nulls":8},"HC212","Rallonge pour filtre gaz DN65"]
[{"$nulls":4},{"$f":"M37","v":"LW.082kW.20000"},{"$f":"texte!$B$59","v":"Базовый комплект "},{"$nulls":18},"HC248","Chassis de montage MCA 45/115"]
[{"$nulls":24},"EH664","Chassis de montage  MCA 160 combinée",{"$nulls":7},"x","HC217","Jeu de contre-brides à souder DN65"]
[{"$nulls":5},{"$f":"texte!$B$47","v":"Опора"},{"$nulls":18},"HC192","Rail de montage mural 2 chaudières MCA 45/115",{"$nulls":8},"HC218","Jeu de contre-brides à souder DN100"]
[{"$nulls":24},"EH670","Rail de montage mural 2 chaudières MCA 160",{"$nulls":8},"EH669","Jeu de contre brides à souder DN65"]
[{"$nulls":4},"x",{"$f":"R171","v":111688},"Кронштейн для монтажа на стене 2 котлов",{"$nulls":5},{"$f":"T171","v":"HC192"},57,1,{"$nulls":9},"HC193","Rail de montage mural 3 chaudières MCA 45/115"]
[{"$nulls":4},"x","","",{"$nulls":5},"","","",{"$nulls":9},"EH671","Rail de montage mural 3 chaudières MCA 160",{"$nulls":7},"x","HC209","Coudes DN65"]
[{"$nulls":4},"x","","",{"$nulls":5},"","","",{"$nulls":9},"HC194","Rail de montage mural 4 chaudières MCA 45/115",{"$nulls":8},"HC210","Coudes DN100"]
[{"$nulls":4},"x","","",{"$nulls":5},"","",""]
[{"$nulls":22},"Hydraulique","x","HC222","Bouteille de découplage DN65 (jusqu'à 350 kW)",{"$nulls":7},"x","HC213","Isolation collecteur MCA 45/115"]
[{"$nulls":5},{"$f":"texte!$B$50","v":"Гидравлика"},{"$nulls":18},"HC200","Bouteille de découplage DN65 (de 350 à 460 kW)",{"$nulls":8},"EH647","Isolation collecteur MCA 160"]
[{"$nulls":24},"HC201","Bouteille de découplage DN100 (supérieur à 460 kW)",{"$nulls":8},"HC252","Isolation raccordement chaudière MCA 45/115"]
[{"$nulls":4},"x",{"$f":"R187","v":114311},{"$f":"S187","v":"Гидравлическая стрелка DN 65 (< 350 кВт)"},{"$nulls":5},{"$f":"T187","v":"HC222"},{"$f":"U187","v":817},{"$f":"V187","v":1},{"$nulls":19},"EH648","Isolation raccordement chaudière MCA 160"]
[{"$nulls":4},"x",{"$f":"R191","v":110968},{"$f":"S191","v":"Коллектор на 2 котла DN 65"},{"$nulls":5},{"$f":"T191","v":"HC188"},1256,1,{"$nulls":8},"x","HC188","Collecteur 2 chaudières DN 65 pour MCA 45/115",{"$nulls":8},"HC243","Isolation Arrière pour MCA 45-115 en montage"]
[{"$nulls":4},"x",{"$f":"R192","v":""},{"$f":"S192","v":""},{"$nulls":5},"","","",{"$nulls":9},"HC190","Collecteur 2 chaudières DN 100 pour MCA 45/115",{"$nulls":8},"EH649","Plaque d'isolation arrière MCA 160"]
[{"$nulls":24},"EH676","Collecteur 2 chaudières DN 100 pour MCA 160",{"$nulls":8},"EH650","Isolation adaptateur DN65/DN100"]
[{"$nulls":4},"x",{"$f":"R200","v":111022},"Набор подключения котла",{"$nulls":5},{"$f":"T200","v":"HC202"},803,2,{"$nulls":9},"HC187","Collecteur 3 chaudières DN 65 pour MCA 45/115",{"$nulls":8},"HC215","Isolation bouteille de découplage"]
[{"$nulls":4},"x","","",{"$nulls":5},"","","",{"$nulls":9},"HC189","Collecteur 3 chaudières DN 100 pour MCA 45/115",{"$nulls":8},"HC224","Isolation bouteille de découlage (jusqu'à 350 kW)"]
[{"$nulls":4},"x","","",{"$nulls":5},"","","",{"$nulls":9},"EH677","Collecteur 3 chaudières DN 100 pour MCA 160",{"$nulls":8},"HC216","Isolation coudes 90°"]
[{"$nulls":4},"x","","",{"$nulls":5},"","","",{"$nulls":9},"HC186","Collecteur 4 chaudières DN 65 pour MCA 45/115"]
[{"$nulls":4},"x",{"$f":"R206","v":""},{"$f":"S206","v":""},{"$nulls":5},{"$f":"T206","v":""},{"$f":"U206","v":""},{"$f":"V206","v":""},{"$nulls":9},"HC191","Collecteur 4 chaudières DN 100 pour MCA 45/115",{"$nulls":7},"x","HC219","Pieds réglables"]
[{"$nulls":4},"x",{"$f":"R209","v":"S101614"},"Электронный насос для AMC 45-65 (класс А)",{"$nulls":5},{"$f":"T209","v":"-"},325,2]
[{"$nulls":4},"x","","",{"$nulls":5},"","","",{"$nulls":8},"x","EH654","Adaptateur DN65/DN100  pour collecteur DN65",{"$nulls":7},"Les quantités préconisées sont indiquées mais on peut les modifier"]
[{"$nulls":4},"x","","",{"$nulls":5},"","",""]
[{"$nulls":23},"x","SA13","Pompe pour MCA 65/90/115"]
[{"$nulls":4},"x",{"$f":"R214","v":111698},{"$f":"S214","v":"1 Глухой фланец на газ DN 50 "},{"$nulls":5},{"$f":"T214","v":"HC196"},139,1,{"$nulls":9},"EH651","Pompe pour MCA 160"]
[{"$nulls":4},"x",{"$f":"R215","v":111701},{"$f":"S215","v":"2  Глухих фланца на воду DN 65"},{"$nulls":5},"HC198",196,1,{"$nulls":9},"HC147","Pompe pour MCA 45"]
[{"$nulls":4},"x",{"$f":"R218","v":111708},{"$f":"S218","v":"Набор заглушек"},{"$nulls":5},{"$f":"T218","v":"HC195"},{"$f":"U218","v":54},{"$f":"V218","v":2}]
[{"$nulls":23},"x","HC206","Sonde et doigt de gant <350kW"]
[{"$nulls":4},"x",{"$f":"R221","v":""},{"$f":"S221","v":""},{"$nulls":5},{"$f":"T221","v":""},{"$f":"U221","v":""},{"$f":"V221","v":""},{"$nulls":9},"HC223","Sonde et doigt de gant >350kW"]
[{"$nulls":4},"x",{"$f":"R222","v":""},{"$f":"S222","v":""},{"$nulls":5},{"$f":"T222","v":""},{"$f":"U222","v":""},{"$f":"V222","v":""}]
[{"$nulls":4},"x","","",{"$nulls":5},"","","",{"$nulls":8},"x","EH655","Raccordement collecteur MCA 45/115"]
[{"$nulls":4},"x","","",{"$nulls":5},"","","",{"$nulls":9},"EH656","Raccordement collecteur MCA 160"]
[{"$nulls":4},"x","","",{"$nulls":5},"","","",{"$nulls":9},"HC203","Kit de raccordement collecteur chaudière RG MCA 45/115"]
[{"$nulls":4},"x","","",{"$nulls":5},"","","",{"$nulls":9},"HC202","Kit de raccordement avant "]
[{"$nulls":24},"EH657","Kit de raccordement collecteur chaudière RG MCA 45/115"]
[{"$nulls":5},{"$f":"texte!B63","v":"регулирование "},{"$nulls":18},"EH658","Kit de raccordement collecteur chaudière RG MCA 160"]
[]
[{"$nulls":4},"x",{"$f":"R234","v":100013027},{"$f":"S234","v":"Датчик каскада с погружной гильзой (<350 кВт)"},{"$nulls":5},{"$f":"T234","v":"HC223"},{"$f":"U234","v":175},{"$f":"V234","v":1},{"$nulls":8},"x","HC196","Brides Pleines Gaz DN50"]
[{"$nulls":4},"x",{"$f":"R237","v":7663618},{"$f":"S237","v":"Кабель S-BUS длиной 1,5 м"},{"$nulls":5},{"$f":"T237","v":"AD308"},{"$f":"U237","v":114},{"$f":"V237","v":1},{"$nulls":9},"HC197","Brides Pleines Gaz DN65"]
[{"$nulls":4},"x",{"$f":"R240","v":""},{"$f":"S240","v":""},{"$nulls":5},{"$f":"T240","v":""},{"$f":"U240","v":""},{"$f":"V240","v":""},{"$nulls":8},"x","HC198","Brides Pleines Eau DN65"]
[{"$nulls":24},"HC199","Brides Pleines Eau DN100"]
[{"$nulls":23},"x","HC195","Jeu de bouchons"]
[{"$nulls":5},{"$f":"texte!$B$60","v":"опции "},{"$nulls":16},"Pour Italie uniquement","x",{"$f":"E220","v":116675},"KIT INAIL DN65"]
[{"$nulls":24},116741,"KIT INAIL DN100"]
[{"$nulls":24},"004087000","KIT INAIL pour collecteurs"]
[{"$nulls":4},"x",{"$f":"AN171","v":"S101655"},"Газовый фильтр DN 50",{"$nulls":5},{"$f":"AP171","v":"HC255"},321,1,{"$f":"'Выбор котлов'!Q92","v":""},{"$nulls":8},"004062001","Vase d'expansion "]
[{"$nulls":4},"x",111805,"Труба для газового фильтра DN 50",{"$nulls":5},"HC211",343,1,{"$f":"'Выбор котлов'!Q93","v":""}]
[{"$nulls":4},"x",111788,"Набор колен DN 65",{"$nulls":5},"HC209",856,1,{"$f":"'Выбор котлов'!Q94","v":""},{"$nulls":8},{"$f":"E225","v":"004087013"},"KIT  ACCESSORI  INAIL PER MODULO COLLETTORE "]
[{"$nulls":4},"x",112632,"Набор контрфланцев под сварку DN 65",{"$nulls":5},"HC217",196,1,{"$f":"'Выбор котлов'!Q95","v":""},{"$nulls":8},"004087014","KIT  ACCESSORI  INAIL PER MODULO COLLETTORE "]
[{"$nulls":15},{"$f":"'Выбор котлов'!Q96","v":""},{"$nulls":8},"004087012","KIT PRESSOSTATO DI MINIMA"]
[{"$nulls":4},"x",{"$f":"AN186","v":111069},"Изоляция для коллектора",{"$nulls":5},{"$f":"AP186","v":"HC213"},114,2,{"$f":"'Выбор котлов'!Q97","v":""},{"$nulls":8},"004087015","KIT  ACCESSORI  INAIL PER MODULO COLLETTORE "]
[{"$nulls":4},"x",122441,"Теплоизоляция набора для подключения котла",{"$nulls":5},"HC252",84,2,{"$f":"'Выбор котлов'!Q98","v":""}]
[{"$nulls":4},"x",115269,"Изоляция для гидравлической стрелки (<350 кВт)",{"$nulls":5},"HC224",46,1,{"$f":"'Выбор котлов'!Q99","v":""},{"$nulls":8},{"$f":"E230","v":"S100310"},{"$f":"F230","v":"Thermostat fumées (1 par chaudière 45-115)"}]
[{"$nulls":4},"x",111167,"Изоляция для колена 90°",{"$nulls":5},"HC216",132,1,{"$f":"'Выбор котлов'!Q100","v":""},{"$nulls":6},"Régulation","x","AD308","Câble S-BUS  L = 1,5 m"]
[{"$nulls":4},"x","","",{"$nulls":5},"","","",{"$f":"'Выбор котлов'!Q101","v":""},{"$nulls":8},"AD134","Câble Bus Diematic L = 1,5 m"]
[{"$nulls":4},"x","","",{"$nulls":5},"","","",{"$f":"'Выбор котлов'!Q102","v":""}]
[{"$nulls":4},"x","","",{"$nulls":5},"","","",{"$f":"'Выбор котлов'!Q103","v":""},{"$nulls":6},"Fumisterie","x","DY768","Adaptateur alu 80/100 pour MCA 45"]
[{"$nulls":4},"x","","",{"$nulls":5},"","","",{"$f":"'Выбор котлов'!Q104","v":""}]
[{"$nulls":4},"x",{"$f":"R243","v":84887768},{"$f":"S243","v":"Переходник D80/100 "},{"$nulls":5},{"$f":"T243","v":"DY768"},{"$f":"U243","v":76},{"$f":"V243","v":2}]
[{"$nulls":23},"Les quantités sont imposées et non modifiable"]

{"sheet":"Spécificités","index":7,"n_rows":81,"n_cols":22,"rows_kept":81,"hidden":true,"merged":[[0,0,4,0],[0,1,2,21],[3,1,4,1],[3,2,3,3],[3,4,3,5],[3,6,3,7],[3,8,3,9],[3,10,3,11],[3,12,3,13],[3,14,3,15],[3,16,3,17],[3,18,3,19],[3,20,3,21],[5,0,9,0],[10,0,17,0],[18,0,20,0],[22,0,27,0],[28,0,31,0],[32,0,42,0],[43,0,44,0],[45,0,46,0],[47,0,48,0],[49,0,58,0],[60,0,62,0],[64,0,65,0],[66,0,67,0],[70,0,75,0],[76,0,80,0]]}
[null,"Liste des règles spécifiques à chaque pays"]
[]
[]
[null,null,{"$f":"texte!$B$84","v":"Français"},null,{"$f":"texte!$B$81","v":"Deutsch"},null,{"$f":"texte!$B$82","v":"English"},null,{"$f":"texte!$B$83","v":"Español"},null,{"$f":"texte!$B$85","v":"Italiano"},null,{"$f":"texte!$B$86","v":"Polsky"},null,{"$f":"texte!$B$87","v":"Русский"},null,{"$f":"texte!$B$88","v":"Nederlands"},null,{"$f":"texte!$B$89","v":"Česky"},null,{"$f":"+texte!$B$90","v":"Belge"}]
[null,null,"Colis","Règle","Colis","Règle","Colis","Règle","Colis","Règle","Colis","Règle","Colis","Règle","Colis","Règle","Colis","Règle","Colis","Règle","Colis","Règle"]
["POMPES","Pompe pour MCA 65/90/115",7630016,"1 par chaudière 65/90/115","",null,"",null,"",null,"",null,"",null,"",null,"",null,"",null,""]
[null,"Pompe pour MCA 160","EH651","1 par chaudière 160","EH651","1 par chaudière 160","EH651","1 par chaudière 160","EH651","1 par chaudière 160","EH651","1 par chaudière 160","EH651","1 par chaudière 160","EH651","1 par chaudière 160","EH651","1 par chaudière 160","EH651","1 par chaudière 160","EH651","1 par chaudière 160"]
[null,"Pompe pour MCA 45","HC147","1 par chaudière 45","",null,"",null,"",null,"",null,"",null,"",null,"",null,"",null,""]
[null,"Pompe MCA 45-65","",null,7608398,"1 par chaudière 45/65",7608398,"1 par chaudière 45/65",7608398,"1 par chaudière 45/65",7608398,"1 par chaudière 45/65",7608398,"1 par chaudière 45/65",7608398,"1 par chaudière 45/65","S101614","1 par chaudière 45/65",7608398,"1 par chaudière 45/65",7608398,"1 par chaudière 45/65"]
[null,"Pompe MCA 90-115","",null,7608398,"1 par chaudière 90/115",7608398,"1 par chaudière 90/115",7608398,"1 par chaudière 90/115",7608398,"1 par chaudière 90/115",7608398,"1 par chaudière 90/115",7608398,"1 par chaudière 90/115",7608398,"1 par chaudière 90/115",7608398,"1 par chaudière 90/115",7608398,"1 par chaudière 90/115"]
["COLLECTEURS","Collecteur 2 chaudières DN 65 pour MCA 45/115","HC259"," Si seul : 1 * si  2 MCA  45/115 {} Si mixte : 0","HC188","DN 65 si P < 450 kW {} Si Mixte = 0 ","HC188","DN 65 si P < 450 kW {} Si Mixte = 0 ","HC188","DN 65 si P < 450 kW {} Si Mixte = 0 ","HC188","DN 65 si P < 450 kW {} Si Mixte = 0 ","HC188","DN 65 si P < 450 kW {} Si Mixte = 0 ","HC188","DN 65 si P < 450 kW {} Si Mixte = 0 ","HC188","DN 65 si P < 450 kW {} Si Mixte = 0 ","HC188","DN 65 si P < 450 kW {} Si Mixte = 0 ",{"$f":"+I11","v":"HC188"},{"$f":"+J11","v":"DN 65 si P < 450 kW {} Si Mixte = 0 "}]
[null,"Collecteur 2 chaudières DN 100 pour MCA 45/115","HC259","Pas de collecteur DN100 en France","HC190","DN 100 si P > 450 kW {} Si Mixte = 0 ","HC190","DN 100 si P > 450 kW {} Si Mixte = 0 ","HC190","DN 100 si P > 450 kW {} Si Mixte = 0 ","HC190","DN 100 si P > 450 kW {} Si Mixte = 0 ","HC190","DN 100 si P > 450 kW {} Si Mixte = 0 ","HC190","DN 100 si P > 450 kW {} Si Mixte = 0 ","HC190","DN 100 si P > 450 kW {} Si Mixte = 0 ","HC190","DN 100 si P > 450 kW {} Si Mixte = 0 ","HC190","DN 100 si P > 450 kW {} Si Mixte = 0 "]
[null,"Collecteur 2 chaudières DN 100 pour MCA 160","EH652","Si seul : 1 * si 2 MCA  160 {} Si mixte : 1 * si 2 MCA 45/160","EH676","Si Mixte : 1 * si 2 MCA 45/160 {} Si seul : 1 * si 2 MCA 160","EH676","Si Mixte : 1 * si 2 MCA 45/160 {} Si seul : 1 * si 2 MCA 160","EH676","Si Mixte : 1 * si 2 MCA 45/160 {} Si seul : 1 * si 2 MCA 160","EH676","Si Mixte : 1 * si 2 MCA 45/160 {} Si seul : 1 * si 2 MCA 160","EH676","Si Mixte : 1 * si 2 MCA 45/160 {} Si seul : 1 * si 2 MCA 160","EH676","Si Mixte : 1 * si 2 MCA 45/160 {} Si seul : 1 * si 2 MCA 160","EH676","Si Mixte : 1 * si 2 MCA 45/160 {} Si seul : 1 * si 2 MCA 160","EH676","Si Mixte : 1 * si 2 MCA 45/160 {} Si seul : 1 * si 2 MCA 160","EH676","Si Mixte : 1 * si 2 MCA 45/160 {} Si seul : 1 * si 2 MCA 160"]
[null,"Collecteur 3 chaudières DN 65 pour MCA 45/115","HC260","Si seul : 1 * si 3 MCA 45/115 : 2 * si 6 MCA 45/115 {} Si mixte : 0","HC187","DN 65 si P < 450 kW {} Si Mixte = 0 ","HC187","DN 65 si P < 450 kW {} Si Mixte = 0 ","HC187","DN 65 si P < 450 kW {} Si Mixte = 0 ","HC187","DN 65 si P < 450 kW {} Si Mixte = 0 ","HC187","DN 65 si P < 450 kW {} Si Mixte = 0 ","HC187","DN 65 si P < 450 kW {} Si Mixte = 0 ","HC187","DN 65 si P < 450 kW {} Si Mixte = 0 ","HC187","DN 65 si P < 450 kW {} Si Mixte = 0 ","HC187","DN 65 si P < 450 kW {} Si Mixte = 0 "]
[null,"Collecteur 3 chaudières DN 100 pour MCA 45/115","HC260","Pas de collecteur DN100 en France","HC189","DN 100 si P > 450 kW {} Si Mixte = 0 ","HC189","DN 100 si P > 450 kW {} Si Mixte = 0 ","HC189","DN 100 si P > 450 kW {} Si Mixte = 0 ","HC189","DN 100 si P > 450 kW {} Si Mixte = 0 ","HC189","DN 100 si P > 450 kW {} Si Mixte = 0 ","HC189","DN 100 si P > 450 kW {} Si Mixte = 0 ","HC189","DN 100 si P > 450 kW {} Si Mixte = 0 ","HC189","DN 100 si P > 450 kW {} Si Mixte = 0 ","HC189","DN 100 si P > 450 kW {} Si Mixte = 0 "]
[null,"Collecteur 3 chaudières DN 100 pour MCA 160","EH653","Si seul : 1 * si 3 MCA  160 ou 2* si 6 MCA {} Si mixte : 1 * si 3 MCA 45/160 ou 2* si 6 MCA 45/160","EH677","Si Mixte : 1 * si 3 MCA 45/160 ou 2 * si 6 MCA 45/115 {} Si seul : 1 * si 3 MCA 160 ou 2 * si 6 MCA 160 ","EH677","Si Mixte : 1 * si 3 MCA 45/160 ou 2 * si 6 MCA 45/115 {} Si seul : 1 * si 3 MCA 160 ou 2 * si 6 MCA 160 ","EH677","Si Mixte : 1 * si 3 MCA 45/160 ou 2 * si 6 MCA 45/115 {} Si seul : 1 * si 3 MCA 160 ou 2 * si 6 MCA 160 ","EH677","Si Mixte : 1 * si 3 MCA 45/160 ou 2 * si 6 MCA 45/115 {} Si seul : 1 * si 3 MCA 160 ou 2 * si 6 MCA 160 ","EH677","Si Mixte : 1 * si 3 MCA 45/160 ou 2 * si 6 MCA 45/115 {} Si seul : 1 * si 3 MCA 160 ou 2 * si 6 MCA 160 ","EH677","Si Mixte : 1 * si 3 MCA 45/160 ou 2 * si 6 MCA 45/115 {} Si seul : 1 * si 3 MCA 160 ou 2 * si 6 MCA 160 ","EH677","Si Mixte : 1 * si 3 MCA 45/160 ou 2 * si 6 MCA 45/115 {} Si seul : 1 * si 3 MCA 160 ou 2 * si 6 MCA 160 ","EH677","Si Mixte : 1 * si 3 MCA 45/160 ou 2 * si 6 MCA 45/115 {} Si seul : 1 * si 3 MCA 160 ou 2 * si 6 MCA 160 ","EH677","Si Mixte : 1 * si 3 MCA 45/160 ou 2 * si 6 MCA 45/115 {} Si seul : 1 * si 3 MCA 160 ou 2 * si 6 MCA 160 "]
[null,"Collecteur 4 chaudières DN 65 pour MCA 45/115","HC259","collecteur 2 MCA car 4 MCA inexistant {} 2 * si 4 MCA 45/115 ou 4 * si 8 MCA 45/115 {} si mixte = 0","HC186","DN 65 si P < 450 kW {} Si Mixte = 0 ","HC186","DN 65 si P < 450 kW {} Si Mixte = 0 ","HC186","DN 65 si P < 450 kW {} Si Mixte = 0 ","HC186","DN 65 si P < 450 kW {} Si Mixte = 0 ","HC186","DN 65 si P < 450 kW {} Si Mixte = 0 ","HC186","DN 65 si P < 450 kW {} Si Mixte = 0 ","HC186","DN 65 si P < 450 kW {} Si Mixte = 0 ","HC186","DN 65 si P < 450 kW {} Si Mixte = 0 ","HC186","DN 65 si P < 450 kW {} Si Mixte = 0 "]
[null,"Collecteur 4 chaudières DN 100 pour MCA 45/115","HC259","Pas de collecteur DN100 en France pour MCA 45-115","HC191","DN 100 si P > 450 kW {} Si Mixte = 0 ","HC191","DN 100 si P > 450 kW {} Si Mixte = 0 ","HC191","DN 100 si P > 450 kW {} Si Mixte = 0 ","HC191","DN 100 si P > 450 kW {} Si Mixte = 0 ","HC191","DN 100 si P > 450 kW {} Si Mixte = 0 ","HC191","DN 100 si P > 450 kW {} Si Mixte = 0 ","HC191","DN 100 si P > 450 kW {} Si Mixte = 0 ","HC191","DN 100 si P > 450 kW {} Si Mixte = 0 ","HC191","DN 100 si P > 450 kW {} Si Mixte = 0 "]
["DECOUPLAGE","Bouteille de découplage DN65 (jusqu'à 350 kW)","HC222","Puissance < 350 kW","HC222","Puissance < 350 kW","HC222","Puissance < 350 kW","HC222","Puissance < 350 kW","HC222","Si MCA 160 dans la cascade : 0 Sinon Puissance < 350 kW","HC222","Puissance < 350 kW","HC222","Puissance < 350 kW","HC222","Puissance < 350 kW","HC222","Puissance < 350 kW","HC222","Puissance < 350 kW"]
[null,"Bouteille de découplage DN65 (de 350 à 460 kW)","HC200","Puissance entre 351 et 460 kW","HC200","Puissance entre 351 et 460 kW","HC200","Puissance entre 351 et 460 kW","HC200","Puissance entre 351 et 460 kW","HC200","Si MCA 160 dans la cascade : 0 Sinon Puissance entre 351 et 460 kW","HC200","Puissance entre 351 et 460 kW","HC200","Puissance entre 351 et 460 kW","HC200","Puissance entre 351 et 460 kW","HC200","Puissance entre 351 et 460 kW","HC200","Puissance entre 351 et 460 kW"]
[null,"Bouteille de découplage DN100 (supérieur à 460 kW)","HC201","Puissance > 461 kW","HC201","Puissance > 461 kW","HC201","Puissance > 461 kW","HC201","Puissance > 461 kW","HC201","Si MCA 160 dans la cascade : 1  Sinon Puissance > 461 kW","HC201","Puissance > 461 kW","HC201","Puissance > 461 kW","HC201","Puissance > 461 kW","HC201","Puissance > 461 kW","HC201","Puissance > 461 kW"]
["ADAPTATEUR","Adapateur DN65/DN100  pour collecteur DN65","EH654","Si collecteur DN65 avec Bouteille DN100 (pour les cascades Mixtes : Collecteur DN100 uniquement)","EH654","Si collecteur DN65 avec Bouteille DN100 (pour les cascades Mixtes : Collecteur DN100 uniquement)","EH654","Si collecteur DN65 avec Bouteille DN100 (pour les cascades Mixtes : Collecteur DN100 uniquement)","EH654","Si collecteur DN65 avec Bouteille DN100 (pour les cascades Mixtes : Collecteur DN100 uniquement)","EH654",null,"EH654","Si collecteur DN65 avec Bouteille DN100 (pour les cascades Mixtes : Collecteur DN100 uniquement)","EH654","Si collecteur DN65 avec Bouteille DN100 (pour les cascades Mixtes : Collecteur DN100 uniquement)","EH654","Si collecteur DN65 avec Bouteille DN100 (pour les cascades Mixtes : Collecteur DN100 uniquement)","EH654","Si collecteur DN65 avec Bouteille DN100 (pour les cascades Mixtes : Collecteur DN100 uniquement)","EH654","Si collecteur DN65 avec Bouteille DN100 (pour les cascades Mixtes : Collecteur DN100 uniquement)"]
["Raccordement  Chaudière / Collecteur","Kit de raccordement avant ","HC202","Uniquement si cascade MCA 45-115 {} En LW et LV : Quantité = nb chaudière {} En RG : 1 par chaudière à l'avant soit 1/2","HC202","Uniquement si cascade MCA 45-115 {} Quantité = nb chaudière","HC202","Uniquement si cascade MCA 45-115 {} Quantité = nb chaudière","HC202","Uniquement si cascade MCA 45-115 {} Quantité = nb chaudière","HC202","Uniquement si cascade MCA 45-115 {} Quantité = nb chaudière","HC202","Uniquement si cascade MCA 45-115 {} Quantité = nb chaudière","HC202","Uniquement si cascade MCA 45-115 {} Quantité = nb chaudière","HC202","Uniquement si cascade MCA 45-115 {} Quantité = nb chaudière","HC202","Uniquement si cascade MCA 45-115 {} Quantité = nb chaudière","HC202","Uniquement si cascade MCA 45-115 {} Quantité = nb chaudière"]
[null,"Raccordement collecteur MCA 45/115","EH655","LV + LW : 1 par MCA 45-115 {} RG : 1 pour chaque MCA 45-115 à l'avant","EH655","LV + LW : 1 par MCA 45-115 {} RG : 1 pour chaque MCA 45-115 à l'avant","EH655","LV + LW : 1 par MCA 45-115 {} RG : 1 pour chaque MCA 45-115 à l'avant","EH655","LV + LW : 1 par MCA 45-115 {} RG : 1 pour chaque MCA 45-115 à l'avant","EH655","LV + LW : 1 par MCA 45-115 {} RG : 1 pour chaque MCA 45-115 à l'avant","EH655","LV + LW : 1 par MCA 45-115 {} RG : 1 pour chaque MCA 45-115 à l'avant","EH655","LV + LW : 1 par MCA 45-115 {} RG : 1 pour chaque MCA 45-115 à l'avant","EH655","LV + LW : 1 par MCA 45-115 {} RG : 1 pour chaque MCA 45-115 à l'avant","EH655","LV + LW : 1 par MCA 45-115 {} RG : 1 pour chaque MCA 45-115 à l'avant","EH655","LV + LW : 1 par MCA 45-115 {} RG : 1 pour chaque MCA 45-115 à l'avant"]
[null,"Raccordement collecteur MCA 160","EH656","LV + LW : 1 par MCA 160 {} RG : 1 pour chaque MCA 160 à l'avant","EH656","LV + LW : 1 par MCA 160 {} RG : 1 pour chaque MCA 160 à l'avant","EH656","LV + LW : 1 par MCA 160 {} RG : 1 pour chaque MCA 160 à l'avant","EH656","LV + LW : 1 par MCA 160 {} RG : 1 pour chaque MCA 160 à l'avant","EH656","LV + LW : 1 par MCA 160 {} RG : 1 pour chaque MCA 160 à l'avant","EH656","LV + LW : 1 par MCA 160 {} RG : 1 pour chaque MCA 160 à l'avant","EH656","LV + LW : 1 par MCA 160 {} RG : 1 pour chaque MCA 160 à l'avant","EH656","LV + LW : 1 par MCA 160 {} RG : 1 pour chaque MCA 160 à l'avant","EH656","LV + LW : 1 par MCA 160 {} RG : 1 pour chaque MCA 160 à l'avant","EH656","LV + LW : 1 par MCA 160 {} RG : 1 pour chaque MCA 160 à l'avant"]
[null,"Kit de raccordement collecteur chaudière RG MCA 45/115","",null,"HC203","LV + LW : 0 {} RG : 1 pour chaque MCA 45-115 à l'arrière (Cascade non mixte)","HC203","LV + LW : 0 {} RG : 1 pour chaque MCA 45-115 à l'arrière (Cascade non mixte)","HC203","LV + LW : 0 {} RG : 1 pour chaque MCA 45-115 à l'arrière (Cascade non mixte)","HC203","LV + LW : 0 {} RG : 1 pour chaque MCA 45-115 à l'arrière (Cascade non mixte)","HC203","LV + LW : 0 {} RG : 1 pour chaque MCA 45-115 à l'arrière (Cascade non mixte)","HC203","LV + LW : 0 {} RG : 1 pour chaque MCA 45-115 à l'arrière (Cascade non mixte)","HC203","LV + LW : 0 {} RG : 1 pour chaque MCA 45-115 à l'arrière (Cascade non mixte)","HC203","LV + LW : 0 {} RG : 1 pour chaque MCA 45-115 à l'arrière (Cascade non mixte)","HC203","LV + LW : 0 {} RG : 1 pour chaque MCA 45-115 à l'arrière (Cascade non mixte)"]
[null,"Kit de raccordement collecteur chaudière RG MCA MIXTE 45/115 + 160","EH657","LV + LW : 0 {} RG : 1 pour chaque MCA à l'arrière (Cascade mixte)","EH657","LV + LW : 0 {} RG : 1 pour chaque AMC à l'arrière (Cascade mixte)","EH657","LV + LW : 0 {} RG : 1 pour chaque AMC à l'arrière (Cascade mixte)","EH657","LV + LW : 0 {} RG : 1 pour chaque AMC à l'arrière (Cascade mixte)","EH657","LV + LW : 0 {} RG : 1 pour chaque AMC à l'arrière (Cascade mixte)","EH657","LV + LW : 0 {} RG : 1 pour chaque AMC à l'arrière (Cascade mixte)","EH657","LV + LW : 0 {} RG : 1 pour chaque AMC à l'arrière (Cascade mixte)","EH657","LV + LW : 0 {} RG : 1 pour chaque AMC à l'arrière (Cascade mixte)","EH657","LV + LW : 0 {} RG : 1 pour chaque AMC à l'arrière (Cascade mixte)","EH657","LV + LW : 0 {} RG : 1 pour chaque AMC à l'arrière (Cascade mixte)"]
[null,"Kit de raccordement collecteur chaudière RG MCA 160","EH658","LV + LW : 0 {} RG : 1 pour chaque MCA 160 à l'arrière (Cascade non mixte)","EH658","LV + LW : 0 {} RG : 1 pour chaque MCA 160 à l'arrière (Cascade mixte) et MCA seules","EH658","LV + LW : 0 {} RG : 1 pour chaque MCA 160 à l'arrière (Cascade mixte) et MCA seules","EH658","LV + LW : 0 {} RG : 1 pour chaque MCA 160 à l'arrière (Cascade mixte) et MCA seules","EH658","LV + LW : 0 {} RG : 1 pour chaque MCA 160 à l'arrière (Cascade mixte) et MCA seules","EH658","LV + LW : 0 {} RG : 1 pour chaque MCA 160 à l'arrière (Cascade mixte) et MCA seules","EH658","LV + LW : 0 {} RG : 1 pour chaque MCA 160 à l'arrière (Cascade mixte) et MCA seules","EH658","LV + LW : 0 {} RG : 1 pour chaque MCA 160 à l'arrière (Cascade mixte) et MCA seules","EH658","LV + LW : 0 {} RG : 1 pour chaque MCA 160 à l'arrière (Cascade mixte) et MCA seules","EH658","LV + LW : 0 {} RG : 1 pour chaque MCA 160 à l'arrière (Cascade mixte) et MCA seules"]
["Brides","Brides Pleines Gaz DN50","",null,"HC196","Puissance <460 kW","HC196","Puissance <460 kW","HC196","Puissance <460 kW","HC196","Puissance <460 kW","HC196","Puissance <460 kW","HC196","Puissance <460 kW","HC196","Puissance <460 kW","HC196","Puissance <460 kW","HC196","Puissance <460 kW"]
[null,"Brides Pleines Gaz DN65","",null,"HC197","Puissance >461 kW","HC197","Puissance >461 kW","HC197","Puissance >461 kW","HC197","Puissance >461 kW","HC197","Puissance >461 kW","HC197","Puissance >461 kW","HC197","Puissance >461 kW","HC197","Puissance >461 kW","HC197","Puissance >461 kW"]
[null,"Brides Pleines Eau DN65","HC198","Puissance <460 kW","HC198","Puissance <460 kW","HC198","Puissance <460 kW","HC198","Puissance <460 kW","HC198","Puissance <460 kW","HC198","Puissance <460 kW","HC198","Puissance <460 kW","HC198","Puissance <460 kW","HC198","Puissance <460 kW","HC198","Puissance <460 kW"]
[null,"Brides Pleines Eau DN100","HC199","Puissance >461 kW","HC199","Puissance >461 kW","HC199","Puissance >461 kW","HC199","Puissance >461 kW","HC199","Puissance >461 kW","HC199","Puissance >461 kW","HC199","Puissance >461 kW","HC199","Puissance >461 kW","HC199","Puissance >461 kW","HC199","Puissance >461 kW"]
["Supports","Montant support L pour MCA 45/115","HC249","LW : 0 {} LV : 0 {} RG : MCA 45-115 uniquement Qté : voir tableau","HC249","LW : 0 {} LV : 0 {} RG : MCA 45-115 uniquement Qté : voir tableau","HC249","LW : 0 {} LV : 0 {} RG : MCA 45-115 uniquement Qté : voir tableau","HC249","LW : 0 {} LV : 0 {} RG : MCA 45-115 uniquement Qté : voir tableau","HC249","LW : 0 {} LV : 0 {} RG : MCA 45-115 uniquement Qté : voir tableau","HC249","LW : 0 {} LV : 0 {} RG : MCA 45-115 uniquement Qté : voir tableau","HC249","LW : 0 {} LV : 0 {} RG : MCA 45-115 uniquement Qté : voir tableau","HC249","LW : 0 {} LV : 0 {} RG : MCA 45-115 uniquement Qté : voir tableau","HC249","LW : 0 {} LV : 0 {} RG : MCA 45-115 uniquement Qté : voir tableau","HC249","LW : 0 {} LV : 0 {} RG : MCA 45-115 uniquement Qté : voir tableau"]
[null,"Montant support L pour MCA 160","EH662","LW : 0 {} LV : 0 {} RG : MCA mixte Qté : voir tableau","EH662","LW : 0 {} LV : 0 {} RG : MCA mixte Qté : voir tableau","EH662","LW : 0 {} LV : 0 {} RG : MCA mixte Qté : voir tableau","EH662","LW : 0 {} LV : 0 {} RG : MCA mixte Qté : voir tableau","EH662","LW : 0 {} LV : 0 {} RG : MCA mixte Qté : voir tableau","EH662","LW : 0 {} LV : 0 {} RG : MCA mixte Qté : voir tableau","EH662","LW : 0 {} LV : 0 {} RG : MCA mixte Qté : voir tableau","EH662","LW : 0 {} LV : 0 {} RG : MCA mixte Qté : voir tableau","EH662","LW : 0 {} LV : 0 {} RG : MCA mixte Qté : voir tableau","EH662","LW : 0 {} LV : 0 {} RG : MCA mixte Qté : voir tableau"]
[null,"Montant support I pour MCA 45/115","HC250","LW : 0 {} LV : MCA 45-115 uniquement Qté : nb chaudière +1  {} RG : MCA 45-115 uniquement Qté : voir tableau","HC250","LW : 0 {} LV : MCA 45-115 uniquement Qté : nb chaudière +1  {} RG : MCA 45-115 uniquement Qté : voir tableau","HC250","LW : 0 {} LV : MCA 45-115 uniquement Qté : nb chaudière +1  {} RG : MCA 45-115 uniquement Qté : voir tableau","HC250","LW : 0 {} LV : MCA 45-115 uniquement Qté : nb chaudière +1  {} RG : MCA 45-115 uniquement Qté : voir tableau","HC250","LW : 0 {} LV : MCA 45-115 uniquement Qté : nb chaudière +1  {} RG : MCA 45-115 uniquement Qté : voir tableau","HC250","LW : 0 {} LV : MCA 45-115 uniquement Qté : nb chaudière +1  {} RG : MCA 45-115 uniquement Qté : voir tableau","HC250","LW : 0 {} LV : MCA 45-115 uniquement Qté : nb chaudière +1  {} RG : MCA 45-115 uniquement Qté : voir tableau","HC250","LW : 0 {} LV : MCA 45-115 uniquement Qté : nb chaudière +1  {} RG : MCA 45-115 uniquement Qté : voir tableau","HC250","LW : 0 {} LV : MCA 45-115 uniquement Qté : nb chaudière +1  {} RG : MCA 45-115 uniquement Qté : voir tableau","HC250","LW : 0 {} LV : MCA 45-115 uniquement Qté : nb chaudière +1  {} RG : MCA 45-115 uniquement Qté : voir tableau"]
[null,"Montant support I pour MCA 160","EH663","LW : 0 {} LV : MCA mixte Qté : nb chaudière +1  {} RG : MCA mixte Qté : voir tableau","EH663","LW : 0 {} LV : MCA mixte Qté : nb chaudière +1  {} RG : MCA mixte Qté : voir tableau","EH663","LW : 0 {} LV : MCA mixte Qté : nb chaudière +1  {} RG : MCA mixte Qté : voir tableau","EH663","LW : 0 {} LV : MCA mixte Qté : nb chaudière +1  {} RG : MCA mixte Qté : voir tableau","EH663","LW : 0 {} LV : MCA mixte Qté : nb chaudière +1  {} RG : MCA mixte Qté : voir tableau","EH663","LW : 0 {} LV : MCA mixte Qté : nb chaudière +1  {} RG : MCA mixte Qté : voir tableau","EH663","LW : 0 {} LV : MCA mixte Qté : nb chaudière +1  {} RG : MCA mixte Qté : voir tableau","EH663","LW : 0 {} LV : MCA mixte Qté : nb chaudière +1  {} RG : MCA mixte Qté : voir tableau","EH663","LW : 0 {} LV : MCA mixte Qté : nb chaudière +1  {} RG : MCA mixte Qté : voir tableau","EH663","LW : 0 {} LV : MCA mixte Qté : nb chaudière +1  {} RG : MCA mixte Qté : voir tableau"]
[null,"Chassis de montage MCA 45/115","HC248","LW : 0 {} LV : MCA 45-115 Qté : Nb chaudière {} RG : MCA 45-115  Qté : Nb chaudière /2 (arrondi à l'entier sup)","HC248","LW : 0 {} LV : MCA 45-115 Qté : Nb chaudière {} RG : MCA 45-115  Qté : Nb chaudière /2 (arrondi à l'entier sup)","HC248","LW : 0 {} LV : MCA 45-115 Qté : Nb chaudière {} RG : MCA 45-115  Qté : Nb chaudière /2 (arrondi à l'entier sup)","HC248","LW : 0 {} LV : MCA 45-115 Qté : Nb chaudière {} RG : MCA 45-115  Qté : Nb chaudière /2 (arrondi à l'entier sup)","HC248","LW : 0 {} LV : MCA 45-115 Qté : Nb chaudière {} RG : MCA 45-115  Qté : Nb chaudière /2 (arrondi à l'entier sup)","HC248","LW : 0 {} LV : MCA 45-115 Qté : Nb chaudière {} RG : MCA 45-115  Qté : Nb chaudière /2 (arrondi à l'entier sup)","HC248","LW : 0 {} LV : MCA 45-115 Qté : Nb chaudière {} RG : MCA 45-115  Qté : Nb chaudière /2 (arrondi à l'entier sup)","HC248","LW : 0 {} LV : MCA 45-115 Qté : Nb chaudière {} RG : MCA 45-115  Qté : Nb chaudière /2 (arrondi à l'entier sup)","HC248","LW : 0 {} LV : MCA 45-115 Qté : Nb chaudière {} RG : MCA 45-115  Qté : Nb chaudière /2 (arrondi à l'entier sup)","HC248","LW : 0 {} LV : MCA 45-115 Qté : Nb chaudière {} RG : MCA 45-115  Qté : Nb chaudière /2 (arrondi à l'entier sup)"]
[null,"Chassis de montage  MCA 160 combinée","EH664","LW : 0 {} LV : MCA mixte Qté : Nb chaudière {} RG : MCA mixte  Qté : Nb chaudière /2 (arrondi à l'entier sup)","EH664","LW : 0 {} LV : MCA mixte Qté : Nb chaudière {} RG : MCA mixte  Qté : Nb chaudière /2 (arrondi à l'entier sup)","EH664","LW : 0 {} LV : MCA mixte Qté : Nb chaudière {} RG : MCA mixte  Qté : Nb chaudière /2 (arrondi à l'entier sup)","EH664","LW : 0 {} LV : MCA mixte Qté : Nb chaudière {} RG : MCA mixte  Qté : Nb chaudière /2 (arrondi à l'entier sup)","EH664","LW : 0 {} LV : MCA mixte Qté : Nb chaudière {} RG : MCA mixte  Qté : Nb chaudière /2 (arrondi à l'entier sup)","EH664","LW : 0 {} LV : MCA mixte Qté : Nb chaudière {} RG : MCA mixte  Qté : Nb chaudière /2 (arrondi à l'entier sup)","EH664","LW : 0 {} LV : MCA mixte Qté : Nb chaudière {} RG : MCA mixte  Qté : Nb chaudière /2 (arrondi à l'entier sup)","EH664","LW : 0 {} LV : MCA mixte Qté : Nb chaudière {} RG : MCA mixte  Qté : Nb chaudière /2 (arrondi à l'entier sup)","EH664","LW : 0 {} LV : MCA mixte Qté : Nb chaudière {} RG : MCA mixte  Qté : Nb chaudière /2 (arrondi à l'entier sup)","EH664","LW : 0 {} LV : MCA mixte Qté : Nb chaudière {} RG : MCA mixte  Qté : Nb chaudière /2 (arrondi à l'entier sup)"]
[null,"Rail de montage mural 2 chaudières MCA 45/115","HC192","LV + RG : 0 {} LW : MCA 45-15 et mixte    Qté : 1 * si 2 chaudières 45-115    ou 5 chaudières 45-115","HC192","LV + RG : 0 {} LW : MCA 45-15 et mixte    Qté : 1 * si 2 chaudières 45-115    ou 5 chaudières 45-115","HC192","LV + RG : 0 {} LW : MCA 45-15 et mixte    Qté : 1 * si 2 chaudières 45-115    ou 5 chaudières 45-115","HC192","LV + RG : 0 {} LW : MCA 45-15 et mixte    Qté : 1 * si 2 chaudières 45-115    ou 5 chaudières 45-115","HC192","LV + RG : 0 {} LW : MCA 45-15 et mixte    Qté : 1 * si 2 chaudières 45-115    ou 5 chaudières 45-115","HC192","LV + RG : 0 {} LW : MCA 45-15 et mixte    Qté : 1 * si 2 chaudières 45-115    ou 5 chaudières 45-115","HC192","LV + RG : 0 {} LW : MCA 45-15 et mixte    Qté : 1 * si 2 chaudières 45-115    ou 5 chaudières 45-115","HC192","LV + RG : 0 {} LW : MCA 45-15 et mixte    Qté : 1 * si 2 chaudières 45-115    ou 5 chaudières 45-115","HC192","LV + RG : 0 {} LW : MCA 45-15 et mixte    Qté : 1 * si 2 chaudières 45-115    ou 5 chaudières 45-115","HC192","LV + RG : 0 {} LW : MCA 45-15 et mixte    Qté : 1 * si 2 chaudières 45-115    ou 5 chaudières 45-115"]
[null,"Rail de montage mural 2 chaudières MCA 160","EH670","LV + RG : 0 {} LW : MCA 160 et mixte    Qté : 1 * si 2, 5, 8 chaudières 160    ou 2* si 4 ou 7 chaudières 160","EH670","LV + RG : 0 {} LW : MCA 160 et mixte    Qté : 1 * si 2, 5, 8 chaudières 160    ou 2* si 4 ou 7 chaudières 160","EH670","LV + RG : 0 {} LW : MCA 160 et mixte    Qté : 1 * si 2, 5, 8 chaudières 160    ou 2* si 4 ou 7 chaudières 160","EH670","LV + RG : 0 {} LW : MCA 160 et mixte    Qté : 1 * si 2, 5, 8 chaudières 160    ou 2* si 4 ou 7 chaudières 160","EH670","LV + RG : 0 {} LW : MCA 160 et mixte    Qté : 1 * si 2, 5, 8 chaudières 160    ou 2* si 4 ou 7 chaudières 160","EH670","LV + RG : 0 {} LW : MCA 160 et mixte    Qté : 1 * si 2, 5, 8 chaudières 160    ou 2* si 4 ou 7 chaudières 160","EH670","LV + RG : 0 {} LW : MCA 160 et mixte    Qté : 1 * si 2, 5, 8 chaudières 160    ou 2* si 4 ou 7 chaudières 160","EH670","LV + RG : 0 {} LW : MCA 160 et mixte    Qté : 1 * si 2, 5, 8 chaudières 160    ou 2* si 4 ou 7 chaudières 160","EH670","LV + RG : 0 {} LW : MCA 160 et mixte    Qté : 1 * si 2, 5, 8 chaudières 160    ou 2* si 4 ou 7 chaudières 160","EH670","LV + RG : 0 {} LW : MCA 160 et mixte    Qté : 1 * si 2, 5, 8 chaudières 160    ou 2* si 4 ou 7 chaudières 160"]
[null,"Rail de montage mural 3 chaudières MCA 45/115","HC193","LV + RG : 0 {} LW : MCA 45-115  et mixte    Qté : 1 * si 3, 5 ou 7 chaudières 45-115      ou 2* si 6 chaudières 45-115","HC193","LV + RG : 0 {} LW : MCA 45-115  et mixte    Qté : 1 * si 3, 5 ou 7 chaudières 45-115      ou 2* si 6 chaudières 45-115","HC193","LV + RG : 0 {} LW : MCA 45-115  et mixte    Qté : 1 * si 3, 5 ou 7 chaudières 45-115      ou 2* si 6 chaudières 45-115","HC193","LV + RG : 0 {} LW : MCA 45-115  et mixte    Qté : 1 * si 3, 5 ou 7 chaudières 45-115      ou 2* si 6 chaudières 45-115","HC193","LV + RG : 0 {} LW : MCA 45-115  et mixte    Qté : 1 * si 3, 5 ou 7 chaudières 45-115      ou 2* si 6 chaudières 45-115","HC193","LV + RG : 0 {} LW : MCA 45-115  et mixte    Qté : 1 * si 3, 5 ou 7 chaudières 45-115      ou 2* si 6 chaudières 45-115","HC193","LV + RG : 0 {} LW : MCA 45-115  et mixte    Qté : 1 * si 3, 5 ou 7 chaudières 45-115      ou 2* si 6 chaudières 45-115","HC193","LV + RG : 0 {} LW : MCA 45-115  et mixte    Qté : 1 * si 3, 5 ou 7 chaudières 45-115      ou 2* si 6 chaudières 45-115","HC193","LV + RG : 0 {} LW : MCA 45-115  et mixte    Qté : 1 * si 3, 5 ou 7 chaudières 45-115      ou 2* si 6 chaudières 45-115","HC193","LV + RG : 0 {} LW : MCA 45-115  et mixte    Qté : 1 * si 3, 5 ou 7 chaudières 45-115      ou 2* si 6 chaudières 45-115"]
[null,"Rail de montage mural 3 chaudières MCA 160","EH671","LV + RG : 0 {} LW : MCA 160  et mixte    Qté : 1 * si 3, 5 ou 7  chaudières 160     ou 2* si 6 ou 8 chaudières 160","EH671","LV + RG : 0 {} LW : MCA 160  et mixte    Qté : 1 * si 3, 5 ou 7  chaudières 160     ou 2* si 6 ou 8 chaudières 160","EH671","LV + RG : 0 {} LW : MCA 160  et mixte    Qté : 1 * si 3, 5 ou 7  chaudières 160     ou 2* si 6 ou 8 chaudières 160","EH671","LV + RG : 0 {} LW : MCA 160  et mixte    Qté : 1 * si 3, 5 ou 7  chaudières 160     ou 2* si 6 ou 8 chaudières 160","EH671","LV + RG : 0 {} LW : MCA 160  et mixte    Qté : 1 * si 3, 5 ou 7  chaudières 160     ou 2* si 6 ou 8 chaudières 160","EH671","LV + RG : 0 {} LW : MCA 160  et mixte    Qté : 1 * si 3, 5 ou 7  chaudières 160     ou 2* si 6 ou 8 chaudières 160","EH671","LV + RG : 0 {} LW : MCA 160  et mixte    Qté : 1 * si 3, 5 ou 7  chaudières 160     ou 2* si 6 ou 8 chaudières 160","EH671","LV + RG : 0 {} LW : MCA 160  et mixte    Qté : 1 * si 3, 5 ou 7  chaudières 160     ou 2* si 6 ou 8 chaudières 160","EH671","LV + RG : 0 {} LW : MCA 160  et mixte    Qté : 1 * si 3, 5 ou 7  chaudières 160     ou 2* si 6 ou 8 chaudières 160","EH671","LV + RG : 0 {} LW : MCA 160  et mixte    Qté : 1 * si 3, 5 ou 7  chaudières 160     ou 2* si 6 ou 8 chaudières 160"]
[null,"Rail de montage mural 4 chaudières MCA 45/115","HC194","LV + RG : 0 {} LW : MCA 45-15 et mixte     Qté : 1 * si 4 ou 7 chaudières 45-115      ou 2* si 8 chaudières 45-115","HC194","LV + RG : 0 {} LW : MCA 45-15 et mixte     Qté : 1 * si 4 ou 7 chaudières 45-115      ou 2* si 8 chaudières 45-115","HC194","LV + RG : 0 {} LW : MCA 45-15 et mixte     Qté : 1 * si 4 ou 7 chaudières 45-115      ou 2* si 8 chaudières 45-115","HC194","LV + RG : 0 {} LW : MCA 45-15 et mixte     Qté : 1 * si 4 ou 7 chaudières 45-115      ou 2* si 8 chaudières 45-115","HC194","LV + RG : 0 {} LW : MCA 45-15 et mixte     Qté : 1 * si 4 ou 7 chaudières 45-115      ou 2* si 8 chaudières 45-115","HC194","LV + RG : 0 {} LW : MCA 45-15 et mixte     Qté : 1 * si 4 ou 7 chaudières 45-115      ou 2* si 8 chaudières 45-115","HC194","LV + RG : 0 {} LW : MCA 45-15 et mixte     Qté : 1 * si 4 ou 7 chaudières 45-115      ou 2* si 8 chaudières 45-115","HC194","LV + RG : 0 {} LW : MCA 45-15 et mixte     Qté : 1 * si 4 ou 7 chaudières 45-115      ou 2* si 8 chaudières 45-115","HC194","LV + RG : 0 {} LW : MCA 45-15 et mixte     Qté : 1 * si 4 ou 7 chaudières 45-115      ou 2* si 8 chaudières 45-115","HC194","LV + RG : 0 {} LW : MCA 45-15 et mixte     Qté : 1 * si 4 ou 7 chaudières 45-115      ou 2* si 8 chaudières 45-115"]
["Filtres gaz","Filtre Gaz DN50","HC255","Puissance <460 kW","HC255","Puissance <460 kW","HC255","Puissance <460 kW","HC255","Puissance <460 kW","HC255","Puissance <460 kW","HC255","Puissance <460 kW","HC255","Puissance <460 kW","HC255","Puissance <460 kW","HC255","Puissance <460 kW","HC255","Puissance <460 kW"]
[null,"Filtre Gaz DN65","HC256","Puissance >461 kW","HC256","Puissance >461 kW","HC256","Puissance >461 kW","HC256","Puissance >461 kW","HC256","Puissance >461 kW","HC256","Puissance >461 kW","HC256","Puissance >461 kW","HC256","Puissance >461 kW","HC256","Puissance >461 kW","HC256","Puissance >461 kW"]
["Coudes","Coudes DN65","HC209","Puissance <460 kW","HC209","Puissance <460 kW","HC209","Puissance <460 kW","HC209","Puissance <460 kW","HC209","Puissance <460 kW","HC209","Puissance <460 kW","HC209","Puissance <460 kW","HC209","Puissance <460 kW","HC209","Puissance <460 kW","HC209","Puissance <460 kW"]
[null,"Coudes DN100","HC210","Puissance >461 kW","HC210","Puissance >461 kW","HC210","Puissance >461 kW","HC210","Puissance >461 kW","HC210","Puissance >461 kW","HC210","Puissance >461 kW","HC210","Puissance >461 kW","HC210","Puissance >461 kW","HC210","Puissance >461 kW","HC210","Puissance >461 kW"]
["Rallonge filtre gaz","Rallonge pour filtre gaz DN50","",null,"HC211","Puissance <460 kW","HC211","Puissance <460 kW","HC211","Puissance <460 kW","HC211","Puissance <460 kW","HC211","Puissance <460 kW","HC211","Puissance <460 kW","HC211","Puissance <460 kW","HC211","Puissance <460 kW","HC211","Puissance <460 kW"]
[null,"Rallonge pour filtre gaz DN65","",null,"HC212","Puissance >461 kW","HC212","Puissance >461 kW","HC212","Puissance >461 kW","HC212","Puissance >461 kW","HC212","Puissance >461 kW","HC212","Puissance >461 kW","HC212","Puissance >461 kW","HC212","Puissance >461 kW","HC212","Puissance >461 kW"]
["Isolation","Isolation collecteur MCA 45/115","HC213","LV + LW : Nb chaudières 45-115 (non mixte)  {} RG : Nb emplacement collecteur MCA 45-115","HC213","LV + LW : Nb chaudières 45-115 (non mixte)  {} RG : Nb emplacement collecteur MCA 45-115","HC213","LV + LW : Nb chaudières 45-115 (non mixte)  {} RG : Nb emplacement collecteur MCA 45-115","HC213","LV + LW : Nb chaudières 45-115 (non mixte)  {} RG : Nb emplacement collecteur MCA 45-115","HC213","LV + LW : Nb chaudières 45-115 (non mixte)  {} RG : Nb emplacement collecteur MCA 45-115","HC213","LV + LW : Nb chaudières 45-115 (non mixte)  {} RG : Nb emplacement collecteur MCA 45-115","HC213","LV + LW : Nb chaudières 45-115 (non mixte)  {} RG : Nb emplacement collecteur MCA 45-115","HC213","LV + LW : Nb chaudières 45-115 (non mixte)  {} RG : Nb emplacement collecteur MCA 45-115","HC213","LV + LW : Nb chaudières 45-115 (non mixte)  {} RG : Nb emplacement collecteur MCA 45-115","HC213","LV + LW : Nb chaudières 45-115 (non mixte)  {} RG : Nb emplacement collecteur MCA 45-115"]
[null,"Isolation collecteur MCA 160","EH647","LV + LW : Nb chaudières  (mixte)  {} RG : Nb emplacement collecteur MCA 160","EH647","LV + LW : Nb chaudières  (mixte)  {} RG : Nb emplacement collecteur MCA 160","EH647","LV + LW : Nb chaudières  (mixte)  {} RG : Nb emplacement collecteur MCA 160","EH647","LV + LW : Nb chaudières  (mixte)  {} RG : Nb emplacement collecteur MCA 160","EH647","LV + LW : Nb chaudières  (mixte)  {} RG : Nb emplacement collecteur MCA 160","EH647","LV + LW : Nb chaudières  (mixte)  {} RG : Nb emplacement collecteur MCA 160","EH647","LV + LW : Nb chaudières  (mixte)  {} RG : Nb emplacement collecteur MCA 160","EH647","LV + LW : Nb chaudières  (mixte)  {} RG : Nb emplacement collecteur MCA 160","EH647","LV + LW : Nb chaudières  (mixte)  {} RG : Nb emplacement collecteur MCA 160","EH647","LV + LW : Nb chaudières  (mixte)  {} RG : Nb emplacement collecteur MCA 160"]
[null,"Isolation raccordement chaudière MCA 45/115","HC252","Qté : Nb chaudières 45-115 (non mixte)","HC252","Qté : Nb chaudières 45-115 (non mixte)","HC252","Qté : Nb chaudières 45-115 (non mixte)","HC252","Qté : Nb chaudières 45-115 (non mixte)","HC252","Qté : Nb chaudières 45-115 (non mixte)","HC252","Qté : Nb chaudières 45-115 (non mixte)","HC252","Qté : Nb chaudières 45-115 (non mixte)","HC252","Qté : Nb chaudières 45-115 (non mixte)","HC252","Qté : Nb chaudières 45-115 (non mixte)","HC252","Qté : Nb chaudières 45-115 (non mixte)"]
[null,"Isolation raccordement chaudière MCA 160","EH648","Qté : Nb chaudières (mixte donc MCA 160 + MCA 45-115)","EH648","Qté : Nb chaudières (mixte donc MCA 160 + MCA 45-115)","EH648","Qté : Nb chaudières (mixte donc MCA 160 + MCA 45-115)","EH648","Qté : Nb chaudières (mixte donc MCA 160 + MCA 45-115)","EH648","Qté : Nb chaudières (mixte donc MCA 160 + MCA 45-115)","EH648","Qté : Nb chaudières (mixte donc MCA 160 + MCA 45-115)","EH648","Qté : Nb chaudières (mixte donc MCA 160 + MCA 45-115)","EH648","Qté : Nb chaudières (mixte donc MCA 160 + MCA 45-115)","EH648","Qté : Nb chaudières (mixte donc MCA 160 + MCA 45-115)","EH648","Qté : Nb chaudières (mixte donc MCA 160 + MCA 45-115)"]
[null,"Isolation Arrière pour MCA 45-115 ","",null,"HC243","Qté : nb chaudière MCA 45-115 (non mixte)","HC243","Qté : nb chaudière MCA 45-115 (non mixte)","HC243","Qté : nb chaudière MCA 45-115 (non mixte)","HC243","Qté : nb chaudière MCA 45-115 (non mixte)","HC243","Qté : nb chaudière MCA 45-115 (non mixte)","HC243","Qté : nb chaudière MCA 45-115 (non mixte)","HC243","Qté : nb chaudière MCA 45-115 (non mixte)","HC243","Qté : nb chaudière MCA 45-115 (non mixte)","HC243","Qté : nb chaudière MCA 45-115 (non mixte)"]
[null,"Plaque d'isolation arrière MCA 160","EH649","Qté : nb chaudière MCA 160 ( mixte)","EH649","Qté : nb chaudière MCA 160 ( mixte)","EH649","Qté : nb chaudière MCA 160 ( mixte)","EH649","Qté : nb chaudière MCA 160 ( mixte)","EH649","Qté : nb chaudière MCA 160 ( mixte)","EH649","Qté : nb chaudière MCA 160 ( mixte)","EH649","Qté : nb chaudière MCA 160 ( mixte)","EH649","Qté : nb chaudière MCA 160 ( mixte)","EH649","Qté : nb chaudière MCA 160 ( mixte)","EH649","Qté : nb chaudière MCA 160 ( mixte)"]
[null,"Isolation bouteille de découplage > 350 kW","HC215","Puissance > 350 kW","HC215","Puissance > 350 kW","HC215","Puissance > 350 kW","HC215","Puissance > 350 kW","HC215","Puissance > 350 kW","HC215","Puissance > 350 kW","HC215","Puissance > 350 kW","HC215","Puissance > 350 kW","HC215","Puissance > 350 kW","HC215","Puissance > 350 kW"]
[null,"Isolation adaptateur DN65/DN100","EH650","Si EH654 = 1 ","EH650","Si EH654 = 1 ","EH650","Si EH654 = 1 ","EH650","Si EH654 = 1 ","EH650","Si EH654 = 1 ","EH650","Si EH654 = 1 ","EH650","Si EH654 = 1 ","EH650","Si EH654 = 1 ","EH650","Si EH654 = 1 ","EH650","Si EH654 = 1 "]
[null,"Isolation bouteille de découlage (jusqu'à 350 kW)","HC224","Puisance < 350 kW","HC224","Puisance < 350 kW","HC224","Puisance < 350 kW","HC224","Puisance < 350 kW","HC224","Puisance < 350 kW","HC224","Puisance < 350 kW","HC224","Puisance < 350 kW","HC224","Puisance < 350 kW","HC224","Puisance < 350 kW","HC224","Puisance < 350 kW"]
[null,"Isolation coudes 90°","HC216","Toujours 1 ","HC216","Toujours 1 ","HC216","Toujours 1 ","HC216","Toujours 1 ","HC216","Toujours 1 ","HC216","Toujours 1 ","HC216","Toujours 1 ","HC216","Toujours 1 ","HC216","Toujours 1 ","HC216","Toujours 1 "]
["Pieds réglables","Pieds réglables","HC219","LW : 0 {} LV + RG : voir tableau","HC219","LW : 0 {} LV + RG : voir tableau","HC219","LW : 0 {} LV + RG : voir tableau","HC219","LW : 0 {} LV + RG : voir tableau","HC219","LW : 0 {} LV + RG : voir tableau","HC219","LW : 0 {} LV + RG : voir tableau","HC219","LW : 0 {} LV + RG : voir tableau","HC219","LW : 0 {} LV + RG : voir tableau","HC219","LW : 0 {} LV + RG : voir tableau","HC219","LW : 0 {} LV + RG : voir tableau"]
["Jeu de contre brides","Jeu de contre-brides à souder DN65","HC217","Puissance < 460 kW ET MCA 45-115 uniquement      Qté : 1","HC217","Puissance < 460 kW ET MCA 45-115 uniquement      Qté : 1","HC217","Puissance < 460 kW ET MCA 45-115 uniquement      Qté : 1","HC217","Puissance < 460 kW ET MCA 45-115 uniquement      Qté : 1","HC217","Puissance < 460 kW ET MCA 45-115 uniquement      Qté : 1","HC217","Puissance < 460 kW ET MCA 45-115 uniquement      Qté : 1","HC217","Puissance < 460 kW ET MCA 45-115 uniquement      Qté : 1","HC217","Puissance < 460 kW ET MCA 45-115 uniquement      Qté : 1","HC217","Puissance < 460 kW ET MCA 45-115 uniquement      Qté : 1","HC217","Puissance < 460 kW ET MCA 45-115 uniquement      Qté : 1"]
[null,"Jeu de contre-brides à souder DN100","HC218","Puissance > 460 kW      Qté : 1","HC218","Puissance > 460 kW      Qté : 1","HC218","Puissance > 460 kW      Qté : 1","HC218","Puissance > 460 kW      Qté : 1","HC218","Puissance > 460 kW      Qté : 1","HC218","Puissance > 460 kW      Qté : 1","HC218","Puissance > 460 kW      Qté : 1","HC218","Puissance > 460 kW      Qté : 1","HC218","Puissance > 460 kW      Qté : 1","HC218","Puissance > 460 kW      Qté : 1"]
[null,"Jeu de contre brides à souder DN65","EH669","Puissance < 460 kW ET MCA 160 uniquement      Qté : 1","EH669","Puissance < 460 kW ET MCA 160 uniquement      Qté : 1","EH669","Puissance < 460 kW ET MCA 160 uniquement      Qté : 1","EH669","Puissance < 460 kW ET MCA 160 uniquement      Qté : 1","EH669","Puissance < 460 kW ET MCA 160 uniquement      Qté : 1","EH669","Puissance < 460 kW ET MCA 160 uniquement      Qté : 1","EH669","Puissance < 460 kW ET MCA 160 uniquement      Qté : 1","EH669","Puissance < 460 kW ET MCA 160 uniquement      Qté : 1","EH669","Puissance < 460 kW ET MCA 160 uniquement      Qté : 1","EH669","Puissance < 460 kW ET MCA 160 uniquement      Qté : 1"]
["Communcation MCA 160 Esclave","Cassette murale OTH / MODBUS","AD286","Si chaudières Mixtes  Qté : 1 par MCA 160 ","AD286","Si chaudières Mixtes  Qté : 1 par MCA 160 ","AD286","Si chaudières Mixtes  Qté : 1 par MCA 160 ","AD286","Si chaudières Mixtes  Qté : 1 par MCA 160 ","AD286","Si chaudières Mixtes  Qté : 1 par MCA 160 ","AD286","Si chaudières Mixtes  Qté : 1 par MCA 160 ","AD286","Si chaudières Mixtes  Qté : 1 par MCA 160 ","AD286","Si chaudières Mixtes  Qté : 1 par MCA 160 ","AD286","Si chaudières Mixtes  Qté : 1 par MCA 160 ","AD286","Si chaudières Mixtes  Qté : 1 par MCA 160 "]
["BUS","Câble S-BUS  L = 1,5 m","AD308","Nb chaudière -1","AD308","Nb chaudière -1","AD308","Nb chaudière -1","AD308","Nb chaudière -1","AD308","Nb chaudière -1","AD308","Nb chaudière -1","AD308","Nb chaudière -1","AD308","Nb chaudière -1","AD308","Nb chaudière -1","AD308","Nb chaudière -1"]
[{"$nulls":20},0,0]
["Sonde et doigt de gant","Sonde et doigt de gant <350kW","HC206","Puisance < 350 kW","HC206","Puisance < 350 kW","HC206","Puisance < 350 kW","HC206","Puisance < 350 kW","HC206","Puisance < 350 kW","HC206","Puisance < 350 kW","HC206","Puisance < 350 kW","HC206","Puisance < 350 kW","HC206","Puisance < 350 kW","HC206","Puisance < 350 kW"]
[null,"Sonde et doigt de gant >350kW","HC223","Puissance > 350 kW","HC223","Puissance > 350 kW","HC223","Puissance > 350 kW","HC223","Puissance > 350 kW","HC223","Puissance > 350 kW","HC223","Puissance > 350 kW","HC223","Puissance > 350 kW","HC223","Puissance > 350 kW","HC223","Puissance > 350 kW","HC223","Puissance > 350 kW"]
["Adaptateur fumées","Adaptateur alu 80/100 pour MCA 45","DY768","1 pour chaque MCA 45","DY768","1 pour chaque MCA 45","DY768","1 pour chaque MCA 45","DY768",null,"DY768","1 pour chaque MCA 45","DY768","1 pour chaque MCA 45","DY768","1 pour chaque MCA 45","DY768","1 pour chaque MCA 45","DY768","1 pour chaque MCA 45","DY768",0]
["Bouchons","Jeu de bouchons","HC195","LW + LV : 1 par chaudière (pour boucher la partie arrière du collecteur) {} RG : 1 si nb chaudière impair sinon 0","HC195","LW + LV : 1 par chaudière (pour boucher la partie arrière du collecteur) {} RG : 1 si nb chaudière impair sinon 0","HC195","LW + LV : 1 par chaudière (pour boucher la partie arrière du collecteur) {} RG : 1 si nb chaudière impair sinon 0","HC195","LW + LV : 1 par chaudière (pour boucher la partie arrière du collecteur) {} RG : 1 si nb chaudière impair sinon 0","HC195","LW + LV : 1 par chaudière (pour boucher la partie arrière du collecteur) {} RG : 1 si nb chaudière impair sinon 0","HC195","LW + LV : 1 par chaudière (pour boucher la partie arrière du collecteur) {} RG : 1 si nb chaudière impair sinon 0","HC195","LW + LV : 1 par chaudière (pour boucher la partie arrière du collecteur) {} RG : 1 si nb chaudière impair sinon 0","HC195","LW + LV : 1 par chaudière (pour boucher la partie arrière du collecteur) {} RG : 1 si nb chaudière impair sinon 0","HC195","LW + LV : 1 par chaudière (pour boucher la partie arrière du collecteur) {} RG : 1 si nb chaudière impair sinon 0","HC195","LW + LV : 1 par chaudière (pour boucher la partie arrière du collecteur) {} RG : 1 si nb chaudière impair sinon 0"]
["Spécificité Italie","KIT INAIL DN65","",{"$nulls":7},116675,"Si aucune MCA 160 et Puissance < 460 kW  Qté : 1"]
[null,"KIT INAIL DN100","",{"$nulls":7},116741,"Si MCA 160 et Puissance > 460 kW  Qté : 1"]
[null,"KIT INAIL pour collecteurs","",{"$nulls":7},"004087000","Si Italie : 1 ET cascade 45-115 ET P < 460 kW 1 sinon 0"]
[null,"soupape de sécurité","",{"$nulls":7},"004062000","Si collecteur DN100 => Qté = 2"]
[null,"Vase d'expansion ","",{"$nulls":7},"004087010","Qté : Nb chaudières"]
[null,"Thermostat fumées (1 par chaudière 45-115)","",{"$nulls":7},"S100310","Qté : 1 par chaudière MCA 45-115"]
["Puissance Chaudières","MCA 45",40.8,null,40.8,null,40.8,null,40.8,null,40.8,3,40.8,null,40.8,null,40.8,null,40.8,null,{"$f":"+I77","v":40.8}]
[null,"MCA 65",61.5,null,61.5,null,61.5,null,61.5,null,61.5,null,61.5,null,61.5,null,61.5,null,61.5,null,{"$f":"+I78","v":61.5}]
[null,"MCA 90",84.2,null,84.2,null,84.2,null,84.2,null,84.2,null,84.2,null,84.2,null,84.2,null,84.2,null,{"$f":"+I79","v":84.2}]
[null,"MCA 115",107,null,107,null,107,null,103.9,null,107,null,107,null,107,null,107,null,107,null,{"$f":"+I80","v":103.9}]
[null,"MCA 160",152.1,null,152.1,null,152.9,null,152,null,152.1,null,152.1,null,152.1,null,152.1,null,152.1,null,{"$f":"+I81","v":152}]

{"sheet":"Mise à jour","index":8,"n_rows":131,"n_cols":12,"rows_kept":131,"hidden":true}
["Date","Auteur","Tâche"]
["2017-07-03","AD","Début de MAJ du tool (intégration des MCA 160 pour l'export)"]
[null,null,"Problème de référence (tableau de quantité selon tarif Hollandais)"]
[null,null,"Tarifs disponibles (Anglais ; Français ; Italien uniquement ) "]
["2017-07-12","AD","Infos Marketing (Nicolas OGET) : les références hachurées ne sont pas nécessaires ou non disponibles pour l'export"]
[null,null,"Hachures dans la correspondance FR => Interdit d''utilisation"]
[null,null,"Colis de régulation REMEHA à enlever et remplacés par AD308"]
["2017-07-17","AD","Référence des chaudières  à tester  pour chaque pays (ITA ; FR ; ESP ; ENG déjà fait)"]
[null,null,"Nécessite autres tarifs (ALL ; Polonais et Russe)"]
["2017-09-12","CW","Mise en place condition sur pompe MCA 160"]
[null,null,"Modification des pompes pour mise en place SA 13"]
["2017-10-26","AD","Suppression puis re-création de l'onglet Price List => outil plus rapide"]
[]
[null,null,"Corrections à voir"]
[]
[{"$nulls":4},"Vu avec Nicolas OGET : en attente de réponse"]
[null,null,"Suppression BdD des Neerlandais => Composition \" n \" gardée => Pas de raccordmeent ECS sur la chaudière de tête"]
["2017-10-31","AD","Correction qté pompes pour problèmes de PDC"]
[null,null,"Modifications des colonnes pompes dans \"gamme DD Chaud\" (colonne T et CN)"]
[]
[{"$nulls":3},"Avant"]
[{"$nulls":3},"SA13 pour MCA 90-115"]
[{"$nulls":3},"HC147 pour MCA 45-65"]
[{"$nulls":3},"Maintenant"]
[{"$nulls":3},"SA13 pour MCA 65-115"]
[{"$nulls":3},"HC147 pour MCA 45"]
["2018-04-03","AD","Correction des câbles BUS ","Ajout AD124 pour MCA 45-115 au lieu de AD308 pour toutes (maintenant plus que MCA 160)"]
["2018-04-25","AD","Correction des câbles BUS ","-          Cascade de MCA 160 uniquement : câble SBUS (AD308) (quantité =  nombre de chaudières -1 )"]
[{"$nulls":3},"-          Cascade de MCA PRO uniquement : câble  BUS (AD134) (quantité =  nombre de chaudières -1 )"]
[{"$nulls":3},"-          Mix de MCA 160 avec MCA PRO : câble BUS (AD134) uniquement (quantité =  nombre de chaudières -1 )"]
[null,null,"Ajout de HC243 (isolation arrière) "]
[null,null,"Ajout de DY768 (adaptateur alu 80/100 pour MCA45)"]
[null,null,"Ajout HC206 et HC223 (doigt de gant et sonde <>350kW)"]
[null,null,"Ajout d'une alerte si que des inicontrol sur la cascade"]
[null,null,"Traduction en anglais du ''How To ''"]
["2018-06-13","AD","Changement des puissances des chaudières "]
[null,null,"Adaptation des noms de cascade <=> objectif : être identiqe que REMEHA",null,null,"Puissance CATALOGUE DD","Puissance dans l'outil - basé sur Remeha"]
[{"$nulls":4},"MCA 45",40.8,{"v":40,"d":"40.0"}]
[{"$nulls":4},"MCA 65",61.5,{"v":61,"d":"61.0"}]
[{"$nulls":4},"MCA 90",84.2,84.2]
[{"$nulls":4},"MCA 115",{"v":107,"d":"107.0"},{"v":107,"d":"107.0"}]
[{"$nulls":4},"MCA 160",152.1,{"v":148,"d":"148.0"}]
[]
["2018-06-25","AD","Ajout de conditions pour les italiens"]
[null,null," "]
[]
[]
[]
[]
[null,null,"réorganisation du tarif : création d'un kit de base (verrouillage des quantités) et des options (quantités libres)"]
[null,null,"correction du How to "]
[null,null,"Traduction de kit de base + Options + Quantité préconisée + Quantité choisie + Fumisterie + Communication"]
["2018-07-02","AD"]
[]
[]
[]
[]
[]
[null,null,"Corrections apportées suite au mail de Jérome Hoefler"]
[null,null,"Ajout de HC195 en kit de base (jeu de bouchons)"]
[]
["2018-07-10","AD"]
[]
[]
[]
[]
[]
[null,null,"Correction des pompes pour Italie uniquement"]
[null,null,"Ajout d'un interface pour MCA 160 inicontrol 2 (esclave)"]
["2018-08-01","AD"]
[]
[]
[]
[]
[]
[null,null,"Préparation d'une version provisoire pour l'Espagne d'après les demandes de Angel"]
[{"$nulls":3},"Pompes ","S101614","MCA 45 - 65",null,"ok",null,"Espagne seulement"]
[{"$nulls":4},7608398,"MCA 90 - 115",null,"ok",null,"Espagne seulement"]
[{"$nulls":3},"BUS ","Avant 12m",88017851,null,"ok",null,"Espagne seulement"]
[{"$nulls":4},"Après 1,5m",88017836,null,"ok",null,"Espagne seulement"]
[{"$nulls":3},"Kit fumisterie","Enlevé pour Espagne",84887768,null,"OK",null,"Espagne seulement"]
[{"$nulls":4},"bouchoons",111708,null,"OK",null,"Tous les pays",null,"LW et LV : 1 par chaudière car le collecteur a 2 sorties par emplacement de chaudière (pour permettre la connexion en RG)"]
[{"$nulls":11},"RG : 1 si nombre de chaudière impair"]
[]
[]
[{"$nulls":3},"Demande concernant la puissance des chaudières "]
[]
[{"$nulls":5},"kW","Power - Catalogue DD France","Power -  Spain","Power - Tool - based on Remeha data"]
[{"$nulls":5},"MCA 45",40.8,40.8,40]
[{"$nulls":5},"MCA 65",61.5,61.5,61]
[{"$nulls":5},"MCA 90",84.2,84.2,84.2]
[{"$nulls":5},"MCA 115",107,103.9,107]
[{"$nulls":5},"MCA 160",152.1,152.1,148]
[]
[]
[]
["2018-08-03","AD","Envoi du tool a Angel"]
[null,null,"Attente pour traduction , test des changements ci-dessus"]
[]
[null,null,"En attente d'une réponse du marketing pour voir avec les responsables de chaque pays quels sont les colis a utiliser !!!!!!!!!!!!!!!!!!!!!!!!!!!!!!!!!!!!"]
["2018-08-29","AD","Correction des quantités pour 100018920 : que présent lorsque cascade mixte"]
["2018-09-07","AD","Création onglet spécificités pour récap les différences entres les pays"]
["2018-09-17","AD","Changement des puissances d'après Infos de P Izarn"]
[null,null,"Finalisation de l'onglet ''Spécificités''"]
[]
[]
[]
[{"$nulls":4},"Français","Allemand ","Anglais","Italien","Espagnol","Russe","Polonais"]
[{"$nulls":3},"MCA 45",40.8,40.8,40.8,40.8,40.8,40.8,40.8]
[{"$nulls":3},"MCA 65",61.5,61.5,61.5,61.5,61.5,61.5,61.5]
[{"$nulls":3},"MCA 90",84.2,84.2,84.2,84.2,84.2,84.2,84.2]
[{"$nulls":3},"MCA 115",107,107,107,107,103.9,107,107]
[{"$nulls":3},"MCA 160",152.1,152.1,152.9,152.1,152.1,152.1,152.1]
[]
[]
["2018-11-19","AD","Modification de la sélection des options et des champs libres"]
["2019-01-28","AD","Fin de la MAJ débutée par Sylvain : Ajout de la langue tchèque"]
[null,null,"Ajout de \"spéificités \" HOLLANDE et TCHEQUE (idem que russe pour faciliter)"]
["2019-04-08","AD","Passage en tool AMC cascade"]
[null,null,"Test pour Italie uniquement"]
[null,null,"ref chaudières et cables bus ont été modifées"]
["2019-04-15","AD","Ajout marché belge (mêmes spécificités que Italie ET Espagne)"]
["2019-04-16","SF","SUPPRESSION DES PIECES JOINTES DES MAILS !!! 13 Mo à 3 Mo !!"]
["2019-06-03","AD","Correction des sondes avec doigts de gants (inversées)"]
[null,null,"Vérifiation des spécificités par chaque BU et chef export <=> Validé"]
[null,null,"Envoi à Jérome HOEFLER"]
["2019-08-01","AD","Correction de quantité pour un colis special Italie 004087015 <=> 1 par cascade mixte ou MCA 160 et P <460 kW"]
[null,null,"Correction des quantités e câble BUS AD308 pour certaines cascades (formule pas étirée jsuqu'au bout)"]
["2019-12-24","CDF RU","При выборе настенного исполнения каскадной рамы LW программа не предлагает арт. 123182 Теплоизоляция набора для подключения котла сзади HC 243 для котлов AMC"]
[null,null,"и арт. 7631858 Задняя теплоизоляция набора для подключения котла EH649 для котлов MCA 160"]
["2020-04-03","CDF RU","Изменение цен на MCA 160 Devo и IniControl2"]