Workbook

Sheet Пересчет мощностей
A1: t°С подающей линии | B1: 70
A2: t°С обратной линии | B2: 50 | C2: Мощность радиаторов расчитана согласно ГОСТ 31311-2005 для температурного графика 95/85/20°С, температурный напор 70°С
A3: t°С в помещении | B3: 20
A4: Высота радиатора | B4: 3
B6: Длина радиатора
B7: 400 | C7: 500 | D7: 600 | E7: 700 | F7: 800 | G7: 900 | H7: 1000 | I7: 1100 | J7: 1200 | K7: 1300 | L7: 1400 | M7: 1500 | N7: 1600 | O7: 1700 | P7: 1800 | Q7: 1900 | R7: 2000
A8: Qну для типа 10 | B8: =IF($B$4=1,Данные!$E3*(B$7/1000),IF($B$4=2,Данные!$E10*(B$7/1000),IF($B$4=3,Данные!$E17*(B$7/1000),IF($B$4=4,Данные!$E24*(B$7/1000),IF($B$4=5,Данные!$E31*(B$7/1000),0))))) -> 164.09228 | C8: =IF($B$4=1,Данные!$E3*(C$7/1000),IF($B$4=2,Данные!$E10*(C$7/1000),IF($B$4=3,Данные!$E17*(C$7/1000),IF($B$4=4,Данные!$E24*(C$7/1000),IF($B$4=5,Данные!$E31*(C$7/1000),0))))) -> 205.11535 | D8: =IF($B$4=1,Данные!$E3*(D$7/1000),IF($B$4=2,Данные!$E10*(D$7/1000),IF($B$4=3,Данные!$E17*(D$7/1000),IF($B$4=4,Данные!$E24*(D$7/1000),IF($B$4=5,Данные!$E31*(D$7/1000),0))))) -> 246.13842 | E8: =IF($B$4=1,Данные!$E3*(E$7/1000),IF($B$4=2,Данные!$E10*(E$7/1000),IF($B$4=3,Данные!$E17*(E$7/1000),IF($B$4=4,Данные!$E24*(E$7/1000),IF($B$4=5,Данные!$E31*(E$7/1000),0))))) -> 287.16149 | F8: =IF($B$4=1,Данные!$E3*(F$7/1000),IF($B$4=2,Данные!$E10*(F$7/1000),IF($B$4=3,Данные!$E17*(F$7/1000),IF($B$4=4,Данные!$E24*(F$7/1000),IF($B$4=5,Данные!$E31*(F$7/1000),0))))) -> 328.18456 | G8: =IF($B$4=1,Данные!$E3*(G$7/1000),IF($B$4=2,Данные!$E10*(G$7/1000),IF($B$4=3,Данные!$E17*(G$7/1000),IF($B$4=4,Данные!$E24*(G$7/1000),IF($B$4=5,Данные!$E31*(G$7/1000),0))))) -> 369.20763 | H8: =IF($B$4=1,Данные!$E3*(H$7/1000),IF($B$4=2,Данные!$E10*(H$7/1000),IF($B$4=3,Данные!$E17*(H$7/1000),IF($B$4=4,Данные!$E24*(H$7/1000),IF($B$4=5,Данные!$E31*(H$7/1000),0))))) -> 410.2307 | I8: =IF($B$4=1,Данные!$E3*(I$7/1000),IF($B$4=2,Данные!$E10*(I$7/1000),IF($B$4=3,Данные!$E17*(I$7/1000),IF($B$4=4,Данные!$E24*(I$7/1000),IF($B$4=5,Данные!$E31*(I$7/1000),0))))) -> 451.25377 | ... R8: =IF($B$4=1,Данные!$E3*(R$7/1000),IF($B$4=2,Данные!$E10*(R$7/1000),IF($B$4=3,Данные!$E17*(R$7/1000),IF($B$4=4,Данные!$E24*(R$7/1000),IF($B$4=5,Данные!$E31*(R$7/1000),0))))) -> 820.46139
A9: Qну для типа 11 | B9: =IF($B$4=1,Данные!$E4*(B$7/1000),IF($B$4=2,Данные!$E11*(B$7/1000),IF($B$4=3,Данные!$E18*(B$7/1000),IF($B$4=4,Данные!$E25*(B$7/1000),IF($B$4=5,Данные!$E32*(B$7/1000),0))))) -> 272.61233 | C9: =IF($B$4=1,Данные!$E4*(C$7/1000),IF($B$4=2,Данные!$E11*(C$7/1000),IF($B$4=3,Данные!$E18*(C$7/1000),IF($B$4=4,Данные!$E25*(C$7/1000),IF($B$4=5,Данные!$E32*(C$7/1000),0))))) -> 340.76541 | D9: =IF($B$4=1,Данные!$E4*(D$7/1000),IF($B$4=2,Данные!$E11*(D$7/1000),IF($B$4=3,Данные!$E18*(D$7/1000),IF($B$4=4,Данные!$E25*(D$7/1000),IF($B$4=5,Данные!$E32*(D$7/1000),0))))) -> 408.9185 | E9: =IF($B$4=1,Данные!$E4*(E$7/1000),IF($B$4=2,Данные!$E11*(E$7/1000),IF($B$4=3,Данные!$E18*(E$7/1000),IF($B$4=4,Данные!$E25*(E$7/1000),IF($B$4=5,Данные!$E32*(E$7/1000),0))))) -> 477.07158 | F9: =IF($B$4=1,Данные!$E4*(F$7/1000),IF($B$4=2,Данные!$E11*(F$7/1000),IF($B$4=3,Данные!$E18*(F$7/1000),IF($B$4=4,Данные!$E25*(F$7/1000),IF($B$4=5,Данные!$E32*(F$7/1000),0))))) -> 545.22466 | G9: =IF($B$4=1,Данные!$E4*(G$7/1000),IF($B$4=2,Данные!$E11*(G$7/1000),IF($B$4=3,Данные!$E18*(G$7/1000),IF($B$4=4,Данные!$E25*(G$7/1000),IF($B$4=5,Данные!$E32*(G$7/1000),0))))) -> 613.37775 | H9: =IF($B$4=1,Данные!$E4*(H$7/1000),IF($B$4=2,Данные!$E11*(H$7/1000),IF($B$4=3,Данные!$E18*(H$7/1000),IF($B$4=4,Данные!$E25*(H$7/1000),IF($B$4=5,Данные!$E32*(H$7/1000),0))))) -> 681.53083 | I9: =IF($B$4=1,Данные!$E4*(I$7/1000),IF($B$4=2,Данные!$E11*(I$7/1000),IF($B$4=3,Данные!$E18*(I$7/1000),IF($B$4=4,Данные!$E25*(I$7/1000),IF($B$4=5,Данные!$E32*(I$7/1000),0))))) -> 749.68391 | ... R9: =IF($B$4=1,Данные!$E4*(R$7/1000),IF($B$4=2,Данные!$E11*(R$7/1000),IF($B$4=3,Данные!$E18*(R$7/1000),IF($B$4=4,Данные!$E25*(R$7/1000),IF($B$4=5,Данные!$E32*(R$7/1000),0))))) -> 1363.0617
A10: Qну для типа 20 | B10: =IF($B$4=1,Данные!$E5*(B$7/1000),IF($B$4=2,Данные!$E12*(B$7/1000),IF($B$4=3,Данные!$E19*(B$7/1000),IF($B$4=4,Данные!$E26*(B$7/1000),IF($B$4=5,Данные!$E33*(B$7/1000),0))))) -> 267.85362 | C10: =IF($B$4=1,Данные!$E5*(C$7/1000),IF($B$4=2,Данные!$E12*(C$7/1000),IF($B$4=3,Данные!$E19*(C$7/1000),IF($B$4=4,Данные!$E26*(C$7/1000),IF($B$4=5,Данные!$E33*(C$7/1000),0))))) -> 334.81703 | D10: =IF($B$4=1,Данные!$E5*(D$7/1000),IF($B$4=2,Данные!$E12*(D$7/1000),IF($B$4=3,Данные!$E19*(D$7/1000),IF($B$4=4,Данные!$E26*(D$7/1000),IF($B$4=5,Данные!$E33*(D$7/1000),0))))) -> 401.78043 | E10: =IF($B$4=1,Данные!$E5*(E$7/1000),IF($B$4=2,Данные!$E12*(E$7/1000),IF($B$4=3,Данные!$E19*(E$7/1000),IF($B$4=4,Данные!$E26*(E$7/1000),IF($B$4=5,Данные!$E33*(E$7/1000),0))))) -> 468.74384 | F10: =IF($B$4=1,Данные!$E5*(F$7/1000),IF($B$4=2,Данные!$E12*(F$7/1000),IF($B$4=3,Данные!$E19*(F$7/1000),IF($B$4=4,Данные!$E26*(F$7/1000),IF($B$4=5,Данные!$E33*(F$7/1000),0))))) -> 535.70725 | G10: =IF($B$4=1,Данные!$E5*(G$7/1000),IF($B$4=2,Данные!$E12*(G$7/1000),IF($B$4=3,Данные!$E19*(G$7/1000),IF($B$4=4,Данные!$E26*(G$7/1000),IF($B$4=5,Данные!$E33*(G$7/1000),0))))) -> 602.67065 | H10: =IF($B$4=1,Данные!$E5*(H$7/1000),IF($B$4=2,Данные!$E12*(H$7/1000),IF($B$4=3,Данные!$E19*(H$7/1000),IF($B$4=4,Данные!$E26*(H$7/1000),IF($B$4=5,Данные!$E33*(H$7/1000),0))))) -> 669.63406 | I10: =IF($B$4=1,Данные!$E5*(I$7/1000),IF($B$4=2,Данные!$E12*(I$7/1000),IF($B$4=3,Данные!$E19*(I$7/1000),IF($B$4=4,Данные!$E26*(I$7/1000),IF($B$4=5,Данные!$E33*(I$7/1000),0))))) -> 736.59746 | ... R10: =IF($B$4=1,Данные!$E5*(R$7/1000),IF($B$4=2,Данные!$E12*(R$7/1000),IF($B$4=3,Данные!$E19*(R$7/1000),IF($B$4=4,Данные!$E26*(R$7/1000),IF($B$4=5,Данные!$E33*(R$7/1000),0))))) -> 1339.2681
A11: Qну для типа 21 | B11: =IF($B$4=1,Данные!$E6*(B$7/1000),IF($B$4=2,Данные!$E13*(B$7/1000),IF($B$4=3,Данные!$E20*(B$7/1000),IF($B$4=4,Данные!$E27*(B$7/1000),IF($B$4=5,Данные!$E34*(B$7/1000),0))))) -> 339.36797 | C11: =IF($B$4=1,Данные!$E6*(C$7/1000),IF($B$4=2,Данные!$E13*(C$7/1000),IF($B$4=3,Данные!$E20*(C$7/1000),IF($B$4=4,Данные!$E27*(C$7/1000),IF($B$4=5,Данные!$E34*(C$7/1000),0))))) -> 424.20996 | D11: =IF($B$4=1,Данные!$E6*(D$7/1000),IF($B$4=2,Данные!$E13*(D$7/1000),IF($B$4=3,Данные!$E20*(D$7/1000),IF($B$4=4,Данные!$E27*(D$7/1000),IF($B$4=5,Данные!$E34*(D$7/1000),0))))) -> 509.05195 | E11: =IF($B$4=1,Данные!$E6*(E$7/1000),IF($B$4=2,Данные!$E13*(E$7/1000),IF($B$4=3,Данные!$E20*(E$7/1000),IF($B$4=4,Данные!$E27*(E$7/1000),IF($B$4=5,Данные!$E34*(E$7/1000),0))))) -> 593.89394 | F11: =IF($B$4=1,Данные!$E6*(F$7/1000),IF($B$4=2,Данные!$E13*(F$7/1000),IF($B$4=3,Данные!$E20*(F$7/1000),IF($B$4=4,Данные!$E27*(F$7/1000),IF($B$4=5,Данные!$E34*(F$7/1000),0))))) -> 678.73593 | G11: =IF($B$4=1,Данные!$E6*(G$7/1000),IF($B$4=2,Данные!$E13*(G$7/1000),IF($B$4=3,Данные!$E20*(G$7/1000),IF($B$4=4,Данные!$E27*(G$7/1000),IF($B$4=5,Данные!$E34*(G$7/1000),0))))) -> 763.57793 | H11: =IF($B$4=1,Данные!$E6*(H$7/1000),IF($B$4=2,Данные!$E13*(H$7/1000),IF($B$4=3,Данные!$E20*(H$7/1000),IF($B$4=4,Данные!$E27*(H$7/1000),IF($B$4=5,Данные!$E34*(H$7/1000),0))))) -> 848.41992 | I11: =IF($B$4=1,Данные!$E6*(I$7/1000),IF($B$4=2,Данные!$E13*(I$7/1000),IF($B$4=3,Данные!$E20*(I$7/1000),IF($B$4=4,Данные!$E27*(I$7/1000),IF($B$4=5,Данные!$E34*(I$7/1000),0))))) -> 933.26191 | ... R11: =IF($B$4=1,Данные!$E6*(R$7/1000),IF($B$4=2,Данные!$E13*(R$7/1000),IF($B$4=3,Данные!$E20*(R$7/1000),IF($B$4=4,Данные!$E27*(R$7/1000),IF($B$4=5,Данные!$E34*(R$7/1000),0))))) -> 1696.8398
A12: Qну для типа 22 | B12: =IF($B$4=1,Данные!$E7*(B$7/1000),IF($B$4=2,Данные!$E14*(B$7/1000),IF($B$4=3,Данные!$E21*(B$7/1000),IF($B$4=4,Данные!$E28*(B$7/1000),IF($B$4=5,Данные!$E35*(B$7/1000),0))))) -> 436.73597 | C12: =IF($B$4=1,Данные!$E7*(C$7/1000),IF($B$4=2,Данные!$E14*(C$7/1000),IF($B$4=3,Данные!$E21*(C$7/1000),IF($B$4=4,Данные!$E28*(C$7/1000),IF($B$4=5,Данные!$E35*(C$7/1000),0))))) -> 545.91997 | D12: =IF($B$4=1,Данные!$E7*(D$7/1000),IF($B$4=2,Данные!$E14*(D$7/1000),IF($B$4=3,Данные!$E21*(D$7/1000),IF($B$4=4,Данные!$E28*(D$7/1000),IF($B$4=5,Данные!$E35*(D$7/1000),0))))) -> 655.10396 | E12: =IF($B$4=1,Данные!$E7*(E$7/1000),IF($B$4=2,Данные!$E14*(E$7/1000),IF($B$4=3,Данные!$E21*(E$7/1000),IF($B$4=4,Данные!$E28*(E$7/1000),IF($B$4=5,Данные!$E35*(E$7/1000),0))))) -> 764.28796 | F12: =IF($B$4=1,Данные!$E7*(F$7/1000),IF($B$4=2,Данные!$E14*(F$7/1000),IF($B$4=3,Данные!$E21*(F$7/1000),IF($B$4=4,Данные!$E28*(F$7/1000),IF($B$4=5,Данные!$E35*(F$7/1000),0))))) -> 873.47195 | G12: =IF($B$4=1,Данные!$E7*(G$7/1000),IF($B$4=2,Данные!$E14*(G$7/1000),IF($B$4=3,Данные!$E21*(G$7/1000),IF($B$4=4,Данные!$E28*(G$7/1000),IF($B$4=5,Данные!$E35*(G$7/1000),0))))) -> 982.65594 | H12: =IF($B$4=1,Данные!$E7*(H$7/1000),IF($B$4=2,Данные!$E14*(H$7/1000),IF($B$4=3,Данные!$E21*(H$7/1000),IF($B$4=4,Данные!$E28*(H$7/1000),IF($B$4=5,Данные!$E35*(H$7/1000),0))))) -> 1091.8399 | I12: =IF($B$4=1,Данные!$E7*(I$7/1000),IF($B$4=2,Данные!$E14*(I$7/1000),IF($B$4=3,Данные!$E21*(I$7/1000),IF($B$4=4,Данные!$E28*(I$7/1000),IF($B$4=5,Данные!$E35*(I$7/1000),0))))) -> 1201.0239 | ... R12: =IF($B$4=1,Данные!$E7*(R$7/1000),IF($B$4=2,Данные!$E14*(R$7/1000),IF($B$4=3,Данные!$E21*(R$7/1000),IF($B$4=4,Данные!$E28*(R$7/1000),IF($B$4=5,Данные!$E35*(R$7/1000),0))))) -> 2183.6799
A13: Qну для типа 30 | B13: =IF($B$4=1,Данные!$E8*(B$7/1000),IF($B$4=2,Данные!$E15*(B$7/1000),IF($B$4=3,Данные!$E22*(B$7/1000),IF($B$4=4,Данные!$E29*(B$7/1000),IF($B$4=5,Данные!$E36*(B$7/1000),0))))) -> 414.70593 | C13: =IF($B$4=1,Данные!$E8*(C$7/1000),IF($B$4=2,Данные!$E15*(C$7/1000),IF($B$4=3,Данные!$E22*(C$7/1000),IF($B$4=4,Данные!$E29*(C$7/1000),IF($B$4=5,Данные!$E36*(C$7/1000),0))))) -> 518.38241 | D13: =IF($B$4=1,Данные!$E8*(D$7/1000),IF($B$4=2,Данные!$E15*(D$7/1000),IF($B$4=3,Данные!$E22*(D$7/1000),IF($B$4=4,Данные!$E29*(D$7/1000),IF($B$4=5,Данные!$E36*(D$7/1000),0))))) -> 622.0589 | E13: =IF($B$4=1,Данные!$E8*(E$7/1000),IF($B$4=2,Данные!$E15*(E$7/1000),IF($B$4=3,Данные!$E22*(E$7/1000),IF($B$4=4,Данные!$E29*(E$7/1000),IF($B$4=5,Данные!$E36*(E$7/1000),0))))) -> 725.73538 | F13: =IF($B$4=1,Данные!$E8*(F$7/1000),IF($B$4=2,Данные!$E15*(F$7/1000),IF($B$4=3,Данные!$E22*(F$7/1000),IF($B$4=4,Данные!$E29*(F$7/1000),IF($B$4=5,Данные!$E36*(F$7/1000),0))))) -> 829.41186 | G13: =IF($B$4=1,Данные!$E8*(G$7/1000),IF($B$4=2,Данные!$E15*(G$7/1000),IF($B$4=3,Данные!$E22*(G$7/1000),IF($B$4=4,Данные!$E29*(G$7/1000),IF($B$4=5,Данные!$E36*(G$7/1000),0))))) -> 933.08834 | H13: =IF($B$4=1,Данные!$E8*(H$7/1000),IF($B$4=2,Данные!$E15*(H$7/1000),IF($B$4=3,Данные!$E22*(H$7/1000),IF($B$4=4,Данные!$E29*(H$7/1000),IF($B$4=5,Данные!$E36*(H$7/1000),0))))) -> 1036.7648 | I13: =IF($B$4=1,Данные!$E8*(I$7/1000),IF($B$4=2,Данные!$E15*(I$7/1000),IF($B$4=3,Данные!$E22*(I$7/1000),IF($B$4=4,Данные!$E29*(I$7/1000),IF($B$4=5,Данные!$E36*(I$7/1000),0))))) -> 1140.4413 | ... R13: =IF($B$4=1,Данные!$E8*(R$7/1000),IF($B$4=2,Данные!$E15*(R$7/1000),IF($B$4=3,Данные!$E22*(R$7/1000),IF($B$4=4,Данные!$E29*(R$7/1000),IF($B$4=5,Данные!$E36*(R$7/1000),0))))) -> 2073.5297
A14: Qну для типа 33 | B14: =IF($B$4=1,Данные!$E9*(B$7/1000),IF($B$4=2,Данные!$E16*(B$7/1000),IF($B$4=3,Данные!$E23*(B$7/1000),IF($B$4=4,Данные!$E30*(B$7/1000),IF($B$4=5,Данные!$E37*(B$7/1000),0))))) -> 599.84782 | C14: =IF($B$4=1,Данные!$E9*(C$7/1000),IF($B$4=2,Данные!$E16*(C$7/1000),IF($B$4=3,Данные!$E23*(C$7/1000),IF($B$4=4,Данные!$E30*(C$7/1000),IF($B$4=5,Данные!$E37*(C$7/1000),0))))) -> 749.80977 | D14: =IF($B$4=1,Данные!$E9*(D$7/1000),IF($B$4=2,Данные!$E16*(D$7/1000),IF($B$4=3,Данные!$E23*(D$7/1000),IF($B$4=4,Данные!$E30*(D$7/1000),IF($B$4=5,Данные!$E37*(D$7/1000),0))))) -> 899.77173 | E14: =IF($B$4=1,Данные!$E9*(E$7/1000),IF($B$4=2,Данные!$E16*(E$7/1000),IF($B$4=3,Данные!$E23*(E$7/1000),IF($B$4=4,Данные!$E30*(E$7/1000),IF($B$4=5,Данные!$E37*(E$7/1000),0))))) -> 1049.7337 | F14: =IF($B$4=1,Данные!$E9*(F$7/1000),IF($B$4=2,Данные!$E16*(F$7/1000),IF($B$4=3,Данные!$E23*(F$7/1000),IF($B$4=4,Данные!$E30*(F$7/1000),IF($B$4=5,Данные!$E37*(F$7/1000),0))))) -> 1199.6956 | G14: =IF($B$4=1,Данные!$E9*(G$7/1000),IF($B$4=2,Данные!$E16*(G$7/1000),IF($B$4=3,Данные!$E23*(G$7/1000),IF($B$4=4,Данные!$E30*(G$7/1000),IF($B$4=5,Данные!$E37*(G$7/1000),0))))) -> 1349.6576 | H14: =IF($B$4=1,Данные!$E9*(H$7/1000),IF($B$4=2,Данные!$E16*(H$7/1000),IF($B$4=3,Данные!$E23*(H$7/1000),IF($B$4=4,Данные!$E30*(H$7/1000),IF($B$4=5,Данные!$E37*(H$7/1000),0))))) -> 1499.6195 | I14: =IF($B$4=1,Данные!$E9*(I$7/1000),IF($B$4=2,Данные!$E16*(I$7/1000),IF($B$4=3,Данные!$E23*(I$7/1000),IF($B$4=4,Данные!$E30*(I$7/1000),IF($B$4=5,Данные!$E37*(I$7/1000),0))))) -> 1649.5815 | ... R14: =IF($B$4=1,Данные!$E9*(R$7/1000),IF($B$4=2,Данные!$E16*(R$7/1000),IF($B$4=3,Данные!$E23*(R$7/1000),IF($B$4=4,Данные!$E30*(R$7/1000),IF($B$4=5,Данные!$E37*(R$7/1000),0))))) -> 2999.2391

Sheet Данные
A1: Высота прибора | B1: Тип прибора | C1: Экспонент | D1: Температурный график | H1: Напор
D2: 95/85/20 | E2: ='Пересчет мощностей'!B1 -> 70 | F2: ='Пересчет мощностей'!B2 -> 50 | G2: ='Пересчет мощностей'!B3 -> 20 | H2: =(('Пересчет мощностей'!$B$1+'Пересчет мощностей'!$B$2)/2)-'Пересчет мощностей'!B3 -> 40
A3: 300 | B3: 10 | C3: 1.31 | D3: 538 | E3: =D3/H3 -> 258.46541 | H3: =POWER(70/$H$2,C3) -> 2.0815164
B4: 11 | C4: 1.28 | D4: 770 | E4: =D4/H4 -> 376.18547 | H4: =POWER(70/$H$2,C4) -> 2.0468627 | J4: 300 мм
B5: 20 | C5: 1.28 | D5: 935 | E5: =D5/H5 -> 456.79665 | H5: =POWER(70/$H$2,C5) -> 2.0468627 | J5: 400 мм
B6: 21 | C6: 1.3 | D6: 1153 | E6: =D6/H6 -> 557.03161 | H6: =POWER(70/$H$2,C6) -> 2.0699005 | J6: 500 мм
B7: 22 | C7: 1.29 | D7: 1469 | E7: =D7/H7 -> 713.67866 | H7: =POWER(70/$H$2,C7) -> 2.0583493 | J7: 600 мм
B8: 30 | C8: 1.29 | D8: 1303 | E8: =D8/H8 -> 633.03152 | H8: =POWER(70/$H$2,C8) -> 2.0583493 | J8: 900 мм
B9: 33 | C9: 1.31 | D9: 2062 | E9: =D9/H9 -> 990.62394 | H9: =POWER(70/$H$2,C9) -> 2.0815164
A10: 400 | B10: 10 | C10: 1.29 | D10: 690 | E10: =D10/H10 -> 335.22007 | H10: =POWER(70/$H$2,C10) -> 2.0583493
B11: 11 | C11: 1.28 | D11: 1020 | E11: =D11/H11 -> 498.32362 | H11: =POWER(70/$H$2,C11) -> 2.0468627
B12: 20 | C12: 1.28 | D12: 1169 | E12: =D12/H12 -> 571.11795 | H12: =POWER(70/$H$2,C12) -> 2.0468627
B13: 21 | C13: 1.3 | D13: 1465 | E13: =D13/H13 -> 707.7635 | H13: =POWER(70/$H$2,C13) -> 2.0699005
B14: 22 | C14: 1.29 | D14: 1872 | E14: =D14/H14 -> 909.46662 | H14: =POWER(70/$H$2,C14) -> 2.0583493
B15: 30 | C15: 1.3 | D15: 1641 | E15: =D15/H15 -> 792.79174 | H15: =POWER(70/$H$2,C15) -> 2.0699005
B16: 33 | C16: 1.3 | D16: 2611 | E16: =D16/H16 -> 1261.4133 | H16: =POWER(70/$H$2,C16) -> 2.0699005
A17: 500 | B17: 10 | C17: 1.27 | D17: 835 | E17: =D17/H17 -> 410.2307 | H17: =POWER(70/$H$2,C17) -> 2.0354401
B18: 11 | C18: 1.28 | D18: 1395 | E18: =D18/H18 -> 681.53083 | H18: =POWER(70/$H$2,C18) -> 2.0468627
B19: 20 | C19: 1.27 | D19: 1363 | E19: =D19/H19 -> 669.63406 | H19: =POWER(70/$H$2,C19) -> 2.0354401
B20: 21 | C20: 1.31 | D20: 1766 | E20: =D20/H20 -> 848.41992 | H20: =POWER(70/$H$2,C20) -> 2.0815164
B21: 22 | C21: 1.3 | D21: 2260 | E21: =D21/H21 -> 1091.8399 | H21: =POWER(70/$H$2,C21) -> 2.0699005
B22: 30 | C22: 1.3 | D22: 2146 | E22: =D22/H22 -> 1036.7648 | H22: =POWER(70/$H$2,C22) -> 2.0699005
B23: 33 | C23: 1.32 | D23: 3139 | E23: =D23/H23 -> 1499.6195 | H23: =POWER(70/$H$2,C23) -> 2.0931976
A24: 600 | B24: 10 | C24: 1.25 | D24: 971 | E24: =D24/H24 -> 482.41596 | H24: =POWER(70/$H$2,C24) -> 2.0127858
B25: 11 | C25: 1.28 | D25: 1430 | E25: =D25/H25 -> 698.63017 | H25: =POWER(70/$H$2,C25) -> 2.0468627
B26: 20 | C26: 1.27 | D26: 1752 | E26: =D26/H26 -> 860.74752 | H26: =POWER(70/$H$2,C26) -> 2.0354401
B27: 21 | C27: 1.31 | D27: 2057 | E27: =D27/H27 -> 988.22184 | H27: =POWER(70/$H$2,C27) -> 2.0815164
B28: 22 | C28: 1.31 | D28: 2635 | E28: =D28/H28 -> 1265.904 | H28: =POWER(70/$H$2,C28) -> 2.0815164
B29: 30 | C29: 1.31 | D29: 2353 | E29: =D29/H29 -> 1130.4259 | H29: =POWER(70/$H$2,C29) -> 2.0815164
B30: 33 | C30: 1.33 | D30: 3648 | E30: =D30/H30 -> 1733.0625 | H30: =POWER(70/$H$2,C30) -> 2.1049443
A31: 900 | B31: 10 | C31: 1.26 | D31: 1590 | E31: =D31/H31 -> 785.54159 | H31: =POWER(70/$H$2,C31) -> 2.0240812
B32: 11 | C32: 1.29 | D32: 1953 | E32: =D32/H32 -> 948.81854 | H32: =POWER(70/$H$2,C32) -> 2.0583493
B33: 20 | C33: 1.3 | D33: 2268 | E33: =D33/H33 -> 1095.7049 | H33: =POWER(70/$H$2,C33) -> 2.0699005
B34: 21 | C34: 1.33 | D34: 2636 | E34: =D34/H34 -> 1252.2897 | H34: =POWER(70/$H$2,C34) -> 2.1049443
B35: 22 | C35: 1.33 | D35: 3548 | E35: =D35/H35 -> 1685.5553 | H35: =POWER(70/$H$2,C35) -> 2.1049443
B36: 30 | C36: 1.33 | D36: 3133 | E36: =D36/H36 -> 1488.4004 | H36: =POWER(70/$H$2,C36) -> 2.1049443
B37: 33 | C37: 1.33 | D37: 4951 | E37: =D37/H37 -> 2352.0813 | H37: =POWER(70/$H$2,C37) -> 2.1049443
A39: * Тепловая мощность по ГОСТ 31311-2005 (НИИ Витатерм 2016)
